Workbook

Sheet Лист1
A1: № | B1: 43831 | C1: 44166 | D1: потребл. за 2020 г.(квт) | E1: 10% (квт) | F1: К оплате в рублях (средний тариф за 2020 г.) - 4,94р/кВт
A2: 1 | B2: =[1]Январь!D2 -> 0 | C2: =[1]Декабрь!D2 -> 0 | D2: =C2-B2 -> 0 | E2: =10%*D2 -> 0 | F2: =E2*4.94 -> 0
A3: 2 | B3: =[1]Январь!D3 -> 217 | C3: =[1]Декабрь!D3 -> 245 | D3: =C3-B3 -> 28 | E3: =10%*D3 -> 2.8 | F3: =E3*4.94 -> 13.832
A4: 3 | B4: =[1]Январь!D4 -> 0 | C4: =[1]Декабрь!D4 -> 0 | D4: =C4-B4 -> 0 | E4: =10%*D4 -> 0 | F4: =E4*4.94 -> 0
A5: 4.5 | B5: =[1]Январь!D5 -> 42181 | C5: =[1]Декабрь!D5 -> 42181 | D5: =C5-B5 -> 0 | E5: =10%*D5 -> 0 | F5: =E5*4.94 -> 0
A6: 6 | B6: =[1]Январь!D6 -> 17882 | C6: =[1]Декабрь!D6 -> 28884 | D6: =C6-B6 -> 11002 | E6: =10%*D6 -> 1100.2 | F6: =E6*4.94 -> 5434.988
A7: 7.8 | B7: =[1]Январь!D7 -> 62756 | C7: =[1]Декабрь!D7 -> 76883 | D7: =C7-B7 -> 14127 | E7: =10%*D7 -> 1412.7 | F7: =E7*4.94 -> 6978.738
A8: 9.1 | B8: =[1]Январь!D8 -> 11076 | C8: =[1]Декабрь!D8 -> 17066 | D8: =C8-B8 -> 5990 | E8: =10%*D8 -> 599 | F8: =E8*4.94 -> 2959.06
A9: 11 | B9: =[1]Январь!D9 -> 0 | C9: =[1]Декабрь!D9 -> 1135 | D9: =C9-B9 -> 1135 | E9: =10%*D9 -> 113.5 | F9: =E9*4.94 -> 560.69
A10: 12.13 | B10: =[1]Январь!D10 -> 31826 | C10: =[1]Декабрь!D10 -> 39665 | D10: =C10-B10 -> 7839 | E10: =10%*D10 -> 783.9 | F10: =E10*4.94 -> 3872.466
A11: 14.15 | B11: =[1]Январь!D11 -> 93011 | C11: =[1]Декабрь!D11 -> 3139 | D11: 10128 | E11: =10%*D11 -> 1012.8 | F11: =E11*4.94 -> 5003.232
A12: 16 | B12: =[1]Январь!D12 -> 2562 | C12: =[1]Декабрь!D12 -> 3311 | D12: =C12-B12 -> 749 | E12: =10%*D12 -> 74.9 | F12: =E12*4.94 -> 370.006
A13: 17 | B13: =[1]Январь!D13 -> 0 | C13: =[1]Декабрь!D13 -> 0 | D13: =C13-B13 -> 0 | E13: =10%*D13 -> 0 | F13: =E13*4.94 -> 0
A14: 18 | B14: =[1]Январь!D14 -> 0 | C14: =[1]Декабрь!D14 -> 0 | D14: =C14-B14 -> 0 | E14: =10%*D14 -> 0 | F14: =E14*4.94 -> 0
A15: 19 | B15: =[1]Январь!D15 -> 629 | C15: =[1]Декабрь!D15 -> 629 | D15: =C15-B15 -> 0 | E15: =10%*D15 -> 0 | F15: =E15*4.94 -> 0
A16: 20 | B16: =[1]Январь!D16 -> 5973 | C16: =[1]Декабрь!D16 -> 7656 | D16: =C16-B16 -> 1683 | E16: =10%*D16 -> 168.3 | F16: =E16*4.94 -> 831.402
A17: 21.22 | B17: =[1]Январь!D17 -> 4413 | C17: =[1]Декабрь!D17 -> 9393 | D17: =C17-B17 -> 4980 | E17: =10%*D17 -> 498 | F17: =E17*4.94 -> 2460.12
A18: 23 | B18: =[1]Январь!D18 -> 2185 | C18: =[1]Декабрь!D18 -> 3315 | D18: =C18-B18 -> 1130 | E18: =10%*D18 -> 113 | F18: =E18*4.94 -> 558.22
A19: 24 | B19: =[1]Январь!D19 -> 38738 | C19: =[1]Декабрь!D19 -> 46247 | D19: =C19-B19 -> 7509 | E19: =10%*D19 -> 750.9 | F19: =E19*4.94 -> 3709.446
A20: 25 | B20: =[1]Январь!D20 -> 0 | C20: =[1]Декабрь!D20 -> 0 | D20: =C20-B20 -> 0 | E20: =10%*D20 -> 0 | F20: =E20*4.94 -> 0
A21: 26 | B21: =[1]Январь!D21 -> 603 | C21: =[1]Декабрь!D21 -> 1763 | D21: =C21-B21 -> 1160 | E21: =10%*D21 -> 116 | F21: =E21*4.94 -> 573.04
A22: 27 | B22: =[1]Январь!D22 -> 0 | C22: =[1]Декабрь!D22 -> 0 | D22: =C22-B22 -> 0 | E22: =10%*D22 -> 0 | F22: =E22*4.94 -> 0
A23: 28.29 | B23: =[1]Январь!D23 -> 31590 | C23: =[1]Декабрь!D23 -> 36250 | D23: =C23-B23 -> 4660 | E23: =10%*D23 -> 466 | F23: =E23*4.94 -> 2302.04
... A33: 39.4 | B33: =[1]Январь!D33 -> 50941 | C33: =[1]Декабрь!D33 -> 56089 | D33: =C33-B33 -> 5148 | E33: =10%*D33 -> 514.8 | F33: =E33*4.94 -> 2543.112
A34: 41-43 | B34: =[1]Январь!D34 -> 16838 | C34: =[1]Декабрь!D34 -> 20297 | D34: =C34-B34 -> 3459 | E34: =10%*D34 -> 345.9 | F34: =E34*4.94 -> 1708.746
A35: 44 | B35: =[1]Январь!D35 -> 547 | C35: =[1]Декабрь!D35 -> 993 | D35: =C35-B35 -> 446 | E35: =10%*D35 -> 44.6 | F35: =E35*4.94 -> 220.324
A36: 45 | B36: =[1]Январь!D36 -> 528 | C36: =[1]Декабрь!D36 -> 1355 | D36: =C36-B36 -> 827 | E36: =10%*D36 -> 82.7 | F36: =E36*4.94 -> 408.538
A37: 46 | B37: =[1]Январь!D37 -> 5052 | C37: =[1]Декабрь!D37 -> 5766 | D37: =C37-B37 -> 714 | E37: =10%*D37 -> 71.4 | F37: =E37*4.94 -> 352.716
A38: 47-49 | B38: =[1]Январь!D38 -> 27784 | C38: =[1]Декабрь!D38 -> 30125 | D38: =C38-B38 -> 2341 | E38: =10%*D38 -> 234.1 | F38: =E38*4.94 -> 1156.454
A39: 50.51 | B39: =[1]Январь!D39 -> 3696 | C39: =[1]Декабрь!D39 -> 5619 | D39: =C39-B39 -> 1923 | E39: =10%*D39 -> 192.3 | F39: =E39*4.94 -> 949.962
A40: 52 | B40: =[1]Январь!D40 -> 4634 | C40: =[1]Декабрь!D40 -> 8059 | D40: =C40-B40 -> 3425 | E40: =10%*D40 -> 342.5 | F40: =E40*4.94 -> 1691.95
A41: 53-56 | B41: =[1]Январь!D41 -> 481 | C41: =[1]Декабрь!D41 -> 833 | D41: =C41-B41 -> 352 | E41: =10%*D41 -> 35.2 | F41: =E41*4.94 -> 173.888
A42: 57 | B42: =[1]Январь!D42 -> 2 | C42: =[1]Декабрь!D42 -> 2 | D42: =C42-B42 -> 0 | E42: =10%*D42 -> 0 | F42: =E42*4.94 -> 0
A43: 58 | B43: =[1]Январь!D43 -> 20 | C43: =[1]Декабрь!D43 -> 6 | D43: 26 | E43: =10%*D43 -> 2.6 | F43: =E43*4.94 -> 12.844
A44: 59 | B44: =[1]Январь!D44 -> 0 | C44: =[1]Декабрь!D44 -> 0 | D44: =C44-B44 -> 0 | E44: =10%*D44 -> 0 | F44: =E44*4.94 -> 0
A45: 60.61 | B45: =[1]Январь!D45 -> 3570 | C45: =[1]Декабрь!D45 -> 5790 | D45: =C45-B45 -> 2220 | E45: =10%*D45 -> 222 | F45: =E45*4.94 -> 1096.68
A46: 62 | B46: =[1]Январь!D46 -> 4137 | C46: =[1]Декабрь!D46 -> 6406 | D46: =C46-B46 -> 2269 | E46: =10%*D46 -> 226.9 | F46: =E46*4.94 -> 1120.886
A47: 63 | B47: =[1]Январь!D47 -> 0 | C47: =[1]Декабрь!D47 -> 0 | D47: =C47-B47 -> 0 | E47: =10%*D47 -> 0 | F47: =E47*4.94 -> 0
A48: 64 | B48: =[1]Январь!D48 -> 0 | C48: =[1]Декабрь!D48 -> 0 | D48: =C48-B48 -> 0 | E48: =10%*D48 -> 0 | F48: =E48*4.94 -> 0
A49: 65 | B49: =[1]Январь!D49 -> 0 | C49: =[1]Декабрь!D49 -> 0 | D49: =C49-B49 -> 0 | E49: =10%*D49 -> 0 | F49: =E49*4.94 -> 0
...
