Workbook

Sheet Лист1
A1: № | B1: 43831 | C1: 44166 | D1: потребл. за 2020 г.(квт) | E1: 10% (квт) | F1: К оплате в рублях (средний тариф за 2020 г.) - 4,94р/кВт
A2: 1 | B2: =[1]Январь!D2 -> 0 | C2: =[1]Декабрь!D2 -> 0 | D2: =C2-B2 -> 0 | E2: =10%*D2 -> 0 | F2: =E2*4.94 -> 0
A3: 2 | B3: =[1]Январь!D3 -> 217 | C3: =[1]Декабрь!D3 -> 245 | D3: =C3-B3 -> 28 | E3: =10%*D3 -> 2.8 | F3: =E3*4.94 -> 13.832
A4: 3 | B4: =[1]Январь!D4 -> 0 | C4: =[1]Декабрь!D4 -> 0 | D4: =C4-B4 -> 0 | E4: =10%*D4 -> 0 | F4: =E4*4.94 -> 0
A5: 4.5 | B5: =[1]Январь!D5 -> 42181 | C5: =[1]Декабрь!D5 -> 42181 | D5: =C5-B5 -> 0 | E5: =10%*D5 -> 0 | F5: =E5*4.94 -> 0
A6: 6 | B6: =[1]Январь!D6 -> 17882 | C6: =[1]Декабрь!D6 -> 28884 | D6: =C6-B6 -> 11002 | E6: =10%*D6 -> 1100.2 | F6: =E6*4.94 -> 5434.988
A7: 7.8 | B7: =[1]Январь!D7 -> 62756 | C7: =[1]Декабрь!D7 -> 76883 | D7: =C7-B7 -> 14127 | E7: =10%*D7 -> 1412.7 | F7: =E7*4.94 -> 6978.738
A8: 9.1 | B8: =[1]Январь!D8 -> 11076 | C8: =[1]Декабрь!D8 -> 17066 | D8: =C8-B8 -> 5990 | E8: =10%*D8 -> 599 | F8: =E8*4.94 -> 2959.06
A9: 11 | B9: =[1]Январь!D9 -> 0 | C9: =[1]Декабрь!D9 -> 1135 | D9: =C9-B9 -> 1135 | E9: =10%*D9 -> 113.5 | F9: =E9*4.94 -> 560.69
A10: 12.13 | B10: =[1]Январь!D10 -> 31826 | C10: =[1]Декабрь!D10 -> 39665 | D10: =C10-B10 -> 7839 | E10: =10%*D10 -> 783.9 | F10: =E10*4.94 -> 3872.466
A11: 14.15 | B11: =[1]Январь!D11 -> 93011 | C11: =[1]Декабрь!D11 -> 3139 | D11: 10128 | E11: =10%*D11 -> 1012.8 | F11: =E11*4.94 -> 5003.232
A12: 16 | B12: =[1]Январь!D12 -> 2562 | C12: =[1]Декабрь!D12 -> 3311 | D12: =C12-B12 -> 749 | E12: =10%*D12 -> 74.9 | F12: =E12*4.94 -> 370.006
A13: 17 | B13: =[1]Январь!D13 -> 0 | C13: =[1]Декабрь!D13 -> 0 | D13: =C13-B13 -> 0 | E13: =10%*D13 -> 0 | F13: =E13*4.94 -> 0
A14: 18 | B14: =[1]Январь!D14 -> 0 | C14: =[1]Декабрь!D14 -> 0 | D14: =C14-B14 -> 0 | E14: =10%*D14 -> 0 | F14: =E14*4.94 -> 0
A15: 19 | B15: =[1]Январь!D15 -> 629 | C15: =[1]Декабрь!D15 -> 629 | D15: =C15-B15 -> 0 | E15: =10%*D15 -> 0 | F15: =E15*4.94 -> 0
A16: 20 | B16: =[1]Январь!D16 -> 5973 | C16: =[1]Декабрь!D16 -> 7656 | D16: =C16-B16 -> 1683 | E16: =10%*D16 -> 168.3 | F16: =E16*4.94 -> 831.402
A17: 21.22 | B17: =[1]Январь!D17 -> 4413 | C17: =[1]Декабрь!D17 -> 9393 | D17: =C17-B17 -> 4980 | E17: =10%*D17 -> 498 | F17: =E17*4.94 -> 2460.12
A18: 23 | B18: =[1]Январь!D18 -> 2185 | C18: =[1]Декабрь!D18 -> 3315 | D18: =C18-B18 -> 1130 | E18: =10%*D18 -> 113 | F18: =E18*4.94 -> 558.22
A19: 24 | B19: =[1]Январь!D19 -> 38738 | C19: =[1]Декабрь!D19 -> 46247 | D19: =C19-B19 -> 7509 | E19: =10%*D19 -> 750.9 | F19: =E19*4.94 -> 3709.446
A20: 25 | B20: =[1]Январь!D20 -> 0 | C20: =[1]Декабрь!D20 -> 0 | D20: =C20-B20 -> 0 | E20: =10%*D20 -> 0 | F20: =E20*4.94 -> 0
A21: 26 | B21: =[1]Январь!D21 -> 603 | C21: =[1]Декабрь!D21 -> 1763 | D21: =C21-B21 -> 1160 | E21: =10%*D21 -> 116 | F21: =E21*4.94 -> 573.04
A22: 27 | B22: =[1]Январь!D22 -> 0 | C22: =[1]Декабрь!D22 -> 0 | D22: =C22-B22 -> 0 | E22: =10%*D22 -> 0 | F22: =E22*4.94 -> 0
A23: 28.29 | B23: =[1]Январь!D23 -> 31590 | C23: =[1]Декабрь!D23 -> 36250 | D23: =C23-B23 -> 4660 | E23: =10%*D23 -> 466 | F23: =E23*4.94 -> 2302.04
... A33: 39.4 | B33: =[1]Январь!D33 -> 50941 | C33: =[1]Декабрь!D33 -> 56089 | D33: =C33-B33 -> 5148 | E33: =10%*D33 -> 514.8 | F33: =E33*4.94 -> 2543.112
A34: 41-43 | B34: =[1]Январь!D34 -> 16838 | C34: =[1]Декабрь!D34 -> 20297 | D34: =C34-B34 -> 3459 | E34: =10%*D34 -> 345.9 | F34: =E34*4.94 -> 1708.746
A35: 44 | B35: =[1]Январь!D35 -> 547 | C35: =[1]Декабрь!D35 -> 993 | D35: =C35-B35 -> 446 | E35: =10%*D35 -> 44.6 | F35: =E35*4.94 -> 220.324
A36: 45 | B36: =[1]Январь!D36 -> 528 | C36: =[1]Декабрь!D36 -> 1355 | D36: =C36-B36 -> 827 | E36: =10%*D36 -> 82.7 | F36: =E36*4.94 -> 408.538
A37: 46 | B37: =[1]Январь!D37 -> 5052 | C37: =[1]Декабрь!D37 -> 5766 | D37: =C37-B37 -> 714 | E37: =10%*D37 -> 71.4 | F37: =E37*4.94 -> 352.716
A38: 47-49 | B38: =[1]Январь!D38 -> 27784 | C38: =[1]Декабрь!D38 -> 30125 | D38: =C38-B38 -> 2341 | E38: =10%*D38 -> 234.1 | F38: =E38*4.94 -> 1156.454
A39: 50.51 | B39: =[1]Январь!D39 -> 3696 | C39: =[1]Декабрь!D39 -> 5619 | D39: =C39-B39 -> 1923 | E39: =10%*D39 -> 192.3 | F39: =E39*4.94 -> 949.962
A40: 52 | B40: =[1]Январь!D40 -> 4634 | C40: =[1]Декабрь!D40 -> 8059 | D40: =C40-B40 -> 3425 | E40: =10%*D40 -> 342.5 | F40: =E40*4.94 -> 1691.95
A41: 53-56 | B41: =[1]Январь!D41 -> 481 | C41: =[1]Декабрь!D41 -> 833 | D41: =C41-B41 -> 352 | E41: =10%*D41 -> 35.2 | F41: =E41*4.94 -> 173.888
A42: 57 | B42: =[1]Январь!D42 -> 2 | C42: =[1]Декабрь!D42 -> 2 | D42: =C42-B42 -> 0 | E42: =10%*D42 -> 0 | F42: =E42*4.94 -> 0
A43: 58 | B43: =[1]Январь!D43 -> 20 | C43: =[1]Декабрь!D43 -> 6 | D43: 26 | E43: =10%*D43 -> 2.6 | F43: =E43*4.94 -> 12.844
A44: 59 | B44: =[1]Январь!D44 -> 0 | C44: =[1]Декабрь!D44 -> 0 | D44: =C44-B44 -> 0 | E44: =10%*D44 -> 0 | F44: =E44*4.94 -> 0
A45: 60.61 | B45: =[1]Январь!D45 -> 3570 | C45: =[1]Декабрь!D45 -> 5790 | D45: =C45-B45 -> 2220 | E45: =10%*D45 -> 222 | F45: =E45*4.94 -> 1096.68
A46: 62 | B46: =[1]Январь!D46 -> 4137 | C46: =[1]Декабрь!D46 -> 6406 | D46: =C46-B46 -> 2269 | E46: =10%*D46 -> 226.9 | F46: =E46*4.94 -> 1120.886
A47: 63 | B47: =[1]Январь!D47 -> 0 | C47: =[1]Декабрь!D47 -> 0 | D47: =C47-B47 -> 0 | E47: =10%*D47 -> 0 | F47: =E47*4.94 -> 0
A48: 64 | B48: =[1]Январь!D48 -> 0 | C48: =[1]Декабрь!D48 -> 0 | D48: =C48-B48 -> 0 | E48: =10%*D48 -> 0 | F48: =E48*4.94 -> 0
A49: 65 | B49: =[1]Январь!D49 -> 0 | C49: =[1]Декабрь!D49 -> 0 | D49: =C49-B49 -> 0 | E49: =10%*D49 -> 0 | F49: =E49*4.94 -> 0
A50: 66 | B50: =[1]Январь!D50 -> 2905 | C50: =[1]Декабрь!D50 -> 5563 | D50: =C50-B50 -> 2658 | E50: =10%*D50 -> 265.8 | F50: =E50*4.94 -> 1313.052
A51: 67 | B51: =[1]Январь!D51 -> 610 | C51: =[1]Декабрь!D51 -> 1400 | D51: =C51-B51 -> 790 | E51: =10%*D51 -> 79 | F51: =E51*4.94 -> 390.26
A52: 68 | B52: =[1]Январь!D52 -> 6650 | C52: =[1]Декабрь!D52 -> 8064 | D52: =C52-B52 -> 1414 | E52: =10%*D52 -> 141.4 | F52: =E52*4.94 -> 698.516
A53: 69 | B53: =[1]Январь!D53 -> 2738 | C53: =[1]Декабрь!D53 -> 3287 | D53: =C53-B53 -> 549 | E53: =10%*D53 -> 54.9 | F53: =E53*4.94 -> 271.206
A54: 70 | B54: =[1]Январь!D56 -> 10574 | C54: =[1]Декабрь!D56 -> 12868 | D54: =C54-B54 -> 2294 | E54: =10%*D54 -> 229.4 | F54: =E54*4.94 -> 1133.236
A55: 71 | B55: =[1]Январь!D57 -> 223 | C55: =[1]Декабрь!D57 -> 460 | D55: =C55-B55 -> 237 | E55: =10%*D55 -> 23.7 | F55: =E55*4.94 -> 117.078
A56: 72 | B56: =[1]Январь!D58 -> 172 | C56: =[1]Декабрь!D58 -> 249 | D56: =C56-B56 -> 77 | E56: =10%*D56 -> 7.7 | F56: =E56*4.94 -> 38.038
A57: 73 | B57: =[1]Январь!D59 -> 2795 | C57: =[1]Декабрь!D59 -> 4551 | D57: =C57-B57 -> 1756 | E57: =10%*D57 -> 175.6 | F57: =E57*4.94 -> 867.464
A58: 74 | B58: =[1]Январь!D60 -> 0 | C58: =[1]Декабрь!D60 -> 0 | D58: =C58-B58 -> 0 | E58: =10%*D58 -> 0 | F58: =E58*4.94 -> 0
A59: 75 | B59: =[1]Январь!D61 -> 0 | C59: =[1]Декабрь!D61 -> 0 | D59: =C59-B59 -> 0 | E59: =10%*D59 -> 0 | F59: =E59*4.94 -> 0
A60: 76 | B60: =[1]Январь!D62 -> 970 | C60: =[1]Декабрь!D62 -> 1414 | D60: =C60-B60 -> 444 | E60: =10%*D60 -> 44.4 | F60: =E60*4.94 -> 219.336
A61: 77 | B61: =[1]Январь!D63 -> 31086 | C61: =[1]Декабрь!D63 -> 37795 | D61: =C61-B61 -> 6709 | E61: =10%*D61 -> 670.9 | F61: =E61*4.94 -> 3314.246
A62: 78 | B62: =[1]Январь!D64 -> 29440 | C62: =[1]Декабрь!D64 -> 33755 | D62: =C62-B62 -> 4315 | E62: =10%*D62 -> 431.5 | F62: =E62*4.94 -> 2131.61
A63: 79 | B63: =[1]Январь!D65 -> 14480 | C63: =[1]Декабрь!D65 -> 25653 | D63: =C63-B63 -> 11173 | E63: =10%*D63 -> 1117.3 | F63: =E63*4.94 -> 5519.462
A64: 80 | B64: =[1]Январь!D66 -> 0 | C64: =[1]Декабрь!D66 -> 0 | D64: =C64-B64 -> 0 | E64: =10%*D64 -> 0 | F64: =E64*4.94 -> 0
A65: 81 | B65: =[1]Январь!D67 -> 19943 | C65: =[1]Декабрь!D67 -> 24700 | D65: =C65-B65 -> 4757 | E65: =10%*D65 -> 475.7 | F65: =E65*4.94 -> 2349.958
... A120: 144 | B120: =[1]Январь!D122 -> 417 | C120: =[1]Декабрь!D122 -> 5168 | D120: =C120-B120 -> 4751 | E120: =10%*D120 -> 475.1 | F120: =E120*4.94 -> 2346.994
A121: 145 | B121: =[1]Январь!D123 -> 0 | C121: =[1]Декабрь!D123 -> 0 | D121: =C121-B121 -> 0 | E121: =10%*D121 -> 0 | F121: =E121*4.94 -> 0 | G121: Правление
A122: 146.147 | B122: =[1]Январь!D124 -> 80853 | C122: =[1]Декабрь!D124 -> 95535 | D122: =C122-B122 -> 14682 | E122: =10%*D122 -> 1468.2 | F122: =E122*4.94 -> 7252.908
A123: 148 | B123: =[1]Январь!D125 -> 0 | C123: =[1]Декабрь!D125 -> 20880 | D123: =C123-B123 -> 20880 | E123: =10%*D123 -> 2088 | F123: =E123*4.94 -> 10314.72
A124: 149 | B124: =[1]Январь!D126 -> 782 | C124: =[1]Декабрь!D126 -> 2014 | D124: =C124-B124 -> 1232 | E124: =10%*D124 -> 123.2 | F124: =E124*4.94 -> 608.608
A125: 150 | B125: =[1]Январь!D127 -> 2713 | C125: =[1]Декабрь!D127 -> 4395 | D125: =C125-B125 -> 1682 | E125: =10%*D125 -> 168.2 | F125: =E125*4.94 -> 830.908
A126: 151 | B126: =[1]Январь!D128 -> 22648 | C126: =[1]Декабрь!D128 -> 26868 | D126: =C126-B126 -> 4220 | E126: =10%*D126 -> 422 | F126: =E126*4.94 -> 2084.68
A127: 152 | B127: =[1]Январь!D129 -> 202 | C127: =[1]Декабрь!D129 -> 225 | D127: =C127-B127 -> 23 | E127: =10%*D127 -> 2.3 | F127: =E127*4.94 -> 11.362
A128: 153 | B128: =[1]Январь!D130 -> 0 | C128: =[1]Декабрь!D130 -> 0 | D128: =C128-B128 -> 0 | E128: =10%*D128 -> 0 | F128: =E128*4.94 -> 0
A129: 154 | B129: =[1]Январь!D131 -> 373 | C129: =[1]Декабрь!D131 -> 461 | D129: =C129-B129 -> 88 | E129: =10%*D129 -> 8.8 | F129: =E129*4.94 -> 43.472
A130: 155 | B130: =[1]Январь!D132 -> 0 | C130: =[1]Декабрь!D132 -> 0 | D130: =C130-B130 -> 0 | E130: =10%*D130 -> 0 | F130: =E130*4.94 -> 0
A131: 156 | B131: =[1]Январь!D133 -> 66303 | C131: =[1]Декабрь!D133 -> 79942 | D131: =C131-B131 -> 13639 | E131: =10%*D131 -> 1363.9 | F131: =E131*4.94 -> 6737.666
A132: 157.158 | B132: =[1]Январь!D134 -> 9044 | C132: =[1]Декабрь!D134 -> 34933 | D132: =C132-B132 -> 25889 | E132: =10%*D132 -> 2588.9 | F132: =E132*4.94 -> 12789.166
A133: 159.16 | B133: =[1]Январь!D135 -> 5340 | C133: =[1]Декабрь!D135 -> 7288 | D133: =C133-B133 -> 1948 | E133: =10%*D133 -> 194.8 | F133: =E133*4.94 -> 962.312
... A243: 284 | B243: =[1]Январь!D245 -> 0 | C243: =[1]Декабрь!D245 -> 0 | D243: =C243-B243 -> 0 | E243: =10%*D243 -> 0 | F243: =E243*4.94 -> 0
A244: МД | B244: =[1]Январь!D246 -> 0 | C244: =[1]Декабрь!D246 -> 0 | D244: =C244-B244 -> 0 | E244: =10%*D244 -> 0 | F244: =E244*4.94 -> 0
B245: =[1]Январь!D247 -> 0 | C245: =[1]Декабрь!D247 -> 0 | D245: =C245-B245 -> 0 | E245: =10%*D245 -> 0 | F245: =E245*4.94 -> 0
A246: Вода | B246: =[1]Январь!D248 -> 18976 | C246: =[1]Декабрь!D248 -> 20680 | D246: =C246-B246 -> 1704 | E246: =10%*D246 -> 170.4 | F246: =E246*4.94 -> 841.776
A248: Заполнить
A249: не заполнять
A250: нет счетчика на столбе
A251: Спалился
A252: 284
B254: Июль
B255: ПУ | C255: потребл. за мес | D255: общ факт потр | G255: Разница
A256: Нов. Поле | B256: 8416.8
B257: =B256*80 -> 673344 | C257: =B257-#REF! -> #REF! | D257: =SUM(D194:D244) -> 0 | G257: =C257-D257-C259 -> #REF!
B258: Пу осв.
B259: 6117 | C259: =B259-#REF! -> #REF! | E259: Фонари
E260: шт | F260: час
A261: 1-69 уч. | B261: 13933.8 | E261: 11 | F261: 6
B262: =B261*60 -> 836028 | C262: =B262-#REF! -> #REF! | D262: =SUM(D2:D53,D54:D61,D165:D169,D177,D245) -> 160285 | E262: =E261*0.25*F261*30 -> 495 | G262: =C262-D262-E262 -> #REF!
E263: шт | F263: час
A264: Бочка | B264: 39549 | E264: 15 | F264: 6
B265: =B264*30 -> 1186470 | C265: =B265-#REF! -> #REF! | D265: =SUM(#REF!,D62:D164,D246) -> #REF! | E265: 159 | G265: =C265-D265-E265 -> #REF!
C266: =C257+C262+C265 -> #REF! | D266: =D257+D262+D265 -> #REF!
B268: ПКУ 10 | D268: 969.938
A269: Сатино | B269: 3676.17 | D269: =D268*800 -> 775950.4
B270: =B269*800 -> 2940936 | C270: =B270-#REF! -> #REF! | D270: =D269-[1]Июнь!E271 -> 35403.2
