Workbook

Sheet Январь
A1: № | B1: Ноябрь | C1: Декабрь | D1: Январь | E1: потребл. за мес.
A2: 1 | B2: =[1]Ноябрь!D2 -> 0 | C2: =[1]Декабрь!D2 -> 0 | E2: =D2-C2 -> 0
A3: 2 | B3: =[1]Ноябрь!D3 -> 245 | C3: =[1]Декабрь!D3 -> 245 | D3: 245 | E3: =D3-C3 -> 0
A4: 3 | B4: =[1]Ноябрь!D4 -> 0 | C4: =[1]Декабрь!D4 -> 0 | E4: =D4-C4 -> 0
A5: 4.5 | B5: =[1]Ноябрь!D5 -> 42181 | C5: =[1]Декабрь!D5 -> 42181 | D5: 42181 | E5: =D5-C5 -> 0
A6: 6 | B6: =[1]Ноябрь!D6 -> 28247 | C6: =[1]Декабрь!D6 -> 28884 | D6: 30309 | E6: =D6-C6 -> 1425
A7: 7.8 | B7: =[1]Ноябрь!D7 -> 74521 | C7: =[1]Декабрь!D7 -> 76883 | D7: 81164 | E7: =D7-C7 -> 4281
A8: 9.1 | B8: =[1]Ноябрь!D8 -> 16575 | C8: =[1]Декабрь!D8 -> 17066 | D8: 18656 | E8: =D8-C8 -> 1590 | H8: 4946
A9: 11 | B9: =[1]Ноябрь!D9 -> 1135 | C9: =[1]Декабрь!D9 -> 1135 | D9: 1193 | E9: =D9-C9 -> 58
A10: 12.13 | B10: =[1]Ноябрь!D10 -> 38457 | C10: =[1]Декабрь!D10 -> 39665 | D10: 41729 | E10: =D10-C10 -> 2064
A11: 14.15 | B11: =[1]Ноябрь!D11 -> 2124 | C11: =[1]Декабрь!D11 -> 3139 | D11: 5007 | E11: =D11-C11 -> 1868
A12: 16 | B12: =[1]Ноябрь!D12 -> 3311 | C12: =[1]Декабрь!D12 -> 3311 | D12: 3311 | E12: =D12-C12 -> 0
A13: 17 | B13: =[1]Ноябрь!D13 -> 0 | C13: =[1]Декабрь!D13 -> 0 | E13: =D13-C13 -> 0
A14: 18 | B14: =[1]Ноябрь!D14 -> 0 | C14: =[1]Декабрь!D14 -> 0 | E14: =D14-C14 -> 0
A15: 19 | B15: =[1]Ноябрь!D15 -> 629 | C15: =[1]Декабрь!D15 -> 629 | D15: 629 | E15: =D15-C15 -> 0
A16: 20 | B16: =[1]Ноябрь!D16 -> 7536 | C16: =[1]Декабрь!D16 -> 7656 | D16: 7656 | E16: =D16-C16 -> 0
A17: 21.22 | B17: =[1]Ноябрь!D17 -> 9034 | C17: =[1]Декабрь!D17 -> 9393 | D17: 9454 | E17: =D17-C17 -> 61
A18: 23 | B18: =[1]Ноябрь!D18 -> 3306 | C18: =[1]Декабрь!D18 -> 3315 | D18: 3411 | E18: =D18-C18 -> 96
A19: 24 | B19: =[1]Ноябрь!D19 -> 44888 | C19: =[1]Декабрь!D19 -> 46247 | D19: 48486 | E19: =D19-C19 -> 2239
A20: 25 | B20: =[1]Ноябрь!D20 -> 0 | C20: =[1]Декабрь!D20 -> 0 | E20: =D20-C20 -> 0
A21: 26 | B21: =[1]Ноябрь!D21 -> 1763 | C21: =[1]Декабрь!D21 -> 1763 | D21: 1763 | E21: =D21-C21 -> 0
A22: 27 | B22: =[1]Ноябрь!D22 -> 0 | C22: =[1]Декабрь!D22 -> 0 | E22: =D22-C22 -> 0
A23: 28.29 | B23: =[1]Ноябрь!D23 -> 36250 | C23: =[1]Декабрь!D23 -> 36250 | D23: 36250 | E23: =D23-C23 -> 0
A24: 30 | B24: =[1]Ноябрь!D24 -> 2469 | C24: =[1]Декабрь!D24 -> 2469 | D24: 2469 | E24: =D24-C24 -> 0
A25: 31 | B25: =[1]Ноябрь!D25 -> 78 | C25: =[1]Декабрь!D25 -> 78 | D25: 78 | E25: =D25-C25 -> 0
A26: 32 | B26: =[1]Ноябрь!D26 -> 4938 | C26: =[1]Декабрь!D26 -> 4938 | D26: 4938 | E26: =D26-C26 -> 0
A27: 33 | B27: =[1]Ноябрь!D27 -> 0 | C27: =[1]Декабрь!D27 -> 0 | E27: =D27-C27 -> 0
A28: 34 | B28: =[1]Ноябрь!D28 -> 2156 | C28: =[1]Декабрь!D28 -> 2156 | D28: 2156 | E28: =D28-C28 -> 0
A29: 35 | B29: =[1]Ноябрь!D29 -> 0 | C29: =[1]Декабрь!D29 -> 0 | E29: =D29-C29 -> 0
A30: 36 | B30: =[1]Ноябрь!D30 -> 3628 | C30: =[1]Декабрь!D30 -> 3635 | D30: 3643 | E30: =D30-C30 -> 8
A31: 37 | B31: =[1]Ноябрь!D31 -> 13061 | C31: =[1]Декабрь!D31 -> 13398 | D31: 13927 | E31: =D31-C31 -> 529
A32: 38 | B32: =[1]Ноябрь!D32 -> 612 | C32: =[1]Декабрь!D32 -> 622 | D32: 658 | E32: =D32-C32 -> 36
A33: 39.4 | B33: =[1]Ноябрь!D33 -> 55465 | C33: =[1]Декабрь!D33 -> 56089 | D33: 57089 | E33: =D33-C33 -> 1000
A34: 41-43 | B34: =[1]Ноябрь!D34 -> 20289 | C34: =[1]Декабрь!D34 -> 20297 | D34: 20746 | E34: =D34-C34 -> 449
A35: 44 | B35: =[1]Ноябрь!D35 -> 993 | C35: =[1]Декабрь!D35 -> 993 | D35: 993 | E35: =D35-C35 -> 0
A36: 45 | B36: =[1]Ноябрь!D36 -> 1355 | C36: =[1]Декабрь!D36 -> 1355 | D36: 1355 | E36: =D36-C36 -> 0
A37: 46 | B37: =[1]Ноябрь!D37 -> 5766 | C37: =[1]Декабрь!D37 -> 5766 | D37: 5766 | E37: =D37-C37 -> 0
A38: 47-49 | B38: =[1]Ноябрь!D38 -> 30116 | C38: =[1]Декабрь!D38 -> 30125 | D38: 30292 | E38: =D38-C38 -> 167
A39: 50.51 | B39: =[1]Ноябрь!D39 -> 5619 | C39: =[1]Декабрь!D39 -> 5619 | D39: 5827 | E39: =D39-C39 -> 208
A40: 52 | B40: =[1]Ноябрь!D40 -> 7766 | C40: =[1]Декабрь!D40 -> 8059 | D40: 8454 | E40: =D40-C40 -> 395
...

Sheet Февраль
A1: № | B1: Декабрь | C1: Январь | D1: Февраль | E1: потребл. за мес.
A2: 1 | B2: =Январь!C2 -> 0 | C2: =Январь!D2 -> 0 | E2: =D2-C2 -> 0
A3: 2 | B3: =Январь!C3 -> 245 | C3: =Январь!D3 -> 245 | D3: 245 | E3: =D3-C3 -> 0
A4: 3 | B4: =Январь!C4 -> 0 | C4: =Январь!D4 -> 0 | E4: =D4-C4 -> 0
A5: 4.5 | B5: =Январь!C5 -> 42181 | C5: =Январь!D5 -> 42181 | D5: 42181 | E5: =D5-C5 -> 0
A6: 6 | B6: =Январь!C6 -> 28884 | C6: =Январь!D6 -> 30309 | D6: 31636 | E6: =D6-C6 -> 1327
A7: 7.8 | B7: =Январь!C7 -> 76883 | C7: =Январь!D7 -> 81164 | D7: 85065 | E7: =D7-C7 -> 3901
A8: 9.1 | B8: =Январь!C8 -> 17066 | C8: =Январь!D8 -> 18656 | D8: 19744 | E8: =D8-C8 -> 1088 | H8: 6033
A9: 11 | B9: =Январь!C9 -> 1135 | C9: =Январь!D9 -> 1193 | D9: 1193 | E9: =D9-C9 -> 0
A10: 12.13 | B10: =Январь!C10 -> 39665 | C10: =Январь!D10 -> 41729 | D10: 43541 | E10: =D10-C10 -> 1812
A11: 14.15 | B11: =Январь!C11 -> 3139 | C11: =Январь!D11 -> 5007 | D11: 6813 | E11: =D11-C11 -> 1806
A12: 16 | B12: =Январь!C12 -> 3311 | C12: =Январь!D12 -> 3311 | D12: 3311 | E12: =D12-C12 -> 0
A13: 17 | B13: =Январь!C13 -> 0 | C13: =Январь!D13 -> 0 | E13: =D13-C13 -> 0
A14: 18 | B14: =Январь!C14 -> 0 | C14: =Январь!D14 -> 0 | E14: =D14-C14 -> 0
A15: 19 | B15: =Январь!C15 -> 629 | C15: =Январь!D15 -> 629 | D15: 629 | E15: =D15-C15 -> 0
A16: 20 | B16: =Январь!C16 -> 7656 | C16: =Январь!D16 -> 7656 | D16: 7656 | E16: =D16-C16 -> 0
A17: 21.22 | B17: =Январь!C17 -> 9393 | C17: =Январь!D17 -> 9454 | D17: 9481 | E17: =D17-C17 -> 27
A18: 23 | B18: =Январь!C18 -> 3315 | C18: =Январь!D18 -> 3411 | D18: 3520 | E18: =D18-C18 -> 109
A19: 24 | B19: =Январь!C19 -> 46247 | C19: =Январь!D19 -> 48486 | D19: 48916 | E19: =D19-C19 -> 430
A20: 25 | B20: =Январь!C20 -> 0 | C20: =Январь!D20 -> 0 | E20: =D20-C20 -> 0
A21: 26 | B21: =Январь!C21 -> 1763 | C21: =Январь!D21 -> 1763 | D21: 1763 | E21: =D21-C21 -> 0
A22: 27 | B22: =Январь!C22 -> 0 | C22: =Январь!D22 -> 0 | E22: =D22-C22 -> 0
A23: 28.29 | B23: =Январь!C23 -> 36250 | C23: =Январь!D23 -> 36250 | D23: 36250 | E23: =D23-C23 -> 0
A24: 30 | B24: =Январь!C24 -> 2469 | C24: =Январь!D24 -> 2469 | D24: 2469 | E24: =D24-C24 -> 0
A25: 31 | B25: =Январь!C25 -> 78 | C25: =Январь!D25 -> 78 | D25: 78 | E25: =D25-C25 -> 0
A26: 32 | B26: =Январь!C26 -> 4938 | C26: =Январь!D26 -> 4938 | D26: 4938 | E26: =D26-C26 -> 0
A27: 33 | B27: =Январь!C27 -> 0 | C27: =Январь!D27 -> 0 | E27: =D27-C27 -> 0
A28: 34 | B28: =Январь!C28 -> 2156 | C28: =Январь!D28 -> 2156 | D28: 2157 | E28: =D28-C28 -> 1
A29: 35 | B29: =Январь!C29 -> 0 | C29: =Январь!D29 -> 0 | E29: =D29-C29 -> 0
A30: 36 | B30: =Январь!C30 -> 3635 | C30: =Январь!D30 -> 3643 | D30: 3685 | E30: =D30-C30 -> 42
A31: 37 | B31: =Январь!C31 -> 13398 | C31: =Январь!D31 -> 13927 | D31: 14360 | E31: =D31-C31 -> 433
A32: 38 | B32: =Январь!C32 -> 622 | C32: =Январь!D32 -> 658 | D32: 661 | E32: =D32-C32 -> 3
A33: 39.4 | B33: =Январь!C33 -> 56089 | C33: =Январь!D33 -> 57089 | D33: 58176 | E33: =D33-C33 -> 1087
A34: 41-43 | B34: =Январь!C34 -> 20297 | C34: =Январь!D34 -> 20746 | D34: 20759 | E34: =D34-C34 -> 13
A35: 44 | B35: =Январь!C35 -> 993 | C35: =Январь!D35 -> 993 | D35: 993 | E35: =D35-C35 -> 0
A36: 45 | B36: =Январь!C36 -> 1355 | C36: =Январь!D36 -> 1355 | D36: 1355 | E36: =D36-C36 -> 0
A37: 46 | B37: =Январь!C37 -> 5766 | C37: =Январь!D37 -> 5766 | D37: 5766 | E37: =D37-C37 -> 0
A38: 47-49 | B38: =Январь!C38 -> 30125 | C38: =Январь!D38 -> 30292 | D38: 30300 | E38: =D38-C38 -> 8
A39: 50.51 | B39: =Январь!C39 -> 5619 | C39: =Январь!D39 -> 5827 | D39: 5827 | E39: =D39-C39 -> 0
A40: 52 | B40: =Январь!C40 -> 8059 | C40: =Январь!D40 -> 8454 | D40: 8765 | E40: =D40-C40 -> 311
...

Sheet Март
A1: № | B1: Январь | C1: Февраль | D1: Март | E1: потребл. за мес.
A2: 1 | B2: =Январь!D2 -> 0 | C2: =Февраль!D2 -> 0 | E2: =D2-C2 -> 0
A3: 2 | B3: =Январь!D3 -> 245 | C3: =Февраль!D3 -> 245 | D3: 245 | E3: =D3-C3 -> 0
A4: 3 | B4: =Январь!D4 -> 0 | C4: =Февраль!D4 -> 0 | E4: =D4-C4 -> 0
A5: 4.5 | B5: =Январь!D5 -> 42181 | C5: =Февраль!D5 -> 42181 | D5: 42181 | E5: =D5-C5 -> 0
A6: 6 | B6: =Январь!D6 -> 30309 | C6: =Февраль!D6 -> 31636 | D6: 32857 | E6: =D6-C6 -> 1221
A7: 7.8 | B7: =Январь!D7 -> 81164 | C7: =Февраль!D7 -> 85065 | D7: 86530 | E7: =D7-C7 -> 1465
A8: 9.1 | B8: =Январь!D8 -> 18656 | C8: =Февраль!D8 -> 19744 | D8: 20708 | E8: =D8-C8 -> 964 | H8: 6996
A9: 11 | B9: =Январь!D9 -> 1193 | C9: =Февраль!D9 -> 1193 | D9: 1193 | E9: =D9-C9 -> 0
A10: 12.13 | B10: =Январь!D10 -> 41729 | C10: =Февраль!D10 -> 43541 | D10: 44681 | E10: =D10-C10 -> 1140
A11: 14.15 | B11: =Январь!D11 -> 5007 | C11: =Февраль!D11 -> 6813 | D11: 7937 | E11: =D11-C11 -> 1124
A12: 16 | B12: =Январь!D12 -> 3311 | C12: =Февраль!D12 -> 3311 | D12: 3311 | E12: =D12-C12 -> 0
A13: 17 | B13: =Январь!D13 -> 0 | C13: =Февраль!D13 -> 0 | E13: =D13-C13 -> 0
A14: 18 | B14: =Январь!D14 -> 0 | C14: =Февраль!D14 -> 0 | E14: =D14-C14 -> 0
A15: 19 | B15: =Январь!D15 -> 629 | C15: =Февраль!D15 -> 629 | D15: 629 | E15: =D15-C15 -> 0
A16: 20 | B16: =Январь!D16 -> 7656 | C16: =Февраль!D16 -> 7656 | D16: 7656 | E16: =D16-C16 -> 0
A17: 21.22 | B17: =Январь!D17 -> 9454 | C17: =Февраль!D17 -> 9481 | D17: 9566 | E17: =D17-C17 -> 85
A18: 23 | B18: =Январь!D18 -> 3411 | C18: =Февраль!D18 -> 3520 | D18: 3611 | E18: =D18-C18 -> 91
A19: 24 | B19: =Январь!D19 -> 48486 | C19: =Февраль!D19 -> 48916 | D19: 49358 | E19: =D19-C19 -> 442
A20: 25 | B20: =Январь!D20 -> 0 | C20: =Февраль!D20 -> 0 | E20: =D20-C20 -> 0
A21: 26 | B21: =Январь!D21 -> 1763 | C21: =Февраль!D21 -> 1763 | D21: 1763 | E21: =D21-C21 -> 0
A22: 27 | B22: =Январь!D22 -> 0 | C22: =Февраль!D22 -> 0 | E22: =D22-C22 -> 0
A23: 28.29 | B23: =Январь!D23 -> 36250 | C23: =Февраль!D23 -> 36250 | D23: 36250 | E23: =D23-C23 -> 0
A24: 30 | B24: =Январь!D24 -> 2469 | C24: =Февраль!D24 -> 2469 | D24: 2469 | E24: =D24-C24 -> 0
A25: 31 | B25: =Январь!D25 -> 78 | C25: =Февраль!D25 -> 78 | D25: 78 | E25: =D25-C25 -> 0
A26: 32 | B26: =Январь!D26 -> 4938 | C26: =Февраль!D26 -> 4938 | D26: 4938 | E26: =D26-C26 -> 0
A27: 33 | B27: =Январь!D27 -> 0 | C27: =Февраль!D27 -> 0 | E27: =D27-C27 -> 0
A28: 34 | B28: =Январь!D28 -> 2156 | C28: =Февраль!D28 -> 2157 | D28: 2157 | E28: =D28-C28 -> 0
A29: 35 | B29: =Январь!D29 -> 0 | C29: =Февраль!D29 -> 0 | E29: =D29-C29 -> 0
A30: 36 | B30: =Январь!D30 -> 3643 | C30: =Февраль!D30 -> 3685 | D30: 3685 | E30: =D30-C30 -> 0
A31: 37 | B31: =Январь!D31 -> 13927 | C31: =Февраль!D31 -> 14360 | D31: 14739 | E31: =D31-C31 -> 379
A32: 38 | B32: =Январь!D32 -> 658 | C32: =Февраль!D32 -> 661 | D32: 679 | E32: =D32-C32 -> 18
A33: 39.4 | B33: =Январь!D33 -> 57089 | C33: =Февраль!D33 -> 58176 | D33: 58808 | E33: =D33-C33 -> 632
A34: 41-43 | B34: =Январь!D34 -> 20746 | C34: =Февраль!D34 -> 20759 | D34: 20762 | E34: =D34-C34 -> 3
A35: 44 | B35: =Январь!D35 -> 993 | C35: =Февраль!D35 -> 993 | D35: 993 | E35: =D35-C35 -> 0
A36: 45 | B36: =Январь!D36 -> 1355 | C36: =Февраль!D36 -> 1355 | D36: 1355 | E36: =D36-C36 -> 0
A37: 46 | B37: =Январь!D37 -> 5766 | C37: =Февраль!D37 -> 5766 | D37: 5766 | E37: =D37-C37 -> 0
A38: 47-49 | B38: =Январь!D38 -> 30292 | C38: =Февраль!D38 -> 30300 | D38: 30361 | E38: =D38-C38 -> 61
A39: 50.51 | B39: =Январь!D39 -> 5827 | C39: =Февраль!D39 -> 5827 | D39: 5827 | E39: =D39-C39 -> 0
A40: 52 | B40: =Январь!D40 -> 8454 | C40: =Февраль!D40 -> 8765 | D40: 9052 | E40: =D40-C40 -> 287
...

Sheet Апрель
A1: № | B1: Февраль | C1: Март | D1: Апрель | E1: потребл. за мес.
A2: 1 | B2: =Февраль!D2 -> 0 | C2: =Март!D2 -> 0 | E2: =D2-C2 -> 0
A3: 2 | B3: =Февраль!D3 -> 245 | C3: =Март!D3 -> 245 | D3: 245 | E3: =D3-C3 -> 0
A4: 3 | B4: =Февраль!D4 -> 0 | C4: =Март!D4 -> 0 | E4: =D4-C4 -> 0
A5: 4.5 | B5: =Февраль!D5 -> 42181 | C5: =Март!D5 -> 42181 | D5: 42181 | E5: =D5-C5 -> 0
A6: 6 | B6: =Февраль!D6 -> 31636 | C6: =Март!D6 -> 32857 | D6: 34585 | E6: =D6-C6 -> 1728
A7: 7.8 | B7: =Февраль!D7 -> 85065 | C7: =Март!D7 -> 86530 | D7: 88180 | E7: =D7-C7 -> 1650
A8: 9.1 | B8: =Февраль!D8 -> 19744 | C8: =Март!D8 -> 20708 | D8: 21146 | E8: =D8-C8 -> 438 | H8: 7434
A9: 11 | B9: =Февраль!D9 -> 1193 | C9: =Март!D9 -> 1193 | D9: 1278 | E9: =D9-C9 -> 85
A10: 12.13 | B10: =Февраль!D10 -> 43541 | C10: =Март!D10 -> 44681 | D10: 45302 | E10: =D10-C10 -> 621
A11: 14.15 | B11: =Февраль!D11 -> 6813 | C11: =Март!D11 -> 7937 | D11: 8521 | E11: =D11-C11 -> 584
A12: 16 | B12: =Февраль!D12 -> 3311 | C12: =Март!D12 -> 3311 | D12: 3311 | E12: =D12-C12 -> 0
A13: 17 | B13: =Февраль!D13 -> 0 | C13: =Март!D13 -> 0 | E13: =D13-C13 -> 0
A14: 18 | B14: =Февраль!D14 -> 0 | C14: =Март!D14 -> 0 | E14: =D14-C14 -> 0
A15: 19 | B15: =Февраль!D15 -> 629 | C15: =Март!D15 -> 629 | D15: 629 | E15: =D15-C15 -> 0
A16: 20 | B16: =Февраль!D16 -> 7656 | C16: =Март!D16 -> 7656 | D16: 7708 | E16: =D16-C16 -> 52
A17: 21.22 | B17: =Февраль!D17 -> 9481 | C17: =Март!D17 -> 9566 | D17: 9651 | E17: =D17-C17 -> 85
A18: 23 | B18: =Февраль!D18 -> 3520 | C18: =Март!D18 -> 3611 | D18: 3650 | E18: =D18-C18 -> 39
A19: 24 | B19: =Февраль!D19 -> 48916 | C19: =Март!D19 -> 49358 | D19: 49974 | E19: =D19-C19 -> 616
A20: 25 | B20: =Февраль!D20 -> 0 | C20: =Март!D20 -> 0 | E20: =D20-C20 -> 0
A21: 26 | B21: =Февраль!D21 -> 1763 | C21: =Март!D21 -> 1763 | D21: 1763 | E21: =D21-C21 -> 0
A22: 27 | B22: =Февраль!D22 -> 0 | C22: =Март!D22 -> 0 | E22: =D22-C22 -> 0
A23: 28.29 | B23: =Февраль!D23 -> 36250 | C23: =Март!D23 -> 36250 | D23: 36257 | E23: =D23-C23 -> 7
A24: 30 | B24: =Февраль!D24 -> 2469 | C24: =Март!D24 -> 2469 | D24: 2470 | E24: =D24-C24 -> 1
A25: 31 | B25: =Февраль!D25 -> 78 | C25: =Март!D25 -> 78 | D25: 78 | E25: =D25-C25 -> 0
A26: 32 | B26: =Февраль!D26 -> 4938 | C26: =Март!D26 -> 4938 | D26: 5082 | E26: =D26-C26 -> 144
A27: 33 | B27: =Февраль!D27 -> 0 | C27: =Март!D27 -> 0 | E27: =D27-C27 -> 0
A28: 34 | B28: =Февраль!D28 -> 2157 | C28: =Март!D28 -> 2157 | D28: 2212 | E28: =D28-C28 -> 55
A29: 35 | B29: =Февраль!D29 -> 0 | C29: =Март!D29 -> 0 | E29: =D29-C29 -> 0
A30: 36 | B30: =Февраль!D30 -> 3685 | C30: =Март!D30 -> 3685 | D30: 3734 | E30: =D30-C30 -> 49
A31: 37 | B31: =Февраль!D31 -> 14360 | C31: =Март!D31 -> 14739 | D31: 14883 | E31: =D31-C31 -> 144
A32: 38 | B32: =Февраль!D32 -> 661 | C32: =Март!D32 -> 679 | D32: 684 | E32: =D32-C32 -> 5
A33: 39.4 | B33: =Февраль!D33 -> 58176 | C33: =Март!D33 -> 58808 | D33: 59061 | E33: =D33-C33 -> 253
A34: 41-43 | B34: =Февраль!D34 -> 20759 | C34: =Март!D34 -> 20762 | D34: 20827 | E34: =D34-C34 -> 65
A35: 44 | B35: =Февраль!D35 -> 993 | C35: =Март!D35 -> 993 | D35: 1009 | E35: =D35-C35 -> 16
A36: 45 | B36: =Февраль!D36 -> 1355 | C36: =Март!D36 -> 1355 | D36: 1362 | E36: =D36-C36 -> 7
A37: 46 | B37: =Февраль!D37 -> 5766 | C37: =Март!D37 -> 5766 | D37: 5795 | E37: =D37-C37 -> 29
A38: 47-49 | B38: =Февраль!D38 -> 30300 | C38: =Март!D38 -> 30361 | D38: 30425 | E38: =D38-C38 -> 64
A39: 50.51 | B39: =Февраль!D39 -> 5827 | C39: =Март!D39 -> 5827 | D39: 5969 | E39: =D39-C39 -> 142
A40: 52 | B40: =Февраль!D40 -> 8765 | C40: =Март!D40 -> 9052 | D40: 9318 | E40: =D40-C40 -> 266
...

Sheet Май
A1: № | B1: Март | C1: Апрель | D1: Май | E1: потребл. за мес.
A2: 1 | B2: =Март!D2 -> 0 | C2: =Апрель!D2 -> 0 | E2: =D2-C2 -> 0
A3: 2 | B3: =Март!D3 -> 245 | C3: =Апрель!D3 -> 245 | D3: 245 | E3: =D3-C3 -> 0
A4: 3 | B4: =Март!D4 -> 0 | C4: =Апрель!D4 -> 0 | E4: =D4-C4 -> 0
A5: 4.5 | B5: =Март!D5 -> 42181 | C5: =Апрель!D5 -> 42181 | D5: 42181 | E5: =D5-C5 -> 0
A6: 6 | B6: =Март!D6 -> 32857 | C6: =Апрель!D6 -> 34585 | D6: 35559 | E6: =D6-C6 -> 974
A7: 7.8 | B7: =Март!D7 -> 86530 | C7: =Апрель!D7 -> 88180 | D7: 89142 | E7: =D7-C7 -> 962
A8: 9.1 | B8: =Март!D8 -> 20708 | C8: =Апрель!D8 -> 21146 | D8: 21573 | E8: =D8-C8 -> 427 | H8: показ.8071 потр.637квт/мес.
A9: 11 | B9: =Март!D9 -> 1193 | C9: =Апрель!D9 -> 1278 | D9: 1694 | E9: =D9-C9 -> 416
A10: 12.13 | B10: =Март!D10 -> 44681 | C10: =Апрель!D10 -> 45302 | D10: 45661 | E10: =D10-C10 -> 359
A11: 14.15 | B11: =Март!D11 -> 7937 | C11: =Апрель!D11 -> 8521 | D11: 9065 | E11: =D11-C11 -> 544
A12: 16 | B12: =Март!D12 -> 3311 | C12: =Апрель!D12 -> 3311 | D12: 3709 | E12: =D12-C12 -> 398
A13: 17 | B13: =Март!D13 -> 0 | C13: =Апрель!D13 -> 0 | E13: =D13-C13 -> 0
A14: 18 | B14: =Март!D14 -> 0 | C14: =Апрель!D14 -> 0 | E14: =D14-C14 -> 0
A15: 19 | B15: =Март!D15 -> 629 | C15: =Апрель!D15 -> 629 | D15: 629 | E15: =D15-C15 -> 0
A16: 20 | B16: =Март!D16 -> 7656 | C16: =Апрель!D16 -> 7708 | D16: 7718 | E16: =D16-C16 -> 10
A17: 21.22 | B17: =Март!D17 -> 9566 | C17: =Апрель!D17 -> 9651 | D17: 9862 | E17: =D17-C17 -> 211
A18: 23 | B18: =Март!D18 -> 3611 | C18: =Апрель!D18 -> 3650 | D18: 3692 | E18: =D18-C18 -> 42
A19: 24 | B19: =Март!D19 -> 49358 | C19: =Апрель!D19 -> 49974 | D19: 50438 | E19: =D19-C19 -> 464
A20: 25 | B20: =Март!D20 -> 0 | C20: =Апрель!D20 -> 0 | E20: =D20-C20 -> 0
A21: 26 | B21: =Март!D21 -> 1763 | C21: =Апрель!D21 -> 1763 | D21: 1764 | E21: =D21-C21 -> 1
A22: 27 | B22: =Март!D22 -> 0 | C22: =Апрель!D22 -> 0 | E22: =D22-C22 -> 0
A23: 28.29 | B23: =Март!D23 -> 36250 | C23: =Апрель!D23 -> 36257 | D23: 36935 | E23: =D23-C23 -> 678
A24: 30 | B24: =Март!D24 -> 2469 | C24: =Апрель!D24 -> 2470 | D24: 2522 | E24: =D24-C24 -> 52
A25: 31 | B25: =Март!D25 -> 78 | C25: =Апрель!D25 -> 78 | D25: 80 | E25: =D25-C25 -> 2
A26: 32 | B26: =Март!D26 -> 4938 | C26: =Апрель!D26 -> 5082 | D26: 5117 | E26: =D26-C26 -> 35
A27: 33 | B27: =Март!D27 -> 0 | C27: =Апрель!D27 -> 0 | E27: =D27-C27 -> 0
A28: 34 | B28: =Март!D28 -> 2157 | C28: =Апрель!D28 -> 2212 | D28: 2459 | E28: =D28-C28 -> 247
A29: 35 | B29: =Март!D29 -> 0 | C29: =Апрель!D29 -> 0 | E29: =D29-C29 -> 0
A30: 36 | B30: =Март!D30 -> 3685 | C30: =Апрель!D30 -> 3734 | D30: 3892 | E30: =D30-C30 -> 158
A31: 37 | B31: =Март!D31 -> 14739 | C31: =Апрель!D31 -> 14883 | D31: 15122 | E31: =D31-C31 -> 239
A32: 38 | B32: =Март!D32 -> 679 | C32: =Апрель!D32 -> 684 | D32: 717 | E32: =D32-C32 -> 33
A33: 39.4 | B33: =Март!D33 -> 58808 | C33: =Апрель!D33 -> 59061 | D33: 59282 | E33: =D33-C33 -> 221
A34: 41-43 | B34: =Март!D34 -> 20762 | C34: =Апрель!D34 -> 20827 | D34: 21032 | E34: =D34-C34 -> 205
A35: 44 | B35: =Март!D35 -> 993 | C35: =Апрель!D35 -> 1009 | D35: 1146 | E35: =D35-C35 -> 137
A36: 45 | B36: =Март!D36 -> 1355 | C36: =Апрель!D36 -> 1362 | D36: 1491 | E36: =D36-C36 -> 129
A37: 46 | B37: =Март!D37 -> 5766 | C37: =Апрель!D37 -> 5795 | D37: 6003 | E37: =D37-C37 -> 208
A38: 47-49 | B38: =Март!D38 -> 30361 | C38: =Апрель!D38 -> 30425 | D38: 30563 | E38: =D38-C38 -> 138
A39: 50.51 | B39: =Март!D39 -> 5827 | C39: =Апрель!D39 -> 5969 | D39: 6208 | E39: =D39-C39 -> 239
A40: 52 | B40: =Март!D40 -> 9052 | C40: =Апрель!D40 -> 9318 | D40: 9552 | E40: =D40-C40 -> 234
...

Sheet Июнь
A1: № | B1: апрель | C1: май | D1: июнь | E1: потребл. за мес.
A2: 1 | B2: =Апрель!D2 -> 0 | C2: =Май!D2 -> 0 | E2: =D2-C2 -> 0
A3: 2 | B3: =Апрель!D3 -> 245 | C3: =Май!D3 -> 245 | D3: 245 | E3: =D3-C3 -> 0
A4: 3 | B4: =Апрель!D4 -> 0 | C4: =Май!D4 -> 0 | E4: =D4-C4 -> 0
A5: 4.5 | B5: =Апрель!D5 -> 42181 | C5: =Май!D5 -> 42181 | D5: 42181 | E5: =D5-C5 -> 0
A6: 6 | B6: =Апрель!D6 -> 34585 | C6: =Май!D6 -> 35559 | D6: 36072 | E6: =D6-C6 -> 513
A7: 7.8 | B7: =Апрель!D7 -> 88180 | C7: =Май!D7 -> 89142 | D7: 89547 | E7: =D7-C7 -> 405
A8: 9.1 | B8: =Апрель!D8 -> 21146 | C8: =Май!D8 -> 21573 | D8: 21918 | E8: =D8-C8 -> 345 | H8: показ8537, потр 466квт/мес
A9: 11 | B9: =Апрель!D9 -> 1278 | C9: =Май!D9 -> 1694 | D9: 1759 | E9: =D9-C9 -> 65
A10: 12.13 | B10: =Апрель!D10 -> 45302 | C10: =Май!D10 -> 45661 | D10: 46039 | E10: =D10-C10 -> 378
A11: 14.15 | B11: =Апрель!D11 -> 8521 | C11: =Май!D11 -> 9065 | D11: 9310 | E11: =D11-C11 -> 245
A12: 16 | B12: =Апрель!D12 -> 3311 | C12: =Май!D12 -> 3709 | D12: 3861 | E12: =D12-C12 -> 152
A13: 17 | B13: =Апрель!D13 -> 0 | C13: =Май!D13 -> 0 | E13: =D13-C13 -> 0
A14: 18 | B14: =Апрель!D14 -> 0 | C14: =Май!D14 -> 0 | E14: =D14-C14 -> 0
A15: 19 | B15: =Апрель!D15 -> 629 | C15: =Май!D15 -> 629 | D15: 629 | E15: =D15-C15 -> 0
A16: 20 | B16: =Апрель!D16 -> 7708 | C16: =Май!D16 -> 7718 | D16: 8021 | E16: =D16-C16 -> 303
A17: 21.22 | B17: =Апрель!D17 -> 9651 | C17: =Май!D17 -> 9862 | D17: 10046 | E17: =D17-C17 -> 184
A18: 23 | B18: =Апрель!D18 -> 3650 | C18: =Май!D18 -> 3692 | D18: 3838 | E18: =D18-C18 -> 146
A19: 24 | B19: =Апрель!D19 -> 49974 | C19: =Май!D19 -> 50438 | D19: 50688 | E19: =D19-C19 -> 250
A20: 25 | B20: =Апрель!D20 -> 0 | C20: =Май!D20 -> 0 | E20: =D20-C20 -> 0
A21: 26 | B21: =Апрель!D21 -> 1763 | C21: =Май!D21 -> 1764 | D21: 1877 | E21: =D21-C21 -> 113
A22: 27 | B22: =Апрель!D22 -> 0 | C22: =Май!D22 -> 0 | E22: =D22-C22 -> 0
A23: 28.29 | B23: =Апрель!D23 -> 36257 | C23: =Май!D23 -> 36935 | D23: 37467 | E23: =D23-C23 -> 532
A24: 30 | B24: =Апрель!D24 -> 2470 | C24: =Май!D24 -> 2522 | D24: 2587 | E24: =D24-C24 -> 65
A25: 31 | B25: =Апрель!D25 -> 78 | C25: =Май!D25 -> 80 | D25: 88 | E25: =D25-C25 -> 8
A26: 32 | B26: =Апрель!D26 -> 5082 | C26: =Май!D26 -> 5117 | D26: 5207 | E26: =D26-C26 -> 90
A27: 33 | B27: =Апрель!D27 -> 0 | C27: =Май!D27 -> 0 | E27: =D27-C27 -> 0
A28: 34 | B28: =Апрель!D28 -> 2212 | C28: =Май!D28 -> 2459 | D28: 2635 | E28: =D28-C28 -> 176
A29: 35 | B29: =Апрель!D29 -> 0 | C29: =Май!D29 -> 0 | E29: =D29-C29 -> 0
A30: 36 | B30: =Апрель!D30 -> 3734 | C30: =Май!D30 -> 3892 | D30: 4023 | E30: =D30-C30 -> 131
A31: 37 | B31: =Апрель!D31 -> 14883 | C31: =Май!D31 -> 15122 | D31: 15231 | E31: =D31-C31 -> 109
A32: 38 | B32: =Апрель!D32 -> 684 | C32: =Май!D32 -> 717 | D32: 766 | E32: =D32-C32 -> 49
A33: 39.4 | B33: =Апрель!D33 -> 59061 | C33: =Май!D33 -> 59282 | D33: 59532 | E33: =D33-C33 -> 250
A34: 41-43 | B34: =Апрель!D34 -> 20827 | C34: =Май!D34 -> 21032 | D34: 21184 | E34: =D34-C34 -> 152
A35: 44 | B35: =Апрель!D35 -> 1009 | C35: =Май!D35 -> 1146 | D35: 1276 | E35: =D35-C35 -> 130
A36: 45 | B36: =Апрель!D36 -> 1362 | C36: =Май!D36 -> 1491 | D36: 1678 | E36: =D36-C36 -> 187
A37: 46 | B37: =Апрель!D37 -> 5795 | C37: =Май!D37 -> 6003 | D37: 6088 | E37: =D37-C37 -> 85
A38: 47-49 | B38: =Апрель!D38 -> 30425 | C38: =Май!D38 -> 30563 | D38: 30892 | E38: =D38-C38 -> 329
A39: 50.51 | B39: =Апрель!D39 -> 5969 | C39: =Май!D39 -> 6208 | D39: 6374 | E39: =D39-C39 -> 166
A40: 52 | B40: =Апрель!D40 -> 9318 | C40: =Май!D40 -> 9552 | D40: 9855 | E40: =D40-C40 -> 303
...

Sheet Июль
A1: № | B1: май | C1: июнь | D1: июль | E1: потребл. за мес.
A2: 1 | B2: =Май!D2 -> 0 | C2: =Июнь!D2 -> 0 | E2: =D2-C2 -> 0
A3: 2 | B3: =Май!D3 -> 245 | C3: =Июнь!D3 -> 245 | D3: 245 | E3: =D3-C3 -> 0
A4: 3 | B4: =Май!D4 -> 0 | C4: =Июнь!D4 -> 0 | E4: =D4-C4 -> 0
A5: 4.5 | B5: =Май!D5 -> 42181 | C5: =Июнь!D5 -> 42181 | D5: 42181 | E5: =D5-C5 -> 0
A6: 6 | B6: =Май!D6 -> 35559 | C6: =Июнь!D6 -> 36072 | D6: 36464 | E6: =D6-C6 -> 392
A7: 7.8 | B7: =Май!D7 -> 89142 | C7: =Июнь!D7 -> 89547 | D7: 89886 | E7: =D7-C7 -> 339
A8: 9.1 | B8: =Май!D8 -> 21573 | C8: =Июнь!D8 -> 21918 | D8: 8830 | E8: =D8-C8 -> -13088 | H8: (22173)показ 8830 потр 293квт/мес
A9: 11 | B9: =Май!D9 -> 1694 | C9: =Июнь!D9 -> 1759 | D9: 1976 | E9: =D9-C9 -> 217
A10: 12.13 | B10: =Май!D10 -> 45661 | C10: =Июнь!D10 -> 46039 | D10: 46428 | E10: =D10-C10 -> 389
A11: 14.15 | B11: =Май!D11 -> 9065 | C11: =Июнь!D11 -> 9310 | D11: 9558 | E11: =D11-C11 -> 248
A12: 16 | B12: =Май!D12 -> 3709 | C12: =Июнь!D12 -> 3861 | D12: 3944 | E12: =D12-C12 -> 83
A13: 17 | B13: =Май!D13 -> 0 | C13: =Июнь!D13 -> 0 | E13: =D13-C13 -> 0
A14: 18 | B14: =Май!D14 -> 0 | C14: =Июнь!D14 -> 0 | E14: =D14-C14 -> 0
A15: 19 | B15: =Май!D15 -> 629 | C15: =Июнь!D15 -> 629 | D15: 629 | E15: =D15-C15 -> 0
A16: 20 | B16: =Май!D16 -> 7718 | C16: =Июнь!D16 -> 8021 | D16: 8155 | E16: =D16-C16 -> 134
A17: 21.22 | B17: =Май!D17 -> 9862 | C17: =Июнь!D17 -> 10046 | D17: 10270 | E17: =D17-C17 -> 224
A18: 23 | B18: =Май!D18 -> 3692 | C18: =Июнь!D18 -> 3838 | D18: 3956 | E18: =D18-C18 -> 118
A19: 24 | B19: =Май!D19 -> 50438 | C19: =Июнь!D19 -> 50688 | D19: 50931 | E19: =D19-C19 -> 243
A20: 25 | B20: =Май!D20 -> 0 | C20: =Июнь!D20 -> 0 | E20: =D20-C20 -> 0
A21: 26 | B21: =Май!D21 -> 1764 | C21: =Июнь!D21 -> 1877 | D21: 2057 | E21: =D21-C21 -> 180
A22: 27 | B22: =Май!D22 -> 0 | C22: =Июнь!D22 -> 0 | E22: =D22-C22 -> 0
A23: 28.29 | B23: =Май!D23 -> 36935 | C23: =Июнь!D23 -> 37467 | D23: 37872 | E23: =D23-C23 -> 405
A24: 30 | B24: =Май!D24 -> 2522 | C24: =Июнь!D24 -> 2587 | D24: 2647 | E24: =D24-C24 -> 60
A25: 31 | B25: =Май!D25 -> 80 | C25: =Июнь!D25 -> 88 | D25: 89 | E25: =D25-C25 -> 1
A26: 32 | B26: =Май!D26 -> 5117 | C26: =Июнь!D26 -> 5207 | D26: 5262 | E26: =D26-C26 -> 55
A27: 33 | B27: =Май!D27 -> 0 | C27: =Июнь!D27 -> 0 | E27: =D27-C27 -> 0
A28: 34 | B28: =Май!D28 -> 2459 | C28: =Июнь!D28 -> 2635 | D28: 3011 | E28: =D28-C28 -> 376
A29: 35 | B29: =Май!D29 -> 0 | C29: =Июнь!D29 -> 0 | E29: =D29-C29 -> 0
A30: 36 | B30: =Май!D30 -> 3892 | C30: =Июнь!D30 -> 4023 | D30: 4123 | E30: =D30-C30 -> 100
A31: 37 | B31: =Май!D31 -> 15122 | C31: =Июнь!D31 -> 15231 | D31: 15468 | E31: =D31-C31 -> 237
A32: 38 | B32: =Май!D32 -> 717 | C32: =Июнь!D32 -> 766 | D32: 804 | E32: =D32-C32 -> 38
A33: 39.4 | B33: =Май!D33 -> 59282 | C33: =Июнь!D33 -> 59532 | D33: 59655 | E33: =D33-C33 -> 123
A34: 41-43 | B34: =Май!D34 -> 21032 | C34: =Июнь!D34 -> 21184 | D34: 21636 | E34: =D34-C34 -> 452
A35: 44 | B35: =Май!D35 -> 1146 | C35: =Июнь!D35 -> 1276 | D35: 1353 | E35: =D35-C35 -> 77
A36: 45 | B36: =Май!D36 -> 1491 | C36: =Июнь!D36 -> 1678 | D36: 1819 | E36: =D36-C36 -> 141
A37: 46 | B37: =Май!D37 -> 6003 | C37: =Июнь!D37 -> 6088 | D37: 6164 | E37: =D37-C37 -> 76
A38: 47-49 | B38: =Май!D38 -> 30563 | C38: =Июнь!D38 -> 30892 | D38: 31207 | E38: =D38-C38 -> 315
A39: 50.51 | B39: =Май!D39 -> 6208 | C39: =Июнь!D39 -> 6374 | D39: 6517 | E39: =D39-C39 -> 143
A40: 52 | B40: =Май!D40 -> 9552 | C40: =Июнь!D40 -> 9855 | D40: 10092 | E40: =D40-C40 -> 237
...

Sheet Август
A1: № | B1: Июнь | C1: Июль | D1: Август | E1: потребл. за мес.
A2: 1 | B2: =Июнь!D2 -> 0 | C2: =Июль!D2 -> 0 | E2: =D2-C2 -> 0
A3: 2 | B3: =Июнь!D3 -> 245 | C3: =Июль!D3 -> 245 | D3: 245 | E3: =D3-C3 -> 0
A4: 3 | B4: =Июнь!D4 -> 0 | C4: =Июль!D4 -> 0 | E4: =D4-C4 -> 0
A5: 4.5 | B5: =Июнь!D5 -> 42181 | C5: =Июль!D5 -> 42181 | D5: 42181 | E5: =D5-C5 -> 0
A6: 6 | B6: =Июнь!D6 -> 36072 | C6: =Июль!D6 -> 36464 | D6: 36938 | E6: =D6-C6 -> 474
A7: 7.8 | B7: =Июнь!D7 -> 89547 | C7: =Июль!D7 -> 89886 | D7: 90247 | E7: =D7-C7 -> 361
A8: 9.1 | B8: =Июнь!D8 -> 21918 | C8: =Июль!D8 -> 8830 | D8: 9319 | E8: =D8-C8 -> 489
A9: 11 | B9: =Июнь!D9 -> 1759 | C9: =Июль!D9 -> 1976 | D9: 2144 | E9: =D9-C9 -> 168
A10: 12.13 | B10: =Июнь!D10 -> 46039 | C10: =Июль!D10 -> 46428 | D10: 46903 | E10: =D10-C10 -> 475
A11: 14.15 | B11: =Июнь!D11 -> 9310 | C11: =Июль!D11 -> 9558 | D11: 10021 | E11: =D11-C11 -> 463
A12: 16 | B12: =Июнь!D12 -> 3861 | C12: =Июль!D12 -> 3944 | D12: 4035 | E12: =D12-C12 -> 91
A13: 17 | B13: =Июнь!D13 -> 0 | C13: =Июль!D13 -> 0 | E13: =D13-C13 -> 0
A14: 18 | B14: =Июнь!D14 -> 0 | C14: =Июль!D14 -> 0 | E14: =D14-C14 -> 0
A15: 19 | B15: =Июнь!D15 -> 629 | C15: =Июль!D15 -> 629 | D15: 629 | E15: =D15-C15 -> 0
A16: 20 | B16: =Июнь!D16 -> 8021 | C16: =Июль!D16 -> 8155 | D16: 8360 | E16: =D16-C16 -> 205
A17: 21.22 | B17: =Июнь!D17 -> 10046 | C17: =Июль!D17 -> 10270 | D17: 10511 | E17: =D17-C17 -> 241
A18: 23 | B18: =Июнь!D18 -> 3838 | C18: =Июль!D18 -> 3956 | D18: 4077 | E18: =D18-C18 -> 121
A19: 24 | B19: =Июнь!D19 -> 50688 | C19: =Июль!D19 -> 50931 | D19: 51235 | E19: =D19-C19 -> 304
A20: 25 | B20: =Июнь!D20 -> 0 | C20: =Июль!D20 -> 0 | E20: =D20-C20 -> 0
A21: 26 | B21: =Июнь!D21 -> 1877 | C21: =Июль!D21 -> 2057 | D21: 2299 | E21: =D21-C21 -> 242
A22: 27 | B22: =Июнь!D22 -> 0 | C22: =Июль!D22 -> 0 | E22: =D22-C22 -> 0
A23: 28.29 | B23: =Июнь!D23 -> 37467 | C23: =Июль!D23 -> 37872 | D23: 38209 | E23: =D23-C23 -> 337
A24: 30 | B24: =Июнь!D24 -> 2587 | C24: =Июль!D24 -> 2647 | D24: 2733 | E24: =D24-C24 -> 86
A25: 31 | B25: =Июнь!D25 -> 88 | C25: =Июль!D25 -> 89 | D25: 91 | E25: =D25-C25 -> 2
A26: 32 | B26: =Июнь!D26 -> 5207 | C26: =Июль!D26 -> 5262 | D26: 5325 | E26: =D26-C26 -> 63
A27: 33 | B27: =Июнь!D27 -> 0 | C27: =Июль!D27 -> 0 | E27: =D27-C27 -> 0
A28: 34 | B28: =Июнь!D28 -> 2635 | C28: =Июль!D28 -> 3011 | D28: 3117 | E28: =D28-C28 -> 106
A29: 35 | B29: =Июнь!D29 -> 0 | C29: =Июль!D29 -> 0 | E29: =D29-C29 -> 0
A30: 36 | B30: =Июнь!D30 -> 4023 | C30: =Июль!D30 -> 4123 | D30: 4246 | E30: =D30-C30 -> 123
A31: 37 | B31: =Июнь!D31 -> 15231 | C31: =Июль!D31 -> 15468 | D31: 15552 | E31: =D31-C31 -> 84
A32: 38 | B32: =Июнь!D32 -> 766 | C32: =Июль!D32 -> 804 | D32: 853 | E32: =D32-C32 -> 49
A33: 39.4 | B33: =Июнь!D33 -> 59532 | C33: =Июль!D33 -> 59655 | D33: 59825 | E33: =D33-C33 -> 170
A34: 41-43 | B34: =Июнь!D34 -> 21184 | C34: =Июль!D34 -> 21636 | D34: 22219 | E34: =D34-C34 -> 583
A35: 44 | B35: =Июнь!D35 -> 1276 | C35: =Июль!D35 -> 1353 | D35: 1421 | E35: =D35-C35 -> 68
A36: 45 | B36: =Июнь!D36 -> 1678 | C36: =Июль!D36 -> 1819 | D36: 1975 | E36: =D36-C36 -> 156
A37: 46 | B37: =Июнь!D37 -> 6088 | C37: =Июль!D37 -> 6164 | D37: 6221 | E37: =D37-C37 -> 57
A38: 47-49 | B38: =Июнь!D38 -> 30892 | C38: =Июль!D38 -> 31207 | D38: 31623 | E38: =D38-C38 -> 416
A39: 50.51 | B39: =Июнь!D39 -> 6374 | C39: =Июль!D39 -> 6517 | D39: 6790 | E39: =D39-C39 -> 273
A40: 52 | B40: =Июнь!D40 -> 9855 | C40: =Июль!D40 -> 10092 | D40: 10371 | E40: =D40-C40 -> 279
...

Sheet Сентябрь
A1: № | B1: Июль | C1: Август | D1: Сентябрь | E1: потребл. за мес.
A2: 1 | B2: =Июль!D2 -> 0 | C2: =Август!D2 -> 0 | E2: =D2-C2 -> 0
A3: 2 | B3: =Июль!D3 -> 245 | C3: =Август!D3 -> 245 | D3: 245 | E3: =D3-C3 -> 0
A4: 3 | B4: =Июль!D4 -> 0 | C4: =Август!D4 -> 0 | E4: =D4-C4 -> 0
A5: 4.5 | B5: =Июль!D5 -> 42181 | C5: =Август!D5 -> 42181 | D5: 42181 | E5: =D5-C5 -> 0
A6: 6 | B6: =Июль!D6 -> 36464 | C6: =Август!D6 -> 36938 | D6: 37698 | E6: =D6-C6 -> 760
A7: 7.8 | B7: =Июль!D7 -> 89886 | C7: =Август!D7 -> 90247 | D7: 90674 | E7: =D7-C7 -> 427
A8: 9.1 | B8: =Июль!D8 -> 8830 | C8: =Август!D8 -> 9319 | D8: 9998 | E8: =D8-C8 -> 679
A9: 11 | B9: =Июль!D9 -> 1976 | C9: =Август!D9 -> 2144 | D9: 2467 | E9: =D9-C9 -> 323
A10: 12.13 | B10: =Июль!D10 -> 46428 | C10: =Август!D10 -> 46903 | D10: 47389 | E10: =D10-C10 -> 486
A11: 14.15 | B11: =Июль!D11 -> 9558 | C11: =Август!D11 -> 10021 | D11: 11459 | E11: =D11-C11 -> 1438
A12: 16 | B12: =Июль!D12 -> 3944 | C12: =Август!D12 -> 4035 | D12: 4066 | E12: =D12-C12 -> 31
A13: 17 | B13: =Июль!D13 -> 0 | C13: =Август!D13 -> 0 | E13: =D13-C13 -> 0
A14: 18 | B14: =Июль!D14 -> 0 | C14: =Август!D14 -> 0 | E14: =D14-C14 -> 0
A15: 19 | B15: =Июль!D15 -> 629 | C15: =Август!D15 -> 629 | D15: 629 | E15: =D15-C15 -> 0
A16: 20 | B16: =Июль!D16 -> 8155 | C16: =Август!D16 -> 8360 | D16: 8400 | E16: =D16-C16 -> 40
A17: 21.22 | B17: =Июль!D17 -> 10270 | C17: =Август!D17 -> 10511 | D17: 10594 | E17: =D17-C17 -> 83
A18: 23 | B18: =Июль!D18 -> 3956 | C18: =Август!D18 -> 4077 | D18: 4122 | E18: =D18-C18 -> 45
A19: 24 | B19: =Июль!D19 -> 50931 | C19: =Август!D19 -> 51235 | D19: 51648 | E19: =D19-C19 -> 413
A20: 25 | B20: =Июль!D20 -> 0 | C20: =Август!D20 -> 0 | E20: =D20-C20 -> 0
A21: 26 | B21: =Июль!D21 -> 2057 | C21: =Август!D21 -> 2299 | D21: 2328 | E21: =D21-C21 -> 29
A22: 27 | B22: =Июль!D22 -> 0 | C22: =Август!D22 -> 0 | E22: =D22-C22 -> 0
A23: 28.29 | B23: =Июль!D23 -> 37872 | C23: =Август!D23 -> 38209 | D23: 38365 | E23: =D23-C23 -> 156
A24: 30 | B24: =Июль!D24 -> 2647 | C24: =Август!D24 -> 2733 | D24: 2855 | E24: =D24-C24 -> 122
A25: 31 | B25: =Июль!D25 -> 89 | C25: =Август!D25 -> 91 | D25: 93 | E25: =D25-C25 -> 2
A26: 32 | B26: =Июль!D26 -> 5262 | C26: =Август!D26 -> 5325 | D26: 5433 | E26: =D26-C26 -> 108
A27: 33 | B27: =Июль!D27 -> 0 | C27: =Август!D27 -> 0 | E27: =D27-C27 -> 0
A28: 34 | B28: =Июль!D28 -> 3011 | C28: =Август!D28 -> 3117 | D28: 3194 | E28: =D28-C28 -> 77
A29: 35 | B29: =Июль!D29 -> 0 | C29: =Август!D29 -> 0 | E29: =D29-C29 -> 0
A30: 36 | B30: =Июль!D30 -> 4123 | C30: =Август!D30 -> 4246 | D30: 4356 | E30: =D30-C30 -> 110
A31: 37 | B31: =Июль!D31 -> 15468 | C31: =Август!D31 -> 15552 | D31: 15635 | E31: =D31-C31 -> 83
A32: 38 | B32: =Июль!D32 -> 804 | C32: =Август!D32 -> 853 | D32: 904 | E32: =D32-C32 -> 51
A33: 39.4 | B33: =Июль!D33 -> 59655 | C33: =Август!D33 -> 59825 | D33: 60176 | E33: =D33-C33 -> 351
A34: 41-43 | B34: =Июль!D34 -> 21636 | C34: =Август!D34 -> 22219 | D34: 22516 | E34: =D34-C34 -> 297
A35: 44 | B35: =Июль!D35 -> 1353 | C35: =Август!D35 -> 1421 | D35: 1532 | E35: =D35-C35 -> 111
A36: 45 | B36: =Июль!D36 -> 1819 | C36: =Август!D36 -> 1975 | D36: 2013 | E36: =D36-C36 -> 38
A37: 46 | B37: =Июль!D37 -> 6164 | C37: =Август!D37 -> 6221 | D37: 6280 | E37: =D37-C37 -> 59
A38: 47-49 | B38: =Июль!D38 -> 31207 | C38: =Август!D38 -> 31623 | D38: 31811 | E38: =D38-C38 -> 188
A39: 50.51 | B39: =Июль!D39 -> 6517 | C39: =Август!D39 -> 6790 | D39: 6984 | E39: =D39-C39 -> 194
A40: 52 | B40: =Июль!D40 -> 10092 | C40: =Август!D40 -> 10371 | D40: 10770 | E40: =D40-C40 -> 399
...

Sheet Октябрь
A1: № | B1: Август | C1: Сентябрь | D1: Октябрь | E1: потребл. за мес.
A2: 1 | B2: =Август!D2 -> 0 | C2: =Сентябрь!D2 -> 0 | E2: =D2-C2 -> 0
A3: 2 | B3: =Август!D3 -> 245 | C3: =Сентябрь!D3 -> 245 | D3: 245 | E3: =D3-C3 -> 0
A4: 3 | B4: =Август!D4 -> 0 | C4: =Сентябрь!D4 -> 0 | E4: =D4-C4 -> 0
A5: 4.5 | B5: =Август!D5 -> 42181 | C5: =Сентябрь!D5 -> 42181 | D5: 42181 | E5: =D5-C5 -> 0
A6: 6 | B6: =Август!D6 -> 36938 | C6: =Сентябрь!D6 -> 37698 | D6: 38397 | E6: =D6-C6 -> 699
A7: 7.8 | B7: =Август!D7 -> 90247 | C7: =Сентябрь!D7 -> 90674 | D7: 91944 | E7: =D7-C7 -> 1270
A8: 9.1 | B8: =Август!D8 -> 9319 | C8: =Сентябрь!D8 -> 9998 | D8: 10504 | E8: =D8-C8 -> 506
A9: 11 | B9: =Август!D9 -> 2144 | C9: =Сентябрь!D9 -> 2467 | D9: 2847 | E9: =D9-C9 -> 380
A10: 12.13 | B10: =Август!D10 -> 46903 | C10: =Сентябрь!D10 -> 47389 | D10: 47798 | E10: =D10-C10 -> 409
A11: 14.15 | B11: =Август!D11 -> 10021 | C11: =Сентябрь!D11 -> 11459 | D11: 13063 | E11: =D11-C11 -> 1604
A12: 16 | B12: =Август!D12 -> 4035 | C12: =Сентябрь!D12 -> 4066 | D12: 4273 | E12: =D12-C12 -> 207
A13: 17 | B13: =Август!D13 -> 0 | C13: =Сентябрь!D13 -> 0 | E13: =D13-C13 -> 0
A14: 18 | B14: =Август!D14 -> 0 | C14: =Сентябрь!D14 -> 0 | E14: =D14-C14 -> 0
A15: 19 | B15: =Август!D15 -> 629 | C15: =Сентябрь!D15 -> 629 | D15: 629 | E15: =D15-C15 -> 0
A16: 20 | B16: =Август!D16 -> 8360 | C16: =Сентябрь!D16 -> 8400 | D16: 8401 | E16: =D16-C16 -> 1
A17: 21.22 | B17: =Август!D17 -> 10511 | C17: =Сентябрь!D17 -> 10594 | D17: 10723 | E17: =D17-C17 -> 129
A18: 23 | B18: =Август!D18 -> 4077 | C18: =Сентябрь!D18 -> 4122 | D18: 4257 | E18: =D18-C18 -> 135
A19: 24 | B19: =Август!D19 -> 51235 | C19: =Сентябрь!D19 -> 51648 | D19: 52669 | E19: =D19-C19 -> 1021
A20: 25 | B20: =Август!D20 -> 0 | C20: =Сентябрь!D20 -> 0 | E20: =D20-C20 -> 0
A21: 26 | B21: =Август!D21 -> 2299 | C21: =Сентябрь!D21 -> 2328 | D21: 2329 | E21: =D21-C21 -> 1
A22: 27 | B22: =Август!D22 -> 0 | C22: =Сентябрь!D22 -> 0 | E22: =D22-C22 -> 0
A23: 28.29 | B23: =Август!D23 -> 38209 | C23: =Сентябрь!D23 -> 38365 | D23: 38587 | E23: =D23-C23 -> 222
A24: 30 | B24: =Август!D24 -> 2733 | C24: =Сентябрь!D24 -> 2855 | D24: 2967 | E24: =D24-C24 -> 112
A25: 31 | B25: =Август!D25 -> 91 | C25: =Сентябрь!D25 -> 93 | D25: 93 | E25: =D25-C25 -> 0
A26: 32 | B26: =Август!D26 -> 5325 | C26: =Сентябрь!D26 -> 5433 | D26: 5463 | E26: =D26-C26 -> 30
A27: 33 | B27: =Август!D27 -> 0 | C27: =Сентябрь!D27 -> 0 | E27: =D27-C27 -> 0
A28: 34 | B28: =Август!D28 -> 3117 | C28: =Сентябрь!D28 -> 3194 | D28: 3314 | E28: =D28-C28 -> 120
A29: 35 | B29: =Август!D29 -> 0 | C29: =Сентябрь!D29 -> 0 | E29: =D29-C29 -> 0
A30: 36 | B30: =Август!D30 -> 4246 | C30: =Сентябрь!D30 -> 4356 | D30: 4414 | E30: =D30-C30 -> 58
A31: 37 | B31: =Август!D31 -> 15552 | C31: =Сентябрь!D31 -> 15635 | D31: 15779 | E31: =D31-C31 -> 144
A32: 38 | B32: =Август!D32 -> 853 | C32: =Сентябрь!D32 -> 904 | D32: 906 | E32: =D32-C32 -> 2
A33: 39.4 | B33: =Август!D33 -> 59825 | C33: =Сентябрь!D33 -> 60176 | D33: 60697 | E33: =D33-C33 -> 521
A34: 41-43 | B34: =Август!D34 -> 22219 | C34: =Сентябрь!D34 -> 22516 | D34: 22739 | E34: =D34-C34 -> 223
A35: 44 | B35: =Август!D35 -> 1421 | C35: =Сентябрь!D35 -> 1532 | D35: 1547 | E35: =D35-C35 -> 15
A36: 45 | B36: =Август!D36 -> 1975 | C36: =Сентябрь!D36 -> 2013 | D36: 2014 | E36: =D36-C36 -> 1
A37: 46 | B37: =Август!D37 -> 6221 | C37: =Сентябрь!D37 -> 6280 | D37: 6452 | E37: =D37-C37 -> 172
A38: 47-49 | B38: =Август!D38 -> 31623 | C38: =Сентябрь!D38 -> 31811 | D38: 31891 | E38: =D38-C38 -> 80
A39: 50.51 | B39: =Август!D39 -> 6790 | C39: =Сентябрь!D39 -> 6984 | D39: 7338 | E39: =D39-C39 -> 354
A40: 52 | B40: =Август!D40 -> 10371 | C40: =Сентябрь!D40 -> 10770 | D40: 11185 | E40: =D40-C40 -> 415
...

Sheet Ноябрь
A1: № | B1: Сентябрь | C1: Октябрь | D1: Ноябрь | E1: потребл. за мес.
A2: 1 | B2: =Сентябрь!D2 -> 0 | C2: =Октябрь!D2 -> 0 | E2: =D2-C2 -> 0
A3: 2 | B3: =Сентябрь!D3 -> 245 | C3: =Октябрь!D3 -> 245 | D3: 245 | E3: =D3-C3 -> 0
A4: 3 | B4: =Сентябрь!D4 -> 0 | C4: =Октябрь!D4 -> 0 | E4: =D4-C4 -> 0
A5: 4.5 | B5: =Сентябрь!D5 -> 42181 | C5: =Октябрь!D5 -> 42181 | D5: 42181 | E5: =D5-C5 -> 0
A6: 6 | B6: =Сентябрь!D6 -> 37698 | C6: =Октябрь!D6 -> 38397 | D6: 39908 | E6: =D6-C6 -> 1511
A7: 7.8 | B7: =Сентябрь!D7 -> 90674 | C7: =Октябрь!D7 -> 91944 | D7: 93760 | E7: =D7-C7 -> 1816
A8: 9.1 | B8: =Сентябрь!D8 -> 9998 | C8: =Октябрь!D8 -> 10504 | D8: 11008 | E8: =D8-C8 -> 504
A9: 11 | B9: =Сентябрь!D9 -> 2467 | C9: =Октябрь!D9 -> 2847 | D9: 2996 | E9: =D9-C9 -> 149
A10: 12.13 | B10: =Сентябрь!D10 -> 47389 | C10: =Октябрь!D10 -> 47798 | D10: 48385 | E10: =D10-C10 -> 587
A11: 14.15 | B11: =Сентябрь!D11 -> 11459 | C11: =Октябрь!D11 -> 13063 | D11: 13505 | E11: =D11-C11 -> 442
A12: 16 | B12: =Сентябрь!D12 -> 4066 | C12: =Октябрь!D12 -> 4273 | D12: 4273 | E12: =D12-C12 -> 0
A13: 17 | B13: =Сентябрь!D13 -> 0 | C13: =Октябрь!D13 -> 0 | E13: =D13-C13 -> 0
A14: 18 | B14: =Сентябрь!D14 -> 0 | C14: =Октябрь!D14 -> 0 | E14: =D14-C14 -> 0
A15: 19 | B15: =Сентябрь!D15 -> 629 | C15: =Октябрь!D15 -> 629 | D15: 629 | E15: =D15-C15 -> 0
A16: 20 | B16: =Сентябрь!D16 -> 8400 | C16: =Октябрь!D16 -> 8401 | D16: 8401 | E16: =D16-C16 -> 0
A17: 21.22 | B17: =Сентябрь!D17 -> 10594 | C17: =Октябрь!D17 -> 10723 | D17: 10723 | E17: =D17-C17 -> 0
A18: 23 | B18: =Сентябрь!D18 -> 4122 | C18: =Октябрь!D18 -> 4257 | D18: 4439 | E18: =D18-C18 -> 182
A19: 24 | B19: =Сентябрь!D19 -> 51648 | C19: =Октябрь!D19 -> 52669 | D19: 54006 | E19: =D19-C19 -> 1337
A20: 25 | B20: =Сентябрь!D20 -> 0 | C20: =Октябрь!D20 -> 0 | E20: =D20-C20 -> 0
A21: 26 | B21: =Сентябрь!D21 -> 2328 | C21: =Октябрь!D21 -> 2329 | D21: 2374 | E21: =D21-C21 -> 45
A22: 27 | B22: =Сентябрь!D22 -> 0 | C22: =Октябрь!D22 -> 0 | E22: =D22-C22 -> 0
A23: 28.29 | B23: =Сентябрь!D23 -> 38365 | C23: =Октябрь!D23 -> 38587 | D23: 38591 | E23: =D23-C23 -> 4
A24: 30 | B24: =Сентябрь!D24 -> 2855 | C24: =Октябрь!D24 -> 2967 | D24: 2969 | E24: =D24-C24 -> 2
A25: 31 | B25: =Сентябрь!D25 -> 93 | C25: =Октябрь!D25 -> 93 | D25: 93 | E25: =D25-C25 -> 0
A26: 32 | B26: =Сентябрь!D26 -> 5433 | C26: =Октябрь!D26 -> 5463 | D26: 5484 | E26: =D26-C26 -> 21
A27: 33 | B27: =Сентябрь!D27 -> 0 | C27: =Октябрь!D27 -> 0 | E27: =D27-C27 -> 0
A28: 34 | B28: =Сентябрь!D28 -> 3194 | C28: =Октябрь!D28 -> 3314 | D28: 3415 | E28: =D28-C28 -> 101
A29: 35 | B29: =Сентябрь!D29 -> 0 | C29: =Октябрь!D29 -> 0 | E29: =D29-C29 -> 0
A30: 36 | B30: =Сентябрь!D30 -> 4356 | C30: =Октябрь!D30 -> 4414 | D30: 4414 | E30: =D30-C30 -> 0
A31: 37 | B31: =Сентябрь!D31 -> 15635 | C31: =Октябрь!D31 -> 15779 | D31: 16097 | E31: =D31-C31 -> 318
A32: 38 | B32: =Сентябрь!D32 -> 904 | C32: =Октябрь!D32 -> 906 | D32: 913 | E32: =D32-C32 -> 7
A33: 39.4 | B33: =Сентябрь!D33 -> 60176 | C33: =Октябрь!D33 -> 60697 | D33: 61887 | E33: =D33-C33 -> 1190
A34: 41-43 | B34: =Сентябрь!D34 -> 22516 | C34: =Октябрь!D34 -> 22739 | D34: 23123 | E34: =D34-C34 -> 384
A35: 44 | B35: =Сентябрь!D35 -> 1532 | C35: =Октябрь!D35 -> 1547 | D35: 1547 | E35: =D35-C35 -> 0
A36: 45 | B36: =Сентябрь!D36 -> 2013 | C36: =Октябрь!D36 -> 2014 | D36: 2014 | E36: =D36-C36 -> 0
A37: 46 | B37: =Сентябрь!D37 -> 6280 | C37: =Октябрь!D37 -> 6452 | D37: 6452 | E37: =D37-C37 -> 0
A38: 47-49 | B38: =Сентябрь!D38 -> 31811 | C38: =Октябрь!D38 -> 31891 | D38: 32059 | E38: =D38-C38 -> 168
A39: 50.51 | B39: =Сентябрь!D39 -> 6984 | C39: =Октябрь!D39 -> 7338 | D39: 7626 | E39: =D39-C39 -> 288
A40: 52 | B40: =Сентябрь!D40 -> 10770 | C40: =Октябрь!D40 -> 11185 | D40: 11756 | E40: =D40-C40 -> 571
...

Sheet Декабрь
A1: № | B1: Октябрь | C1: Ноябрь | D1: Декабрь | E1: потребл. за мес.
A2: 1 | B2: =Октябрь!D2 -> 0 | C2: =Ноябрь!D2 -> 0 | E2: =D2-C2 -> 0
A3: 2 | B3: =Октябрь!D3 -> 245 | C3: =Ноябрь!D3 -> 245 | D3: 245 | E3: =D3-C3 -> 0
A4: 3 | B4: =Октябрь!D4 -> 0 | C4: =Ноябрь!D4 -> 0 | E4: =D4-C4 -> 0
A5: 4.5 | B5: =Октябрь!D5 -> 42181 | C5: =Ноябрь!D5 -> 42181 | D5: 42181 | E5: =D5-C5 -> 0
A6: 6 | B6: =Октябрь!D6 -> 38397 | C6: =Ноябрь!D6 -> 39908 | D6: 41356 | E6: =D6-C6 -> 1448
A7: 7.8 | B7: =Октябрь!D7 -> 91944 | C7: =Ноябрь!D7 -> 93760 | D7: 96680 | E7: =D7-C7 -> 2920
A8: 9.1 | B8: =Октябрь!D8 -> 10504 | C8: =Ноябрь!D8 -> 11008 | D8: 11543 | E8: =D8-C8 -> 535
A9: 11 | B9: =Октябрь!D9 -> 2847 | C9: =Ноябрь!D9 -> 2996 | D9: 2996 | E9: =D9-C9 -> 0
A10: 12.13 | B10: =Октябрь!D10 -> 47798 | C10: =Ноябрь!D10 -> 48385 | D10: 49616 | E10: =D10-C10 -> 1231
A11: 14.15 | B11: =Октябрь!D11 -> 13063 | C11: =Ноябрь!D11 -> 13505 | D11: 13505 | E11: =D11-C11 -> 0
A12: 16 | B12: =Октябрь!D12 -> 4273 | C12: =Ноябрь!D12 -> 4273 | D12: 4273 | E12: =D12-C12 -> 0
A13: 17 | B13: =Октябрь!D13 -> 0 | C13: =Ноябрь!D13 -> 0 | E13: =D13-C13 -> 0
A14: 18 | B14: =Октябрь!D14 -> 0 | C14: =Ноябрь!D14 -> 0 | E14: =D14-C14 -> 0
A15: 19 | B15: =Октябрь!D15 -> 629 | C15: =Ноябрь!D15 -> 629 | D15: 629 | E15: =D15-C15 -> 0
A16: 20 | B16: =Октябрь!D16 -> 8401 | C16: =Ноябрь!D16 -> 8401 | D16: 8401 | E16: =D16-C16 -> 0
A17: 21.22 | B17: =Октябрь!D17 -> 10723 | C17: =Ноябрь!D17 -> 10723 | D17: 10754 | E17: =D17-C17 -> 31
A18: 23 | B18: =Октябрь!D18 -> 4257 | C18: =Ноябрь!D18 -> 4439 | D18: 4440 | E18: =D18-C18 -> 1
A19: 24 | B19: =Октябрь!D19 -> 52669 | C19: =Ноябрь!D19 -> 54006 | D19: 54158 | E19: =D19-C19 -> 152
A20: 25 | B20: =Октябрь!D20 -> 0 | C20: =Ноябрь!D20 -> 0 | E20: =D20-C20 -> 0
A21: 26 | B21: =Октябрь!D21 -> 2329 | C21: =Ноябрь!D21 -> 2374 | D21: 2374 | E21: =D21-C21 -> 0
A22: 27 | B22: =Октябрь!D22 -> 0 | C22: =Ноябрь!D22 -> 0 | E22: =D22-C22 -> 0
A23: 28.29 | B23: =Октябрь!D23 -> 38587 | C23: =Ноябрь!D23 -> 38591 | D23: 38596 | E23: =D23-C23 -> 5
A24: 30 | B24: =Октябрь!D24 -> 2967 | C24: =Ноябрь!D24 -> 2969 | D24: 2969 | E24: =D24-C24 -> 0
A25: 31 | B25: =Октябрь!D25 -> 93 | C25: =Ноябрь!D25 -> 93 | D25: 93 | E25: =D25-C25 -> 0
A26: 32 | B26: =Октябрь!D26 -> 5463 | C26: =Ноябрь!D26 -> 5484 | D26: 5484 | E26: =D26-C26 -> 0
A27: 33 | B27: =Октябрь!D27 -> 0 | C27: =Ноябрь!D27 -> 0 | E27: =D27-C27 -> 0
A28: 34 | B28: =Октябрь!D28 -> 3314 | C28: =Ноябрь!D28 -> 3415 | D28: 3449 | E28: =D28-C28 -> 34
A29: 35 | B29: =Октябрь!D29 -> 0 | C29: =Ноябрь!D29 -> 0 | E29: =D29-C29 -> 0
A30: 36 | B30: =Октябрь!D30 -> 4414 | C30: =Ноябрь!D30 -> 4414 | D30: 4414 | E30: =D30-C30 -> 0
A31: 37 | B31: =Октябрь!D31 -> 15779 | C31: =Ноябрь!D31 -> 16097 | D31: 16667 | E31: =D31-C31 -> 570
A32: 38 | B32: =Октябрь!D32 -> 906 | C32: =Ноябрь!D32 -> 913 | D32: 914 | E32: =D32-C32 -> 1
A33: 39.4 | B33: =Октябрь!D33 -> 60697 | C33: =Ноябрь!D33 -> 61887 | D33: 63105 | E33: =D33-C33 -> 1218
A34: 41-43 | B34: =Октябрь!D34 -> 22739 | C34: =Ноябрь!D34 -> 23123 | D34: 23583 | E34: =D34-C34 -> 460
A35: 44 | B35: =Октябрь!D35 -> 1547 | C35: =Ноябрь!D35 -> 1547 | D35: 1547 | E35: =D35-C35 -> 0
A36: 45 | B36: =Октябрь!D36 -> 2014 | C36: =Ноябрь!D36 -> 2014 | D36: 2014 | E36: =D36-C36 -> 0
A37: 46 | B37: =Октябрь!D37 -> 6452 | C37: =Ноябрь!D37 -> 6452 | D37: 6452 | E37: =D37-C37 -> 0
A38: 47-49 | B38: =Октябрь!D38 -> 31891 | C38: =Ноябрь!D38 -> 32059 | D38: 32371 | E38: =D38-C38 -> 312
A39: 50.51 | B39: =Октябрь!D39 -> 7338 | C39: =Ноябрь!D39 -> 7626 | D39: 7763 | E39: =D39-C39 -> 137
A40: 52 | B40: =Октябрь!D40 -> 11185 | C40: =Ноябрь!D40 -> 11756 | D40: 12268 | E40: =D40-C40 -> 512
...

Sheet Счетчики
A1: СНТ Винт
B4: Меркурий 230 АМ-03 № 25471825 | C4: 1-77,
B5: Меркурий 230 АМ-03 № 25471781 | C5: Новое поле
B6: Меркурий 230 АМ-03 № 19418887 | C6: Бочка
B7: Энергомера СЕ 101 № 124539496 | C7: Освещение
B8: СЭТ-4М.03М01. №0811120485 | C8: Общий Сатино
A11: Ответственный за снятие показаний | C11: _________________________ ( _____________________ ) | F11: Стафеева Е.В.

Sheet Без счетчиков
A1: 81 | B1: индивидуал, не вынес счетчик
A2: 106
A3: 114
A4: 165
A5: 169 | B5: не продан
A6: 170 | B6: не продан
A7: 175 | B7: не продан
A8: 176 | B8: не продан
A9: 192
