Workbook

Sheet Январь
A1: № | B1: Ноябрь | C1: Декабрь | D1: Январь | E1: потребл. за мес.
A2: 1 | B2: =[1]Ноябрь!D2 -> 0 | C2: =[1]Декабрь!D2 -> 0 | E2: =D2-C2 -> 0
A3: 2 | B3: =[1]Ноябрь!D3 -> 245 | C3: =[1]Декабрь!D3 -> 245 | D3: 245 | E3: =D3-C3 -> 0
A4: 3 | B4: =[1]Ноябрь!D4 -> 0 | C4: =[1]Декабрь!D4 -> 0 | E4: =D4-C4 -> 0
A5: 4.5 | B5: =[1]Ноябрь!D5 -> 42181 | C5: =[1]Декабрь!D5 -> 42181 | D5: 42181 | E5: =D5-C5 -> 0
A6: 6 | B6: =[1]Ноябрь!D6 -> 28247 | C6: =[1]Декабрь!D6 -> 28884 | D6: 30309 | E6: =D6-C6 -> 1425
A7: 7.8 | B7: =[1]Ноябрь!D7 -> 74521 | C7: =[1]Декабрь!D7 -> 76883 | D7: 81164 | E7: =D7-C7 -> 4281
A8: 9.1 | B8: =[1]Ноябрь!D8 -> 16575 | C8: =[1]Декабрь!D8 -> 17066 | D8: 18656 | E8: =D8-C8 -> 1590 | H8: 4946
A9: 11 | B9: =[1]Ноябрь!D9 -> 1135 | C9: =[1]Декабрь!D9 -> 1135 | D9: 1193 | E9: =D9-C9 -> 58
A10: 12.13 | B10: =[1]Ноябрь!D10 -> 38457 | C10: =[1]Декабрь!D10 -> 39665 | D10: 41729 | E10: =D10-C10 -> 2064
A11: 14.15 | B11: =[1]Ноябрь!D11 -> 2124 | C11: =[1]Декабрь!D11 -> 3139 | D11: 5007 | E11: =D11-C11 -> 1868
A12: 16 | B12: =[1]Ноябрь!D12 -> 3311 | C12: =[1]Декабрь!D12 -> 3311 | D12: 3311 | E12: =D12-C12 -> 0
A13: 17 | B13: =[1]Ноябрь!D13 -> 0 | C13: =[1]Декабрь!D13 -> 0 | E13: =D13-C13 -> 0
A14: 18 | B14: =[1]Ноябрь!D14 -> 0 | C14: =[1]Декабрь!D14 -> 0 | E14: =D14-C14 -> 0
A15: 19 | B15: =[1]Ноябрь!D15 -> 629 | C15: =[1]Декабрь!D15 -> 629 | D15: 629 | E15: =D15-C15 -> 0
A16: 20 | B16: =[1]Ноябрь!D16 -> 7536 | C16: =[1]Декабрь!D16 -> 7656 | D16: 7656 | E16: =D16-C16 -> 0
A17: 21.22 | B17: =[1]Ноябрь!D17 -> 9034 | C17: =[1]Декабрь!D17 -> 9393 | D17: 9454 | E17: =D17-C17 -> 61
A18: 23 | B18: =[1]Ноябрь!D18 -> 3306 | C18: =[1]Декабрь!D18 -> 3315 | D18: 3411 | E18: =D18-C18 -> 96
A19: 24 | B19: =[1]Ноябрь!D19 -> 44888 | C19: =[1]Декабрь!D19 -> 46247 | D19: 48486 | E19: =D19-C19 -> 2239
A20: 25 | B20: =[1]Ноябрь!D20 -> 0 | C20: =[1]Декабрь!D20 -> 0 | E20: =D20-C20 -> 0
A21: 26 | B21: =[1]Ноябрь!D21 -> 1763 | C21: =[1]Декабрь!D21 -> 1763 | D21: 1763 | E21: =D21-C21 -> 0
A22: 27 | B22: =[1]Ноябрь!D22 -> 0 | C22: =[1]Декабрь!D22 -> 0 | E22: =D22-C22 -> 0
A23: 28.29 | B23: =[1]Ноябрь!D23 -> 36250 | C23: =[1]Декабрь!D23 -> 36250 | D23: 36250 | E23: =D23-C23 -> 0
A24: 30 | B24: =[1]Ноябрь!D24 -> 2469 | C24: =[1]Декабрь!D24 -> 2469 | D24: 2469 | E24: =D24-C24 -> 0
A25: 31 | B25: =[1]Ноябрь!D25 -> 78 | C25: =[1]Декабрь!D25 -> 78 | D25: 78 | E25: =D25-C25 -> 0
A26: 32 | B26: =[1]Ноябрь!D26 -> 4938 | C26: =[1]Декабрь!D26 -> 4938 | D26: 4938 | E26: =D26-C26 -> 0
A27: 33 | B27: =[1]Ноябрь!D27 -> 0 | C27: =[1]Декабрь!D27 -> 0 | E27: =D27-C27 -> 0
A28: 34 | B28: =[1]Ноябрь!D28 -> 2156 | C28: =[1]Декабрь!D28 -> 2156 | D28: 2156 | E28: =D28-C28 -> 0
A29: 35 | B29: =[1]Ноябрь!D29 -> 0 | C29: =[1]Декабрь!D29 -> 0 | E29: =D29-C29 -> 0
A30: 36 | B30: =[1]Ноябрь!D30 -> 3628 | C30: =[1]Декабрь!D30 -> 3635 | D30: 3643 | E30: =D30-C30 -> 8
A31: 37 | B31: =[1]Ноябрь!D31 -> 13061 | C31: =[1]Декабрь!D31 -> 13398 | D31: 13927 | E31: =D31-C31 -> 529
A32: 38 | B32: =[1]Ноябрь!D32 -> 612 | C32: =[1]Декабрь!D32 -> 622 | D32: 658 | E32: =D32-C32 -> 36
A33: 39.4 | B33: =[1]Ноябрь!D33 -> 55465 | C33: =[1]Декабрь!D33 -> 56089 | D33: 57089 | E33: =D33-C33 -> 1000
A34: 41-43 | B34: =[1]Ноябрь!D34 -> 20289 | C34: =[1]Декабрь!D34 -> 20297 | D34: 20746 | E34: =D34-C34 -> 449
A35: 44 | B35: =[1]Ноябрь!D35 -> 993 | C35: =[1]Декабрь!D35 -> 993 | D35: 993 | E35: =D35-C35 -> 0
A36: 45 | B36: =[1]Ноябрь!D36 -> 1355 | C36: =[1]Декабрь!D36 -> 1355 | D36: 1355 | E36: =D36-C36 -> 0
A37: 46 | B37: =[1]Ноябрь!D37 -> 5766 | C37: =[1]Декабрь!D37 -> 5766 | D37: 5766 | E37: =D37-C37 -> 0
A38: 47-49 | B38: =[1]Ноябрь!D38 -> 30116 | C38: =[1]Декабрь!D38 -> 30125 | D38: 30292 | E38: =D38-C38 -> 167
A39: 50.51 | B39: =[1]Ноябрь!D39 -> 5619 | C39: =[1]Декабрь!D39 -> 5619 | D39: 5827 | E39: =D39-C39 -> 208
A40: 52 | B40: =[1]Ноябрь!D40 -> 7766 | C40: =[1]Декабрь!D40 -> 8059 | D40: 8454 | E40: =D40-C40 -> 395
A41: 53-56 | B41: =[1]Ноябрь!D41 -> 833 | C41: =[1]Декабрь!D41 -> 833 | D41: 833 | E41: =D41-C41 -> 0
A42: 57 | B42: =[1]Ноябрь!D42 -> 2 | C42: =[1]Декабрь!D42 -> 2 | D42: 2 | E42: =D42-C42 -> 0
A43: 58 | B43: =[1]Ноябрь!D43 -> 6 | C43: =[1]Декабрь!D43 -> 6 | D43: 6 | E43: =D43-C43 -> 0
A44: 59 | B44: =[1]Ноябрь!D44 -> 0 | C44: =[1]Декабрь!D44 -> 0 | E44: =D44-C44 -> 0
A45: 60.61 | B45: =[1]Ноябрь!D45 -> 5770 | C45: =[1]Декабрь!D45 -> 5790 | D45: 5801 | E45: =D45-C45 -> 11
A46: 62 | B46: =[1]Ноябрь!D46 -> 6406 | C46: =[1]Декабрь!D46 -> 6406 | D46: 6406 | E46: =D46-C46 -> 0
A47: 63 | B47: =[1]Ноябрь!D47 -> 0 | C47: =[1]Декабрь!D47 -> 0 | E47: =D47-C47 -> 0
A48: 64 | B48: =[1]Ноябрь!D48 -> 0 | C48: =[1]Декабрь!D48 -> 0 | E48: =D48-C48 -> 0
A49: 65 | B49: =[1]Ноябрь!D49 -> 0 | C49: =[1]Декабрь!D49 -> 0 | E49: =D49-C49 -> 0
A50: 66 | B50: =[1]Ноябрь!D50 -> 5558 | C50: =[1]Декабрь!D50 -> 5563 | D50: 5799 | E50: =D50-C50 -> 236
A51: 67 | B51: =[1]Ноябрь!D51 -> 1400 | C51: =[1]Декабрь!D51 -> 1400 | D51: 1400 | E51: =D51-C51 -> 0
A52: 68 | B52: =[1]Ноябрь!D52 -> 8064 | C52: =[1]Декабрь!D52 -> 8064 | D52: 8064 | E52: =D52-C52 -> 0
A53: 69 | B53: =[1]Ноябрь!D53 -> 3287 | C53: =[1]Декабрь!D53 -> 3287 | D53: 3287 | E53: =D53-C53 -> 0
A54: Сторож | B54: =[1]Ноябрь!D54 -> 63900 | C54: =[1]Декабрь!D54 -> 63950 | D54: 64000 | E54: =D54-C54 -> 50
A55: Скваж | B55: =[1]Ноябрь!D55 -> 79 | C55: =[1]Декабрь!D55 -> 79 | D55: 79 | E55: =D55-C55 -> 0
A56: 70 | B56: =[1]Ноябрь!D56 -> 12868 | C56: =[1]Декабрь!D56 -> 12868 | D56: 12868 | E56: =D56-C56 -> 0
A57: 71 | B57: =[1]Ноябрь!D57 -> 460 | C57: =[1]Декабрь!D57 -> 460 | D57: 460 | E57: =D57-C57 -> 0
A58: 72 | B58: =[1]Ноябрь!D58 -> 249 | C58: =[1]Декабрь!D58 -> 249 | D58: 249 | E58: =D58-C58 -> 0
A59: 73 | B59: =[1]Ноябрь!D59 -> 4551 | C59: =[1]Декабрь!D59 -> 4551 | D59: 4551 | E59: =D59-C59 -> 0
A60: 74 | B60: =[1]Ноябрь!D60 -> 0 | C60: =[1]Декабрь!D60 -> 0 | E60: =D60-C60 -> 0
A61: 75 | B61: =[1]Ноябрь!D61 -> 0 | C61: =[1]Декабрь!D61 -> 0 | E61: =D61-C61 -> 0
A62: 76 | B62: =[1]Ноябрь!D62 -> 1414 | C62: =[1]Декабрь!D62 -> 1414 | D62: 1414 | E62: =D62-C62 -> 0
A63: 77 | B63: =[1]Ноябрь!D63 -> 36812 | C63: =[1]Декабрь!D63 -> 37795 | D63: 39033 | E63: =D63-C63 -> 1238
A64: 78 | B64: =[1]Ноябрь!D64 -> 33755 | C64: =[1]Декабрь!D64 -> 33755 | D64: 33755 | E64: =D64-C64 -> 0
A65: 79 | B65: =[1]Ноябрь!D65 -> 24739 | C65: =[1]Декабрь!D65 -> 25653 | D65: 27589 | E65: =D65-C65 -> 1936
A66: 80 | B66: =[1]Ноябрь!D66 -> 0 | C66: =[1]Декабрь!D66 -> 0 | E66: =D66-C66 -> 0
A67: 81 | B67: =[1]Ноябрь!D67 -> 24150 | C67: =[1]Декабрь!D67 -> 24700 | D67: 25500 | E67: =D67-C67 -> 800
A68: 82 | B68: =[1]Ноябрь!D68 -> 3264 | C68: =[1]Декабрь!D68 -> 3343 | D68: 3610 | E68: =D68-C68 -> 267
A69: 83 | B69: =[1]Ноябрь!D69 -> 0 | C69: =[1]Декабрь!D69 -> 0 | E69: =D69-C69 -> 0
A70: 84 | B70: =[1]Ноябрь!D70 -> 0 | C70: =[1]Декабрь!D70 -> 0 | E70: =D70-C70 -> 0
A71: 85 | B71: =[1]Ноябрь!D71 -> 0 | C71: =[1]Декабрь!D71 -> 0 | E71: =D71-C71 -> 0
A72: 86 | B72: =[1]Ноябрь!D72 -> 3543 | C72: =[1]Декабрь!D72 -> 3954 | D72: 5058 | E72: =D72-C72 -> 1104
A73: 87 | B73: =[1]Ноябрь!D73 -> 9739 | C73: =[1]Декабрь!D73 -> 9739 | D73: 9801 | E73: =D73-C73 -> 62
A74: 88.89 | B74: =[1]Ноябрь!D74 -> 6248 | C74: =[1]Декабрь!D74 -> 6248 | D74: 6248 | E74: =D74-C74 -> 0
A75: 90 | B75: =[1]Ноябрь!D75 -> 9938 | C75: =[1]Декабрь!D75 -> 9938 | D75: 9938 | E75: =D75-C75 -> 0
A76: 91 | B76: =[1]Ноябрь!D76 -> 6397 | C76: =[1]Декабрь!D76 -> 6397 | D76: 6397 | E76: =D76-C76 -> 0
A77: 92 | B77: =[1]Ноябрь!D77 -> 0 | C77: =[1]Декабрь!D77 -> 0 | E77: =D77-C77 -> 0
A78: 93 | B78: =[1]Ноябрь!D78 -> 0 | C78: =[1]Декабрь!D78 -> 0 | E78: =D78-C78 -> 0
A79: 94 | B79: =[1]Ноябрь!D79 -> 0 | C79: =[1]Декабрь!D79 -> 0 | E79: =D79-C79 -> 0
A80: 95 | B80: =[1]Ноябрь!D80 -> 0 | C80: =[1]Декабрь!D80 -> 0 | E80: =D80-C80 -> 0
A81: 96 | B81: =[1]Ноябрь!D81 -> 0 | C81: =[1]Декабрь!D81 -> 0 | E81: =D81-C81 -> 0
A82: 97 | B82: =[1]Ноябрь!D82 -> 2.5 | C82: =[1]Декабрь!D82 -> 2.5 | D82: 2.5 | E82: =D82-C82 -> 0
A83: 98 | B83: =[1]Ноябрь!D83 -> 0 | C83: =[1]Декабрь!D83 -> 0 | E83: =D83-C83 -> 0
A84: 99 | B84: =[1]Ноябрь!D84 -> 8257 | C84: =[1]Декабрь!D84 -> 8343 | D84: 8532 | E84: =D84-C84 -> 189
A85: 100 | B85: =[1]Ноябрь!D85 -> 0 | C85: =[1]Декабрь!D85 -> 0 | E85: =D85-C85 -> 0
A86: 101.102 | B86: =[1]Ноябрь!D86 -> 15870 | C86: =[1]Декабрь!D86 -> 17908 | D86: 20641 | E86: =D86-C86 -> 2733
A87: 103 | B87: =[1]Ноябрь!D87 -> 1264 | C87: =[1]Декабрь!D87 -> 1264 | D87: 1264 | E87: =D87-C87 -> 0
A88: 104 | B88: =[1]Ноябрь!D88 -> 110 | C88: =[1]Декабрь!D88 -> 110 | D88: 110 | E88: =D88-C88 -> 0
A89: 105 | B89: =[1]Ноябрь!D89 -> 0 | C89: =[1]Декабрь!D89 -> 0 | E89: =D89-C89 -> 0
A90: 106 | B90: =[1]Ноябрь!D90 -> 0 | C90: =[1]Декабрь!D90 -> 0 | E90: =D90-C90 -> 0
A91: 107.108 | B91: =[1]Ноябрь!D91 -> 67 | C91: =[1]Декабрь!D91 -> 67 | D91: 67 | E91: =D91-C91 -> 0
A92: 109 | B92: =[1]Ноябрь!D92 -> 6328 | C92: =[1]Декабрь!D92 -> 6331 | D92: 6350 | E92: =D92-C92 -> 19
A93: 110 | B93: =[1]Ноябрь!D93 -> 789 | C93: =[1]Декабрь!D93 -> 789 | D93: 789 | E93: =D93-C93 -> 0
A94: 111 | B94: =[1]Ноябрь!D94 -> 4612 | C94: =[1]Декабрь!D94 -> 4612 | D94: 4612 | E94: =D94-C94 -> 0
A95: 112 | B95: =[1]Ноябрь!D95 -> 6587 | C95: =[1]Декабрь!D95 -> 6587 | D95: 6587 | E95: =D95-C95 -> 0
A96: 113 | B96: =[1]Ноябрь!D96 -> 12034 | C96: =[1]Декабрь!D96 -> 12034 | D96: 12034 | E96: =D96-C96 -> 0
A97: 114 | B97: =[1]Ноябрь!D97 -> 0 | C97: =[1]Декабрь!D97 -> 0 | E97: =D97-C97 -> 0
A98: 115 | B98: =[1]Ноябрь!D98 -> 1243 | C98: =[1]Декабрь!D98 -> 1244 | D98: 1244 | E98: =D98-C98 -> 0
A99: 116 | B99: =[1]Ноябрь!D99 -> 0 | C99: =[1]Декабрь!D99 -> 0 | E99: =D99-C99 -> 0
A100: 117 | B100: =[1]Ноябрь!D100 -> 97592 | C100: =[1]Декабрь!D100 -> 99508 | D100: 102959 | E100: =D100-C100 -> 3451
...

Sheet Февраль
A1: № | B1: Декабрь | C1: Январь | D1: Февраль | E1: потребл. за мес.
A2: 1 | B2: =Январь!C2 -> 0 | C2: =Январь!D2 -> 0 | E2: =D2-C2 -> 0
A3: 2 | B3: =Январь!C3 -> 245 | C3: =Январь!D3 -> 245 | D3: 245 | E3: =D3-C3 -> 0
A4: 3 | B4: =Январь!C4 -> 0 | C4: =Январь!D4 -> 0 | E4: =D4-C4 -> 0
A5: 4.5 | B5: =Январь!C5 -> 42181 | C5: =Январь!D5 -> 42181 | D5: 42181 | E5: =D5-C5 -> 0
A6: 6 | B6: =Январь!C6 -> 28884 | C6: =Январь!D6 -> 30309 | D6: 31636 | E6: =D6-C6 -> 1327
A7: 7.8 | B7: =Январь!C7 -> 76883 | C7: =Январь!D7 -> 81164 | D7: 85065 | E7: =D7-C7 -> 3901
A8: 9.1 | B8: =Январь!C8 -> 17066 | C8: =Январь!D8 -> 18656 | D8: 19744 | E8: =D8-C8 -> 1088 | H8: 6033
A9: 11 | B9: =Январь!C9 -> 1135 | C9: =Январь!D9 -> 1193 | D9: 1193 | E9: =D9-C9 -> 0
A10: 12.13 | B10: =Январь!C10 -> 39665 | C10: =Январь!D10 -> 41729 | D10: 43541 | E10: =D10-C10 -> 1812
A11: 14.15 | B11: =Январь!C11 -> 3139 | C11: =Январь!D11 -> 5007 | D11: 6813 | E11: =D11-C11 -> 1806
A12: 16 | B12: =Январь!C12 -> 3311 | C12: =Январь!D12 -> 3311 | D12: 3311 | E12: =D12-C12 -> 0
A13: 17 | B13: =Январь!C13 -> 0 | C13: =Январь!D13 -> 0 | E13: =D13-C13 -> 0
A14: 18 | B14: =Январь!C14 -> 0 | C14: =Январь!D14 -> 0 | E14: =D14-C14 -> 0
A15: 19 | B15: =Январь!C15 -> 629 | C15: =Январь!D15 -> 629 | D15: 629 | E15: =D15-C15 -> 0
A16: 20 | B16: =Январь!C16 -> 7656 | C16: =Январь!D16 -> 7656 | D16: 7656 | E16: =D16-C16 -> 0
A17: 21.22 | B17: =Январь!C17 -> 9393 | C17: =Январь!D17 -> 9454 | D17: 9481 | E17: =D17-C17 -> 27
A18: 23 | B18: =Январь!C18 -> 3315 | C18: =Январь!D18 -> 3411 | D18: 3520 | E18: =D18-C18 -> 109
A19: 24 | B19: =Январь!C19 -> 46247 | C19: =Январь!D19 -> 48486 | D19: 48916 | E19: =D19-C19 -> 430
A20: 25 | B20: =Январь!C20 -> 0 | C20: =Январь!D20 -> 0 | E20: =D20-C20 -> 0
A21: 26 | B21: =Январь!C21 -> 1763 | C21: =Январь!D21 -> 1763 | D21: 1763 | E21: =D21-C21 -> 0
A22: 27 | B22: =Январь!C22 -> 0 | C22: =Январь!D22 -> 0 | E22: =D22-C22 -> 0
A23: 28.29 | B23: =Январь!C23 -> 36250 | C23: =Январь!D23 -> 36250 | D23: 36250 | E23: =D23-C23 -> 0
A24: 30 | B24: =Январь!C24 -> 2469 | C24: =Январь!D24 -> 2469 | D24: 2469 | E24: =D24-C24 -> 0
A25: 31 | B25: =Январь!C25 -> 78 | C25: =Январь!D25 -> 78 | D25: 78 | E25: =D25-C25 -> 0
A26: 32 | B26: =Январь!C26 -> 4938 | C26: =Январь!D26 -> 4938 | D26: 4938 | E26: =D26-C26 -> 0
A27: 33 | B27: =Январь!C27 -> 0 | C27: =Январь!D27 -> 0 | E27: =D27-C27 -> 0
A28: 34 | B28: =Январь!C28 -> 2156 | C28: =Январь!D28 -> 2156 | D28: 2157 | E28: =D28-C28 -> 1
A29: 35 | B29: =Январь!C29 -> 0 | C29: =Январь!D29 -> 0 | E29: =D29-C29 -> 0
A30: 36 | B30: =Январь!C30 -> 3635 | C30: =Январь!D30 -> 3643 | D30: 3685 | E30: =D30-C30 -> 42
A31: 37 | B31: =Январь!C31 -> 13398 | C31: =Январь!D31 -> 13927 | D31: 14360 | E31: =D31-C31 -> 433
A32: 38 | B32: =Январь!C32 -> 622 | C32: =Январь!D32 -> 658 | D32: 661 | E32: =D32-C32 -> 3
A33: 39.4 | B33: =Январь!C33 -> 56089 | C33: =Январь!D33 -> 57089 | D33: 58176 | E33: =D33-C33 -> 1087
A34: 41-43 | B34: =Январь!C34 -> 20297 | C34: =Январь!D34 -> 20746 | D34: 20759 | E34: =D34-C34 -> 13
A35: 44 | B35: =Январь!C35 -> 993 | C35: =Январь!D35 -> 993 | D35: 993 | E35: =D35-C35 -> 0
A36: 45 | B36: =Январь!C36 -> 1355 | C36: =Январь!D36 -> 1355 | D36: 1355 | E36: =D36-C36 -> 0
A37: 46 | B37: =Январь!C37 -> 5766 | C37: =Январь!D37 -> 5766 | D37: 5766 | E37: =D37-C37 -> 0
A38: 47-49 | B38: =Январь!C38 -> 30125 | C38: =Январь!D38 -> 30292 | D38: 30300 | E38: =D38-C38 -> 8
A39: 50.51 | B39: =Январь!C39 -> 5619 | C39: =Январь!D39 -> 5827 | D39: 5827 | E39: =D39-C39 -> 0
A40: 52 | B40: =Январь!C40 -> 8059 | C40: =Январь!D40 -> 8454 | D40: 8765 | E40: =D40-C40 -> 311
A41: 53-56 | B41: =Январь!C41 -> 833 | C41: =Январь!D41 -> 833 | D41: 833 | E41: =D41-C41 -> 0
A42: 57 | B42: =Январь!C42 -> 2 | C42: =Январь!D42 -> 2 | D42: 2 | E42: =D42-C42 -> 0
A43: 58 | B43: =Январь!C43 -> 6 | C43: =Январь!D43 -> 6 | D43: 6 | E43: =D43-C43 -> 0
A44: 59 | B44: =Январь!C44 -> 0 | C44: =Январь!D44 -> 0 | E44: =D44-C44 -> 0
A45: 60.61 | B45: =Январь!C45 -> 5790 | C45: =Январь!D45 -> 5801 | D45: 5801 | E45: =D45-C45 -> 0
A46: 62 | B46: =Январь!C46 -> 6406 | C46: =Январь!D46 -> 6406 | D46: 6406 | E46: =D46-C46 -> 0
A47: 63 | B47: =Январь!C47 -> 0 | C47: =Январь!D47 -> 0 | E47: =D47-C47 -> 0
A48: 64 | B48: =Январь!C48 -> 0 | C48: =Январь!D48 -> 0 | E48: =D48-C48 -> 0
A49: 65 | B49: =Январь!C49 -> 0 | C49: =Январь!D49 -> 0 | E49: =D49-C49 -> 0
A50: 66 | B50: =Январь!C50 -> 5563 | C50: =Январь!D50 -> 5799 | D50: 5803 | E50: =D50-C50 -> 4
A51: 67 | B51: =Январь!C51 -> 1400 | C51: =Январь!D51 -> 1400 | D51: 1400 | E51: =D51-C51 -> 0
A52: 68 | B52: =Январь!C52 -> 8064 | C52: =Январь!D52 -> 8064 | D52: 8064 | E52: =D52-C52 -> 0
A53: 69 | B53: =Январь!C53 -> 3287 | C53: =Январь!D53 -> 3287 | D53: 3287 | E53: =D53-C53 -> 0
A54: Сторож | B54: =Январь!C54 -> 63950 | C54: =Январь!D54 -> 64000 | D54: 64050 | E54: =D54-C54 -> 50
A55: Скваж | B55: =Январь!C55 -> 79 | C55: =Январь!D55 -> 79 | D55: 79 | E55: =D55-C55 -> 0
A56: 70 | B56: =Январь!C56 -> 12868 | C56: =Январь!D56 -> 12868 | D56: 12868 | E56: =D56-C56 -> 0
A57: 71 | B57: =Январь!C57 -> 460 | C57: =Январь!D57 -> 460 | D57: 460 | E57: =D57-C57 -> 0
A58: 72 | B58: =Январь!C58 -> 249 | C58: =Январь!D58 -> 249 | D58: 249 | E58: =D58-C58 -> 0
A59: 73 | B59: =Январь!C59 -> 4551 | C59: =Январь!D59 -> 4551 | D59: 4551 | E59: =D59-C59 -> 0
A60: 74 | B60: =Январь!C60 -> 0 | C60: =Январь!D60 -> 0 | E60: =D60-C60 -> 0
A61: 75 | B61: =Январь!C61 -> 0 | C61: =Январь!D61 -> 0 | E61: =D61-C61 -> 0
A62: 76 | B62: =Январь!C62 -> 1414 | C62: =Январь!D62 -> 1414 | D62: 1414 | E62: =D62-C62 -> 0
A63: 77 | B63: =Январь!C63 -> 37795 | C63: =Январь!D63 -> 39033 | D63: 40271 | E63: =D63-C63 -> 1238
A64: 78 | B64: =Январь!C64 -> 33755 | C64: =Январь!D64 -> 33755 | D64: 33755 | E64: =D64-C64 -> 0
A65: 79 | B65: =Январь!C65 -> 25653 | C65: =Январь!D65 -> 27589 | D65: 29047 | E65: =D65-C65 -> 1458
A66: 80 | B66: =Январь!C66 -> 0 | C66: =Январь!D66 -> 0 | E66: =D66-C66 -> 0
A67: 81 | B67: =Январь!C67 -> 24700 | C67: =Январь!D67 -> 25500 | D67: 26550 | E67: =D67-C67 -> 1050
A68: 82 | B68: =Январь!C68 -> 3343 | C68: =Январь!D68 -> 3610 | D68: 3610 | E68: =D68-C68 -> 0
A69: 83 | B69: =Январь!C69 -> 0 | C69: =Январь!D69 -> 0 | E69: =D69-C69 -> 0
A70: 84 | B70: =Январь!C70 -> 0 | C70: =Январь!D70 -> 0 | E70: =D70-C70 -> 0
A71: 85 | B71: =Январь!C71 -> 0 | C71: =Январь!D71 -> 0 | E71: =D71-C71 -> 0
A72: 86 | B72: =Январь!C72 -> 3954 | C72: =Январь!D72 -> 5058 | D72: 5899 | E72: =D72-C72 -> 841
A73: 87 | B73: =Январь!C73 -> 9739 | C73: =Январь!D73 -> 9801 | D73: 9801 | E73: =D73-C73 -> 0
A74: 88.89 | B74: =Январь!C74 -> 6248 | C74: =Январь!D74 -> 6248 | D74: 6248 | E74: =D74-C74 -> 0
A75: 90 | B75: =Январь!C75 -> 9938 | C75: =Январь!D75 -> 9938 | D75: 9938 | E75: =D75-C75 -> 0
A76: 91 | B76: =Январь!C76 -> 6397 | C76: =Январь!D76 -> 6397 | D76: 6397 | E76: =D76-C76 -> 0
A77: 92 | B77: =Январь!C77 -> 0 | C77: =Январь!D77 -> 0 | E77: =D77-C77 -> 0
A78: 93 | B78: =Январь!C78 -> 0 | C78: =Январь!D78 -> 0 | E78: =D78-C78 -> 0
A79: 94 | B79: =Январь!C79 -> 0 | C79: =Январь!D79 -> 0 | E79: =D79-C79 -> 0
A80: 95 | B80: =Январь!C80 -> 0 | C80: =Январь!D80 -> 0 | E80: =D80-C80 -> 0
A81: 96 | B81: =Январь!C81 -> 0 | C81: =Январь!D81 -> 0 | E81: =D81-C81 -> 0
A82: 97 | B82: =Январь!C82 -> 2.5 | C82: =Январь!D82 -> 2.5 | D82: 2.5 | E82: =D82-C82 -> 0
A83: 98 | B83: =Январь!C83 -> 0 | C83: =Январь!D83 -> 0 | E83: =D83-C83 -> 0
A84: 99 | B84: =Январь!C84 -> 8343 | C84: =Январь!D84 -> 8532 | D84: 8532 | E84: =D84-C84 -> 0
A85: 100 | B85: =Январь!C85 -> 0 | C85: =Январь!D85 -> 0 | E85: =D85-C85 -> 0
A86: 101.102 | B86: =Январь!C86 -> 17908 | C86: =Январь!D86 -> 20641 | D86: 23097 | E86: =D86-C86 -> 2456
A87: 103 | B87: =Январь!C87 -> 1264 | C87: =Январь!D87 -> 1264 | D87: 1264 | E87: =D87-C87 -> 0
A88: 104 | B88: =Январь!C88 -> 110 | C88: =Январь!D88 -> 110 | D88: 110 | E88: =D88-C88 -> 0
A89: 105 | B89: =Январь!C89 -> 0 | C89: =Январь!D89 -> 0 | E89: =D89-C89 -> 0
A90: 106 | B90: =Январь!C90 -> 0 | C90: =Январь!D90 -> 0 | E90: =D90-C90 -> 0
A91: 107.108 | B91: =Январь!C91 -> 67 | C91: =Январь!D91 -> 67 | D91: 67 | E91: =D91-C91 -> 0
A92: 109 | B92: =Январь!C92 -> 6331 | C92: =Январь!D92 -> 6350 | D92: 6350 | E92: =D92-C92 -> 0
A93: 110 | B93: =Январь!C93 -> 789 | C93: =Январь!D93 -> 789 | D93: 789 | E93: =D93-C93 -> 0
A94: 111 | B94: =Январь!C94 -> 4612 | C94: =Январь!D94 -> 4612 | D94: 4612 | E94: =D94-C94 -> 0
A95: 112 | B95: =Январь!C95 -> 6587 | C95: =Январь!D95 -> 6587 | D95: 6587 | E95: =D95-C95 -> 0
A96: 113 | B96: =Январь!C96 -> 12034 | C96: =Январь!D96 -> 12034 | D96: 12034 | E96: =D96-C96 -> 0
A97: 114 | B97: =Январь!C97 -> 0 | C97: =Январь!D97 -> 0 | E97: =D97-C97 -> 0
A98: 115 | B98: =Январь!C98 -> 1244 | C98: =Январь!D98 -> 1244 | D98: 1244 | E98: =D98-C98 -> 0
A99: 116 | B99: =Январь!C99 -> 0 | C99: =Январь!D99 -> 0 | E99: =D99-C99 -> 0
A100: 117 | B100: =Январь!C100 -> 99508 | C100: =Январь!D100 -> 102959 | D100: 106421 | E100: =D100-C100 -> 3462
...

Sheet Март
A1: № | B1: Январь | C1: Февраль | D1: Март | E1: потребл. за мес.
A2: 1 | B2: =Январь!D2 -> 0 | C2: =Февраль!D2 -> 0 | E2: =D2-C2 -> 0
A3: 2 | B3: =Январь!D3 -> 245 | C3: =Февраль!D3 -> 245 | D3: 245 | E3: =D3-C3 -> 0
A4: 3 | B4: =Январь!D4 -> 0 | C4: =Февраль!D4 -> 0 | E4: =D4-C4 -> 0
A5: 4.5 | B5: =Январь!D5 -> 42181 | C5: =Февраль!D5 -> 42181 | D5: 42181 | E5: =D5-C5 -> 0
A6: 6 | B6: =Январь!D6 -> 30309 | C6: =Февраль!D6 -> 31636 | D6: 32857 | E6: =D6-C6 -> 1221
A7: 7.8 | B7: =Январь!D7 -> 81164 | C7: =Февраль!D7 -> 85065 | D7: 86530 | E7: =D7-C7 -> 1465
A8: 9.1 | B8: =Январь!D8 -> 18656 | C8: =Февраль!D8 -> 19744 | D8: 20708 | E8: =D8-C8 -> 964 | H8: 6996
A9: 11 | B9: =Январь!D9 -> 1193 | C9: =Февраль!D9 -> 1193 | D9: 1193 | E9: =D9-C9 -> 0
A10: 12.13 | B10: =Январь!D10 -> 41729 | C10: =Февраль!D10 -> 43541 | D10: 44681 | E10: =D10-C10 -> 1140
A11: 14.15 | B11: =Январь!D11 -> 5007 | C11: =Февраль!D11 -> 6813 | D11: 7937 | E11: =D11-C11 -> 1124
A12: 16 | B12: =Январь!D12 -> 3311 | C12: =Февраль!D12 -> 3311 | D12: 3311 | E12: =D12-C12 -> 0
A13: 17 | B13: =Январь!D13 -> 0 | C13: =Февраль!D13 -> 0 | E13: =D13-C13 -> 0
A14: 18 | B14: =Январь!D14 -> 0 | C14: =Февраль!D14 -> 0 | E14: =D14-C14 -> 0
A15: 19 | B15: =Январь!D15 -> 629 | C15: =Февраль!D15 -> 629 | D15: 629 | E15: =D15-C15 -> 0
A16: 20 | B16: =Январь!D16 -> 7656 | C16: =Февраль!D16 -> 7656 | D16: 7656 | E16: =D16-C16 -> 0
A17: 21.22 | B17: =Январь!D17 -> 9454 | C17: =Февраль!D17 -> 9481 | D17: 9566 | E17: =D17-C17 -> 85
A18: 23 | B18: =Январь!D18 -> 3411 | C18: =Февраль!D18 -> 3520 | D18: 3611 | E18: =D18-C18 -> 91
A19: 24 | B19: =Январь!D19 -> 48486 | C19: =Февраль!D19 -> 48916 | D19: 49358 | E19: =D19-C19 -> 442
A20: 25 | B20: =Январь!D20 -> 0 | C20: =Февраль!D20 -> 0 | E20: =D20-C20 -> 0
A21: 26 | B21: =Январь!D21 -> 1763 | C21: =Февраль!D21 -> 1763 | D21: 1763 | E21: =D21-C21 -> 0
A22: 27 | B22: =Январь!D22 -> 0 | C22: =Февраль!D22 -> 0 | E22: =D22-C22 -> 0
A23: 28.29 | B23: =Январь!D23 -> 36250 | C23: =Февраль!D23 -> 36250 | D23: 36250 | E23: =D23-C23 -> 0
A24: 30 | B24: =Январь!D24 -> 2469 | C24: =Февраль!D24 -> 2469 | D24: 2469 | E24: =D24-C24 -> 0
A25: 31 | B25: =Январь!D25 -> 78 | C25: =Февраль!D25 -> 78 | D25: 78 | E25: =D25-C25 -> 0
A26: 32 | B26: =Январь!D26 -> 4938 | C26: =Февраль!D26 -> 4938 | D26: 4938 | E26: =D26-C26 -> 0
A27: 33 | B27: =Январь!D27 -> 0 | C27: =Февраль!D27 -> 0 | E27: =D27-C27 -> 0
A28: 34 | B28: =Январь!D28 -> 2156 | C28: =Февраль!D28 -> 2157 | D28: 2157 | E28: =D28-C28 -> 0
A29: 35 | B29: =Январь!D29 -> 0 | C29: =Февраль!D29 -> 0 | E29: =D29-C29 -> 0
A30: 36 | B30: =Январь!D30 -> 3643 | C30: =Февраль!D30 -> 3685 | D30: 3685 | E30: =D30-C30 -> 0
A31: 37 | B31: =Январь!D31 -> 13927 | C31: =Февраль!D31 -> 14360 | D31: 14739 | E31: =D31-C31 -> 379
A32: 38 | B32: =Январь!D32 -> 658 | C32: =Февраль!D32 -> 661 | D32: 679 | E32: =D32-C32 -> 18
A33: 39.4 | B33: =Январь!D33 -> 57089 | C33: =Февраль!D33 -> 58176 | D33: 58808 | E33: =D33-C33 -> 632
A34: 41-43 | B34: =Январь!D34 -> 20746 | C34: =Февраль!D34 -> 20759 | D34: 20762 | E34: =D34-C34 -> 3
A35: 44 | B35: =Январь!D35 -> 993 | C35: =Февраль!D35 -> 993 | D35: 993 | E35: =D35-C35 -> 0
A36: 45 | B36: =Январь!D36 -> 1355 | C36: =Февраль!D36 -> 1355 | D36: 1355 | E36: =D36-C36 -> 0
A37: 46 | B37: =Январь!D37 -> 5766 | C37: =Февраль!D37 -> 5766 | D37: 5766 | E37: =D37-C37 -> 0
A38: 47-49 | B38: =Январь!D38 -> 30292 | C38: =Февраль!D38 -> 30300 | D38: 30361 | E38: =D38-C38 -> 61
A39: 50.51 | B39: =Январь!D39 -> 5827 | C39: =Февраль!D39 -> 5827 | D39: 5827 | E39: =D39-C39 -> 0
A40: 52 | B40: =Январь!D40 -> 8454 | C40: =Февраль!D40 -> 8765 | D40: 9052 | E40: =D40-C40 -> 287
A41: 53-56 | B41: =Январь!D41 -> 833 | C41: =Февраль!D41 -> 833 | D41: 833 | E41: =D41-C41 -> 0
A42: 57 | B42: =Январь!D42 -> 2 | C42: =Февраль!D42 -> 2 | D42: 2 | E42: =D42-C42 -> 0
A43: 58 | B43: =Январь!D43 -> 6 | C43: =Февраль!D43 -> 6 | D43: 6 | E43: =D43-C43 -> 0
A44: 59 | B44: =Январь!D44 -> 0 | C44: =Февраль!D44 -> 0 | E44: =D44-C44 -> 0
A45: 60.61 | B45: =Январь!D45 -> 5801 | C45: =Февраль!D45 -> 5801 | D45: 5801 | E45: =D45-C45 -> 0
A46: 62 | B46: =Январь!D46 -> 6406 | C46: =Февраль!D46 -> 6406 | D46: 6439 | E46: =D46-C46 -> 33
A47: 63 | B47: =Январь!D47 -> 0 | C47: =Февраль!D47 -> 0 | E47: =D47-C47 -> 0
A48: 64 | B48: =Январь!D48 -> 0 | C48: =Февраль!D48 -> 0 | E48: =D48-C48 -> 0
A49: 65 | B49: =Январь!D49 -> 0 | C49: =Февраль!D49 -> 0 | E49: =D49-C49 -> 0
A50: 66 | B50: =Январь!D50 -> 5799 | C50: =Февраль!D50 -> 5803 | D50: 5810 | E50: =D50-C50 -> 7
A51: 67 | B51: =Январь!D51 -> 1400 | C51: =Февраль!D51 -> 1400 | D51: 1400 | E51: =D51-C51 -> 0
A52: 68 | B52: =Январь!D52 -> 8064 | C52: =Февраль!D52 -> 8064 | D52: 8064 | E52: =D52-C52 -> 0
A53: 69 | B53: =Январь!D53 -> 3287 | C53: =Февраль!D53 -> 3287 | D53: 3287 | E53: =D53-C53 -> 0
A54: Сторож | B54: =Январь!D54 -> 64000 | C54: =Февраль!D54 -> 64050 | D54: 64100 | E54: =D54-C54 -> 50
A55: Скваж | B55: =Январь!D55 -> 79 | C55: =Февраль!D55 -> 79 | D55: 79 | E55: =D55-C55 -> 0
A56: 70 | B56: =Январь!D56 -> 12868 | C56: =Февраль!D56 -> 12868 | D56: 12868 | E56: =D56-C56 -> 0
A57: 71 | B57: =Январь!D57 -> 460 | C57: =Февраль!D57 -> 460 | D57: 460 | E57: =D57-C57 -> 0
A58: 72 | B58: =Январь!D58 -> 249 | C58: =Февраль!D58 -> 249 | D58: 249 | E58: =D58-C58 -> 0
A59: 73 | B59: =Январь!D59 -> 4551 | C59: =Февраль!D59 -> 4551 | D59: 4551 | E59: =D59-C59 -> 0
A60: 74 | B60: =Январь!D60 -> 0 | C60: =Февраль!D60 -> 0 | E60: =D60-C60 -> 0
A61: 75 | B61: =Январь!D61 -> 0 | C61: =Февраль!D61 -> 0 | E61: =D61-C61 -> 0
A62: 76 | B62: =Январь!D62 -> 1414 | C62: =Февраль!D62 -> 1414 | D62: 1414 | E62: =D62-C62 -> 0
A63: 77 | B63: =Январь!D63 -> 39033 | C63: =Февраль!D63 -> 40271 | D63: 40935 | E63: =D63-C63 -> 664
A64: 78 | B64: =Январь!D64 -> 33755 | C64: =Февраль!D64 -> 33755 | D64: 33755 | E64: =D64-C64 -> 0
A65: 79 | B65: =Январь!D65 -> 27589 | C65: =Февраль!D65 -> 29047 | D65: 30816 | E65: =D65-C65 -> 1769
A66: 80 | B66: =Январь!D66 -> 0 | C66: =Февраль!D66 -> 0 | E66: =D66-C66 -> 0
A67: 81 | B67: =Январь!D67 -> 25500 | C67: =Февраль!D67 -> 26550 | D67: 26900 | E67: =D67-C67 -> 350
A68: 82 | B68: =Январь!D68 -> 3610 | C68: =Февраль!D68 -> 3610 | D68: 3610 | E68: =D68-C68 -> 0
A69: 83 | B69: =Январь!D69 -> 0 | C69: =Февраль!D69 -> 0 | E69: =D69-C69 -> 0
A70: 84 | B70: =Январь!D70 -> 0 | C70: =Февраль!D70 -> 0 | E70: =D70-C70 -> 0
A71: 85 | B71: =Январь!D71 -> 0 | C71: =Февраль!D71 -> 0 | E71: =D71-C71 -> 0
A72: 86 | B72: =Январь!D72 -> 5058 | C72: =Февраль!D72 -> 5899 | D72: 6831 | E72: =D72-C72 -> 932
A73: 87 | B73: =Январь!D73 -> 9801 | C73: =Февраль!D73 -> 9801 | D73: 9801 | E73: =D73-C73 -> 0
A74: 88.89 | B74: =Январь!D74 -> 6248 | C74: =Февраль!D74 -> 6248 | D74: 6248 | E74: =D74-C74 -> 0
A75: 90 | B75: =Январь!D75 -> 9938 | C75: =Февраль!D75 -> 9938 | D75: 9938 | E75: =D75-C75 -> 0
A76: 91 | B76: =Январь!D76 -> 6397 | C76: =Февраль!D76 -> 6397 | D76: 6397 | E76: =D76-C76 -> 0
A77: 92 | B77: =Январь!D77 -> 0 | C77: =Февраль!D77 -> 0 | E77: =D77-C77 -> 0
A78: 93 | B78: =Январь!D78 -> 0 | C78: =Февраль!D78 -> 0 | E78: =D78-C78 -> 0
A79: 94 | B79: =Январь!D79 -> 0 | C79: =Февраль!D79 -> 0 | E79: =D79-C79 -> 0
A80: 95 | B80: =Январь!D80 -> 0 | C80: =Февраль!D80 -> 0 | E80: =D80-C80 -> 0
A81: 96 | B81: =Январь!D81 -> 0 | C81: =Февраль!D81 -> 0 | E81: =D81-C81 -> 0
A82: 97 | B82: =Январь!D82 -> 2.5 | C82: =Февраль!D82 -> 2.5 | D82: 2.5 | E82: =D82-C82 -> 0
A83: 98 | B83: =Январь!D83 -> 0 | C83: =Февраль!D83 -> 0 | E83: =D83-C83 -> 0
A84: 99 | B84: =Январь!D84 -> 8532 | C84: =Февраль!D84 -> 8532 | D84: 8600 | E84: =D84-C84 -> 68
A85: 100 | B85: =Январь!D85 -> 0 | C85: =Февраль!D85 -> 0 | E85: =D85-C85 -> 0
A86: 101.102 | B86: =Январь!D86 -> 20641 | C86: =Февраль!D86 -> 23097 | D86: 24205 | E86: =D86-C86 -> 1108
A87: 103 | B87: =Январь!D87 -> 1264 | C87: =Февраль!D87 -> 1264 | D87: 1264 | E87: =D87-C87 -> 0
A88: 104 | B88: =Январь!D88 -> 110 | C88: =Февраль!D88 -> 110 | D88: 111 | E88: =D88-C88 -> 1
A89: 105 | B89: =Январь!D89 -> 0 | C89: =Февраль!D89 -> 0 | E89: =D89-C89 -> 0
A90: 106 | B90: =Январь!D90 -> 0 | C90: =Февраль!D90 -> 0 | E90: =D90-C90 -> 0
A91: 107.108 | B91: =Январь!D91 -> 67 | C91: =Февраль!D91 -> 67 | D91: 67 | E91: =D91-C91 -> 0
A92: 109 | B92: =Январь!D92 -> 6350 | C92: =Февраль!D92 -> 6350 | D92: 6351 | E92: =D92-C92 -> 1
A93: 110 | B93: =Январь!D93 -> 789 | C93: =Февраль!D93 -> 789 | D93: 789 | E93: =D93-C93 -> 0
A94: 111 | B94: =Январь!D94 -> 4612 | C94: =Февраль!D94 -> 4612 | D94: 4612 | E94: =D94-C94 -> 0
A95: 112 | B95: =Январь!D95 -> 6587 | C95: =Февраль!D95 -> 6587 | D95: 6587 | E95: =D95-C95 -> 0
A96: 113 | B96: =Январь!D96 -> 12034 | C96: =Февраль!D96 -> 12034 | D96: 12034 | E96: =D96-C96 -> 0
A97: 114 | B97: =Январь!D97 -> 0 | C97: =Февраль!D97 -> 0 | E97: =D97-C97 -> 0
A98: 115 | B98: =Январь!D98 -> 1244 | C98: =Февраль!D98 -> 1244 | D98: 1244 | E98: =D98-C98 -> 0
A99: 116 | B99: =Январь!D99 -> 0 | C99: =Февраль!D99 -> 0 | E99: =D99-C99 -> 0
A100: 117 | B100: =Январь!D100 -> 102959 | C100: =Февраль!D100 -> 106421 | D100: 108737 | E100: =D100-C100 -> 2316
...

Sheet Апрель
A1: № | B1: Февраль | C1: Март | D1: Апрель | E1: потребл. за мес.
A2: 1 | B2: =Февраль!D2 -> 0 | C2: =Март!D2 -> 0 | E2: =D2-C2 -> 0
A3: 2 | B3: =Февраль!D3 -> 245 | C3: =Март!D3 -> 245 | D3: 245 | E3: =D3-C3 -> 0
A4: 3 | B4: =Февраль!D4 -> 0 | C4: =Март!D4 -> 0 | E4: =D4-C4 -> 0
A5: 4.5 | B5: =Февраль!D5 -> 42181 | C5: =Март!D5 -> 42181 | D5: 42181 | E5: =D5-C5 -> 0
A6: 6 | B6: =Февраль!D6 -> 31636 | C6: =Март!D6 -> 32857 | D6: 34585 | E6: =D6-C6 -> 1728
A7: 7.8 | B7: =Февраль!D7 -> 85065 | C7: =Март!D7 -> 86530 | D7: 88180 | E7: =D7-C7 -> 1650
A8: 9.1 | B8: =Февраль!D8 -> 19744 | C8: =Март!D8 -> 20708 | D8: 21146 | E8: =D8-C8 -> 438 | H8: 7434
A9: 11 | B9: =Февраль!D9 -> 1193 | C9: =Март!D9 -> 1193 | D9: 1278 | E9: =D9-C9 -> 85
A10: 12.13 | B10: =Февраль!D10 -> 43541 | C10: =Март!D10 -> 44681 | D10: 45302 | E10: =D10-C10 -> 621
A11: 14.15 | B11: =Февраль!D11 -> 6813 | C11: =Март!D11 -> 7937 | D11: 8521 | E11: =D11-C11 -> 584
A12: 16 | B12: =Февраль!D12 -> 3311 | C12: =Март!D12 -> 3311 | D12: 3311 | E12: =D12-C12 -> 0
A13: 17 | B13: =Февраль!D13 -> 0 | C13: =Март!D13 -> 0 | E13: =D13-C13 -> 0
A14: 18 | B14: =Февраль!D14 -> 0 | C14: =Март!D14 -> 0 | E14: =D14-C14 -> 0
A15: 19 | B15: =Февраль!D15 -> 629 | C15: =Март!D15 -> 629 | D15: 629 | E15: =D15-C15 -> 0
A16: 20 | B16: =Февраль!D16 -> 7656 | C16: =Март!D16 -> 7656 | D16: 7708 | E16: =D16-C16 -> 52
A17: 21.22 | B17: =Февраль!D17 -> 9481 | C17: =Март!D17 -> 9566 | D17: 9651 | E17: =D17-C17 -> 85
A18: 23 | B18: =Февраль!D18 -> 3520 | C18: =Март!D18 -> 3611 | D18: 3650 | E18: =D18-C18 -> 39
A19: 24 | B19: =Февраль!D19 -> 48916 | C19: =Март!D19 -> 49358 | D19: 49974 | E19: =D19-C19 -> 616
A20: 25 | B20: =Февраль!D20 -> 0 | C20: =Март!D20 -> 0 | E20: =D20-C20 -> 0
A21: 26 | B21: =Февраль!D21 -> 1763 | C21: =Март!D21 -> 1763 | D21: 1763 | E21: =D21-C21 -> 0
A22: 27 | B22: =Февраль!D22 -> 0 | C22: =Март!D22 -> 0 | E22: =D22-C22 -> 0
A23: 28.29 | B23: =Февраль!D23 -> 36250 | C23: =Март!D23 -> 36250 | D23: 36257 | E23: =D23-C23 -> 7
A24: 30 | B24: =Февраль!D24 -> 2469 | C24: =Март!D24 -> 2469 | D24: 2470 | E24: =D24-C24 -> 1
A25: 31 | B25: =Февраль!D25 -> 78 | C25: =Март!D25 -> 78 | D25: 78 | E25: =D25-C25 -> 0
A26: 32 | B26: =Февраль!D26 -> 4938 | C26: =Март!D26 -> 4938 | D26: 5082 | E26: =D26-C26 -> 144
A27: 33 | B27: =Февраль!D27 -> 0 | C27: =Март!D27 -> 0 | E27: =D27-C27 -> 0
A28: 34 | B28: =Февраль!D28 -> 2157 | C28: =Март!D28 -> 2157 | D28: 2212 | E28: =D28-C28 -> 55
A29: 35 | B29: =Февраль!D29 -> 0 | C29: =Март!D29 -> 0 | E29: =D29-C29 -> 0
A30: 36 | B30: =Февраль!D30 -> 3685 | C30: =Март!D30 -> 3685 | D30: 3734 | E30: =D30-C30 -> 49
A31: 37 | B31: =Февраль!D31 -> 14360 | C31: =Март!D31 -> 14739 | D31: 14883 | E31: =D31-C31 -> 144
A32: 38 | B32: =Февраль!D32 -> 661 | C32: =Март!D32 -> 679 | D32: 684 | E32: =D32-C32 -> 5
A33: 39.4 | B33: =Февраль!D33 -> 58176 | C33: =Март!D33 -> 58808 | D33: 59061 | E33: =D33-C33 -> 253
A34: 41-43 | B34: =Февраль!D34 -> 20759 | C34: =Март!D34 -> 20762 | D34: 20827 | E34: =D34-C34 -> 65
A35: 44 | B35: =Февраль!D35 -> 993 | C35: =Март!D35 -> 993 | D35: 1009 | E35: =D35-C35 -> 16
A36: 45 | B36: =Февраль!D36 -> 1355 | C36: =Март!D36 -> 1355 | D36: 1362 | E36: =D36-C36 -> 7
A37: 46 | B37: =Февраль!D37 -> 5766 | C37: =Март!D37 -> 5766 | D37: 5795 | E37: =D37-C37 -> 29
A38: 47-49 | B38: =Февраль!D38 -> 30300 | C38: =Март!D38 -> 30361 | D38: 30425 | E38: =D38-C38 -> 64
A39: 50.51 | B39: =Февраль!D39 -> 5827 | C39: =Март!D39 -> 5827 | D39: 5969 | E39: =D39-C39 -> 142
A40: 52 | B40: =Февраль!D40 -> 8765 | C40: =Март!D40 -> 9052 | D40: 9318 | E40: =D40-C40 -> 266
A41: 53-56 | B41: =Февраль!D41 -> 833 | C41: =Март!D41 -> 833 | D41: 840 | E41: =D41-C41 -> 7
A42: 57 | B42: =Февраль!D42 -> 2 | C42: =Март!D42 -> 2 | D42: 2 | E42: =D42-C42 -> 0
A43: 58 | B43: =Февраль!D43 -> 6 | C43: =Март!D43 -> 6 | D43: 6 | E43: =D43-C43 -> 0
A44: 59 | B44: =Февраль!D44 -> 0 | C44: =Март!D44 -> 0 | E44: =D44-C44 -> 0
A45: 60.61 | B45: =Февраль!D45 -> 5801 | C45: =Март!D45 -> 5801 | D45: 5804 | E45: =D45-C45 -> 3
A46: 62 | B46: =Февраль!D46 -> 6406 | C46: =Март!D46 -> 6439 | D46: 6497 | E46: =D46-C46 -> 58
A47: 63 | B47: =Февраль!D47 -> 0 | C47: =Март!D47 -> 0 | E47: =D47-C47 -> 0
A48: 64 | B48: =Февраль!D48 -> 0 | C48: =Март!D48 -> 0 | E48: =D48-C48 -> 0
A49: 65 | B49: =Февраль!D49 -> 0 | C49: =Март!D49 -> 0 | E49: =D49-C49 -> 0
A50: 66 | B50: =Февраль!D50 -> 5803 | C50: =Март!D50 -> 5810 | D50: 5894 | E50: =D50-C50 -> 84
A51: 67 | B51: =Февраль!D51 -> 1400 | C51: =Март!D51 -> 1400 | D51: 1400 | E51: =D51-C51 -> 0
A52: 68 | B52: =Февраль!D52 -> 8064 | C52: =Март!D52 -> 8064 | D52: 8064 | E52: =D52-C52 -> 0
A53: 69 | B53: =Февраль!D53 -> 3287 | C53: =Март!D53 -> 3287 | D53: 3288 | E53: =D53-C53 -> 1
A54: Сторож | B54: =Февраль!D54 -> 64050 | C54: =Март!D54 -> 64100 | D54: 64150 | E54: =D54-C54 -> 50
A55: Скваж | B55: =Февраль!D55 -> 79 | C55: =Март!D55 -> 79 | D55: 79 | E55: =D55-C55 -> 0
A56: 70 | B56: =Февраль!D56 -> 12868 | C56: =Март!D56 -> 12868 | D56: 13022 | E56: =D56-C56 -> 154
A57: 71 | B57: =Февраль!D57 -> 460 | C57: =Март!D57 -> 460 | D57: 475 | E57: =D57-C57 -> 15
A58: 72 | B58: =Февраль!D58 -> 249 | C58: =Март!D58 -> 249 | D58: 250 | E58: =D58-C58 -> 1
A59: 73 | B59: =Февраль!D59 -> 4551 | C59: =Март!D59 -> 4551 | D59: 4551 | E59: =D59-C59 -> 0
A60: 74 | B60: =Февраль!D60 -> 0 | C60: =Март!D60 -> 0 | E60: =D60-C60 -> 0
A61: 75 | B61: =Февраль!D61 -> 0 | C61: =Март!D61 -> 0 | E61: =D61-C61 -> 0
A62: 76 | B62: =Февраль!D62 -> 1414 | C62: =Март!D62 -> 1414 | D62: 1419 | E62: =D62-C62 -> 5
A63: 77 | B63: =Февраль!D63 -> 40271 | C63: =Март!D63 -> 40935 | D63: 41432 | E63: =D63-C63 -> 497
A64: 78 | B64: =Февраль!D64 -> 33755 | C64: =Март!D64 -> 33755 | D64: 33809 | E64: =D64-C64 -> 54
A65: 79 | B65: =Февраль!D65 -> 29047 | C65: =Март!D65 -> 30816 | D65: 31598 | E65: =D65-C65 -> 782
A66: 80 | B66: =Февраль!D66 -> 0 | C66: =Март!D66 -> 0 | E66: =D66-C66 -> 0
A67: 81 | B67: =Февраль!D67 -> 26550 | C67: =Март!D67 -> 26900 | D67: 27300 | E67: =D67-C67 -> 400
A68: 82 | B68: =Февраль!D68 -> 3610 | C68: =Март!D68 -> 3610 | D68: 3615 | E68: =D68-C68 -> 5
A69: 83 | B69: =Февраль!D69 -> 0 | C69: =Март!D69 -> 0 | E69: =D69-C69 -> 0
A70: 84 | B70: =Февраль!D70 -> 0 | C70: =Март!D70 -> 0 | E70: =D70-C70 -> 0
A71: 85 | B71: =Февраль!D71 -> 0 | C71: =Март!D71 -> 0 | E71: =D71-C71 -> 0
A72: 86 | B72: =Февраль!D72 -> 5899 | C72: =Март!D72 -> 6831 | D72: 7333 | E72: =D72-C72 -> 502
A73: 87 | B73: =Февраль!D73 -> 9801 | C73: =Март!D73 -> 9801 | D73: 9801 | E73: =D73-C73 -> 0
A74: 88.89 | B74: =Февраль!D74 -> 6248 | C74: =Март!D74 -> 6248 | D74: 6265 | E74: =D74-C74 -> 17
A75: 90 | B75: =Февраль!D75 -> 9938 | C75: =Март!D75 -> 9938 | D75: 10043 | E75: =D75-C75 -> 105
A76: 91 | B76: =Февраль!D76 -> 6397 | C76: =Март!D76 -> 6397 | D76: 6401 | E76: =D76-C76 -> 4
A77: 92 | B77: =Февраль!D77 -> 0 | C77: =Март!D77 -> 0 | E77: =D77-C77 -> 0
A78: 93 | B78: =Февраль!D78 -> 0 | C78: =Март!D78 -> 0 | E78: =D78-C78 -> 0
A79: 94 | B79: =Февраль!D79 -> 0 | C79: =Март!D79 -> 0 | E79: =D79-C79 -> 0
A80: 95 | B80: =Февраль!D80 -> 0 | C80: =Март!D80 -> 0 | E80: =D80-C80 -> 0
A81: 96 | B81: =Февраль!D81 -> 0 | C81: =Март!D81 -> 0 | E81: =D81-C81 -> 0
A82: 97 | B82: =Февраль!D82 -> 2.5 | C82: =Март!D82 -> 2.5 | D82: 2.5 | E82: =D82-C82 -> 0
A83: 98 | B83: =Февраль!D83 -> 0 | C83: =Март!D83 -> 0 | E83: =D83-C83 -> 0
A84: 99 | B84: =Февраль!D84 -> 8532 | C84: =Март!D84 -> 8600 | D84: 8825 | E84: =D84-C84 -> 225
A85: 100 | B85: =Февраль!D85 -> 0 | C85: =Март!D85 -> 0 | E85: =D85-C85 -> 0
A86: 101.102 | B86: =Февраль!D86 -> 23097 | C86: =Март!D86 -> 24205 | D86: 24973 | E86: =D86-C86 -> 768
A87: 103 | B87: =Февраль!D87 -> 1264 | C87: =Март!D87 -> 1264 | D87: 1264 | E87: =D87-C87 -> 0
A88: 104 | B88: =Февраль!D88 -> 110 | C88: =Март!D88 -> 111 | D88: 111 | E88: =D88-C88 -> 0
A89: 105 | B89: =Февраль!D89 -> 0 | C89: =Март!D89 -> 0 | E89: =D89-C89 -> 0
A90: 106 | B90: =Февраль!D90 -> 0 | C90: =Март!D90 -> 0 | E90: =D90-C90 -> 0
A91: 107.108 | B91: =Февраль!D91 -> 67 | C91: =Март!D91 -> 67 | D91: 67 | E91: =D91-C91 -> 0
A92: 109 | B92: =Февраль!D92 -> 6350 | C92: =Март!D92 -> 6351 | D92: 6361 | E92: =D92-C92 -> 10
A93: 110 | B93: =Февраль!D93 -> 789 | C93: =Март!D93 -> 789 | D93: 789 | E93: =D93-C93 -> 0
A94: 111 | B94: =Февраль!D94 -> 4612 | C94: =Март!D94 -> 4612 | D94: 4612 | E94: =D94-C94 -> 0
A95: 112 | B95: =Февраль!D95 -> 6587 | C95: =Март!D95 -> 6587 | D95: 6603 | E95: =D95-C95 -> 16
A96: 113 | B96: =Февраль!D96 -> 12034 | C96: =Март!D96 -> 12034 | D96: 12084 | E96: =D96-C96 -> 50
A97: 114 | B97: =Февраль!D97 -> 0 | C97: =Март!D97 -> 0 | E97: =D97-C97 -> 0
A98: 115 | B98: =Февраль!D98 -> 1244 | C98: =Март!D98 -> 1244 | D98: 1278 | E98: =D98-C98 -> 34
A99: 116 | B99: =Февраль!D99 -> 0 | C99: =Март!D99 -> 0 | E99: =D99-C99 -> 0
A100: 117 | B100: =Февраль!D100 -> 106421 | C100: =Март!D100 -> 108737 | D100: 109760 | E100: =D100-C100 -> 1023
...

Sheet Май
A1: № | B1: Март | C1: Апрель | D1: Май | E1: потребл. за мес.
A2: 1 | B2: =Март!D2 -> 0 | C2: =Апрель!D2 -> 0 | E2: =D2-C2 -> 0
A3: 2 | B3: =Март!D3 -> 245 | C3: =Апрель!D3 -> 245 | D3: 245 | E3: =D3-C3 -> 0
A4: 3 | B4: =Март!D4 -> 0 | C4: =Апрель!D4 -> 0 | E4: =D4-C4 -> 0
A5: 4.5 | B5: =Март!D5 -> 42181 | C5: =Апрель!D5 -> 42181 | D5: 42181 | E5: =D5-C5 -> 0
A6: 6 | B6: =Март!D6 -> 32857 | C6: =Апрель!D6 -> 34585 | D6: 35559 | E6: =D6-C6 -> 974
A7: 7.8 | B7: =Март!D7 -> 86530 | C7: =Апрель!D7 -> 88180 | D7: 89142 | E7: =D7-C7 -> 962
A8: 9.1 | B8: =Март!D8 -> 20708 | C8: =Апрель!D8 -> 21146 | D8: 21573 | E8: =D8-C8 -> 427 | H8: показ.8071 потр.637квт/мес.
A9: 11 | B9: =Март!D9 -> 1193 | C9: =Апрель!D9 -> 1278 | D9: 1694 | E9: =D9-C9 -> 416
A10: 12.13 | B10: =Март!D10 -> 44681 | C10: =Апрель!D10 -> 45302 | D10: 45661 | E10: =D10-C10 -> 359
A11: 14.15 | B11: =Март!D11 -> 7937 | C11: =Апрель!D11 -> 8521 | D11: 9065 | E11: =D11-C11 -> 544
A12: 16 | B12: =Март!D12 -> 3311 | C12: =Апрель!D12 -> 3311 | D12: 3709 | E12: =D12-C12 -> 398
A13: 17 | B13: =Март!D13 -> 0 | C13: =Апрель!D13 -> 0 | E13: =D13-C13 -> 0
A14: 18 | B14: =Март!D14 -> 0 | C14: =Апрель!D14 -> 0 | E14: =D14-C14 -> 0
A15: 19 | B15: =Март!D15 -> 629 | C15: =Апрель!D15 -> 629 | D15: 629 | E15: =D15-C15 -> 0
A16: 20 | B16: =Март!D16 -> 7656 | C16: =Апрель!D16 -> 7708 | D16: 7718 | E16: =D16-C16 -> 10
A17: 21.22 | B17: =Март!D17 -> 9566 | C17: =Апрель!D17 -> 9651 | D17: 9862 | E17: =D17-C17 -> 211
A18: 23 | B18: =Март!D18 -> 3611 | C18: =Апрель!D18 -> 3650 | D18: 3692 | E18: =D18-C18 -> 42
A19: 24 | B19: =Март!D19 -> 49358 | C19: =Апрель!D19 -> 49974 | D19: 50438 | E19: =D19-C19 -> 464
A20: 25 | B20: =Март!D20 -> 0 | C20: =Апрель!D20 -> 0 | E20: =D20-C20 -> 0
A21: 26 | B21: =Март!D21 -> 1763 | C21: =Апрель!D21 -> 1763 | D21: 1764 | E21: =D21-C21 -> 1
A22: 27 | B22: =Март!D22 -> 0 | C22: =Апрель!D22 -> 0 | E22: =D22-C22 -> 0
A23: 28.29 | B23: =Март!D23 -> 36250 | C23: =Апрель!D23 -> 36257 | D23: 36935 | E23: =D23-C23 -> 678
A24: 30 | B24: =Март!D24 -> 2469 | C24: =Апрель!D24 -> 2470 | D24: 2522 | E24: =D24-C24 -> 52
A25: 31 | B25: =Март!D25 -> 78 | C25: =Апрель!D25 -> 78 | D25: 80 | E25: =D25-C25 -> 2
A26: 32 | B26: =Март!D26 -> 4938 | C26: =Апрель!D26 -> 5082 | D26: 5117 | E26: =D26-C26 -> 35
A27: 33 | B27: =Март!D27 -> 0 | C27: =Апрель!D27 -> 0 | E27: =D27-C27 -> 0
A28: 34 | B28: =Март!D28 -> 2157 | C28: =Апрель!D28 -> 2212 | D28: 2459 | E28: =D28-C28 -> 247
A29: 35 | B29: =Март!D29 -> 0 | C29: =Апрель!D29 -> 0 | E29: =D29-C29 -> 0
A30: 36 | B30: =Март!D30 -> 3685 | C30: =Апрель!D30 -> 3734 | D30: 3892 | E30: =D30-C30 -> 158
A31: 37 | B31: =Март!D31 -> 14739 | C31: =Апрель!D31 -> 14883 | D31: 15122 | E31: =D31-C31 -> 239
A32: 38 | B32: =Март!D32 -> 679 | C32: =Апрель!D32 -> 684 | D32: 717 | E32: =D32-C32 -> 33
A33: 39.4 | B33: =Март!D33 -> 58808 | C33: =Апрель!D33 -> 59061 | D33: 59282 | E33: =D33-C33 -> 221
A34: 41-43 | B34: =Март!D34 -> 20762 | C34: =Апрель!D34 -> 20827 | D34: 21032 | E34: =D34-C34 -> 205
A35: 44 | B35: =Март!D35 -> 993 | C35: =Апрель!D35 -> 1009 | D35: 1146 | E35: =D35-C35 -> 137
A36: 45 | B36: =Март!D36 -> 1355 | C36: =Апрель!D36 -> 1362 | D36: 1491 | E36: =D36-C36 -> 129
A37: 46 | B37: =Март!D37 -> 5766 | C37: =Апрель!D37 -> 5795 | D37: 6003 | E37: =D37-C37 -> 208
A38: 47-49 | B38: =Март!D38 -> 30361 | C38: =Апрель!D38 -> 30425 | D38: 30563 | E38: =D38-C38 -> 138
A39: 50.51 | B39: =Март!D39 -> 5827 | C39: =Апрель!D39 -> 5969 | D39: 6208 | E39: =D39-C39 -> 239
A40: 52 | B40: =Март!D40 -> 9052 | C40: =Апрель!D40 -> 9318 | D40: 9552 | E40: =D40-C40 -> 234
A41: 53-56 | B41: =Март!D41 -> 833 | C41: =Апрель!D41 -> 840 | D41: 1056 | E41: =D41-C41 -> 216
A42: 57 | B42: =Март!D42 -> 2 | C42: =Апрель!D42 -> 2 | D42: 2 | E42: =D42-C42 -> 0
A43: 58 | B43: =Март!D43 -> 6 | C43: =Апрель!D43 -> 6 | D43: 6 | E43: =D43-C43 -> 0
A44: 59 | B44: =Март!D44 -> 0 | C44: =Апрель!D44 -> 0 | E44: =D44-C44 -> 0
A45: 60.61 | B45: =Март!D45 -> 5801 | C45: =Апрель!D45 -> 5804 | D45: 6006 | E45: =D45-C45 -> 202
A46: 62 | B46: =Март!D46 -> 6439 | C46: =Апрель!D46 -> 6497 | D46: 6846 | E46: =D46-C46 -> 349
A47: 63 | B47: =Март!D47 -> 0 | C47: =Апрель!D47 -> 0 | E47: =D47-C47 -> 0
A48: 64 | B48: =Март!D48 -> 0 | C48: =Апрель!D48 -> 0 | E48: =D48-C48 -> 0
A49: 65 | B49: =Март!D49 -> 0 | C49: =Апрель!D49 -> 0 | E49: =D49-C49 -> 0
A50: 66 | B50: =Март!D50 -> 5810 | C50: =Апрель!D50 -> 5894 | D50: 6098 | E50: =D50-C50 -> 204
A51: 67 | B51: =Март!D51 -> 1400 | C51: =Апрель!D51 -> 1400 | D51: 1503 | E51: =D51-C51 -> 103
A52: 68 | B52: =Март!D52 -> 8064 | C52: =Апрель!D52 -> 8064 | D52: 8306 | E52: =D52-C52 -> 242
A53: 69 | B53: =Март!D53 -> 3287 | C53: =Апрель!D53 -> 3288 | D53: 3376 | E53: =D53-C53 -> 88
A54: Сторож | B54: =Март!D54 -> 64100 | C54: =Апрель!D54 -> 64150 | D54: 64150 | E54: =D54-C54 -> 0
A55: Скваж | B55: =Март!D55 -> 79 | C55: =Апрель!D55 -> 79 | D55: 79 | E55: =D55-C55 -> 0
A56: 70 | B56: =Март!D56 -> 12868 | C56: =Апрель!D56 -> 13022 | D56: 13315 | E56: =D56-C56 -> 293
A57: 71 | B57: =Март!D57 -> 460 | C57: =Апрель!D57 -> 475 | D57: 487 | E57: =D57-C57 -> 12
A58: 72 | B58: =Март!D58 -> 249 | C58: =Апрель!D58 -> 250 | D58: 250 | E58: =D58-C58 -> 0
A59: 73 | B59: =Март!D59 -> 4551 | C59: =Апрель!D59 -> 4551 | D59: 4817 | E59: =D59-C59 -> 266
A60: 74 | B60: =Март!D60 -> 0 | C60: =Апрель!D60 -> 0 | E60: =D60-C60 -> 0
A61: 75 | B61: =Март!D61 -> 0 | C61: =Апрель!D61 -> 0 | E61: =D61-C61 -> 0
A62: 76 | B62: =Март!D62 -> 1414 | C62: =Апрель!D62 -> 1419 | D62: 1531 | E62: =D62-C62 -> 112
A63: 77 | B63: =Март!D63 -> 40935 | C63: =Апрель!D63 -> 41432 | D63: 41897 | E63: =D63-C63 -> 465
A64: 78 | B64: =Март!D64 -> 33755 | C64: =Апрель!D64 -> 33809 | D64: 34367 | E64: =D64-C64 -> 558
A65: 79 | B65: =Март!D65 -> 30816 | C65: =Апрель!D65 -> 31598 | D65: 32502 | E65: =D65-C65 -> 904
A66: 80 | B66: =Март!D66 -> 0 | C66: =Апрель!D66 -> 0 | E66: =D66-C66 -> 0
A67: 81 | B67: =Март!D67 -> 26900 | C67: =Апрель!D67 -> 27300 | D67: 27500 | E67: =D67-C67 -> 200
A68: 82 | B68: =Март!D68 -> 3610 | C68: =Апрель!D68 -> 3615 | D68: 3773 | E68: =D68-C68 -> 158
A69: 83 | B69: =Март!D69 -> 0 | C69: =Апрель!D69 -> 0 | E69: =D69-C69 -> 0
A70: 84 | B70: =Март!D70 -> 0 | C70: =Апрель!D70 -> 0 | E70: =D70-C70 -> 0
A71: 85 | B71: =Март!D71 -> 0 | C71: =Апрель!D71 -> 0 | E71: =D71-C71 -> 0
A72: 86 | B72: =Март!D72 -> 6831 | C72: =Апрель!D72 -> 7333 | D72: 7491 | E72: =D72-C72 -> 158
A73: 87 | B73: =Март!D73 -> 9801 | C73: =Апрель!D73 -> 9801 | D73: 9911 | E73: =D73-C73 -> 110
A74: 88.89 | B74: =Март!D74 -> 6248 | C74: =Апрель!D74 -> 6265 | D74: 6507 | E74: =D74-C74 -> 242
A75: 90 | B75: =Март!D75 -> 9938 | C75: =Апрель!D75 -> 10043 | D75: 10729 | E75: =D75-C75 -> 686
A76: 91 | B76: =Март!D76 -> 6397 | C76: =Апрель!D76 -> 6401 | D76: 6401 | E76: =D76-C76 -> 0
A77: 92 | B77: =Март!D77 -> 0 | C77: =Апрель!D77 -> 0 | E77: =D77-C77 -> 0
A78: 93 | B78: =Март!D78 -> 0 | C78: =Апрель!D78 -> 0 | E78: =D78-C78 -> 0
A79: 94 | B79: =Март!D79 -> 0 | C79: =Апрель!D79 -> 0 | E79: =D79-C79 -> 0
A80: 95 | B80: =Март!D80 -> 0 | C80: =Апрель!D80 -> 0 | E80: =D80-C80 -> 0
A81: 96 | B81: =Март!D81 -> 0 | C81: =Апрель!D81 -> 0 | E81: =D81-C81 -> 0
A82: 97 | B82: =Март!D82 -> 2.5 | C82: =Апрель!D82 -> 2.5 | D82: 2.5 | E82: =D82-C82 -> 0
A83: 98 | B83: =Март!D83 -> 0 | C83: =Апрель!D83 -> 0 | E83: =D83-C83 -> 0
A84: 99 | B84: =Март!D84 -> 8600 | C84: =Апрель!D84 -> 8825 | D84: 9416 | E84: =D84-C84 -> 591
A85: 100 | B85: =Март!D85 -> 0 | C85: =Апрель!D85 -> 0 | E85: =D85-C85 -> 0
A86: 101.102 | B86: =Март!D86 -> 24205 | C86: =Апрель!D86 -> 24973 | D86: 25514 | E86: =D86-C86 -> 541
A87: 103 | B87: =Март!D87 -> 1264 | C87: =Апрель!D87 -> 1264 | D87: 1302 | E87: =D87-C87 -> 38
A88: 104 | B88: =Март!D88 -> 111 | C88: =Апрель!D88 -> 111 | D88: 123 | E88: =D88-C88 -> 12
A89: 105 | B89: =Март!D89 -> 0 | C89: =Апрель!D89 -> 0 | E89: =D89-C89 -> 0
A90: 106 | B90: =Март!D90 -> 0 | C90: =Апрель!D90 -> 0 | E90: =D90-C90 -> 0
A91: 107.108 | B91: =Март!D91 -> 67 | C91: =Апрель!D91 -> 67 | D91: 67 | E91: =D91-C91 -> 0
A92: 109 | B92: =Март!D92 -> 6351 | C92: =Апрель!D92 -> 6361 | D92: 6583 | E92: =D92-C92 -> 222
A93: 110 | B93: =Март!D93 -> 789 | C93: =Апрель!D93 -> 789 | D93: 820 | E93: =D93-C93 -> 31
A94: 111 | B94: =Март!D94 -> 4612 | C94: =Апрель!D94 -> 4612 | D94: 4614 | E94: =D94-C94 -> 2
A95: 112 | B95: =Март!D95 -> 6587 | C95: =Апрель!D95 -> 6603 | D95: 6906 | E95: =D95-C95 -> 303
A96: 113 | B96: =Март!D96 -> 12034 | C96: =Апрель!D96 -> 12084 | D96: 12284 | E96: =D96-C96 -> 200
A97: 114 | B97: =Март!D97 -> 0 | C97: =Апрель!D97 -> 0 | E97: =D97-C97 -> 0
A98: 115 | B98: =Март!D98 -> 1244 | C98: =Апрель!D98 -> 1278 | D98: 1365 | E98: =D98-C98 -> 87
A99: 116 | B99: =Март!D99 -> 0 | C99: =Апрель!D99 -> 0 | E99: =D99-C99 -> 0
A100: 117 | B100: =Март!D100 -> 108737 | C100: =Апрель!D100 -> 109760 | D100: 110506 | E100: =D100-C100 -> 746
...

Sheet Июнь
A1: № | B1: апрель | C1: май | D1: июнь | E1: потребл. за мес.
A2: 1 | B2: =Апрель!D2 -> 0 | C2: =Май!D2 -> 0 | E2: =D2-C2 -> 0
A3: 2 | B3: =Апрель!D3 -> 245 | C3: =Май!D3 -> 245 | D3: 245 | E3: =D3-C3 -> 0
A4: 3 | B4: =Апрель!D4 -> 0 | C4: =Май!D4 -> 0 | E4: =D4-C4 -> 0
A5: 4.5 | B5: =Апрель!D5 -> 42181 | C5: =Май!D5 -> 42181 | D5: 42181 | E5: =D5-C5 -> 0
A6: 6 | B6: =Апрель!D6 -> 34585 | C6: =Май!D6 -> 35559 | D6: 36072 | E6: =D6-C6 -> 513
A7: 7.8 | B7: =Апрель!D7 -> 88180 | C7: =Май!D7 -> 89142 | D7: 89547 | E7: =D7-C7 -> 405
A8: 9.1 | B8: =Апрель!D8 -> 21146 | C8: =Май!D8 -> 21573 | D8: 21918 | E8: =D8-C8 -> 345 | H8: показ8537, потр 466квт/мес
A9: 11 | B9: =Апрель!D9 -> 1278 | C9: =Май!D9 -> 1694 | D9: 1759 | E9: =D9-C9 -> 65
A10: 12.13 | B10: =Апрель!D10 -> 45302 | C10: =Май!D10 -> 45661 | D10: 46039 | E10: =D10-C10 -> 378
A11: 14.15 | B11: =Апрель!D11 -> 8521 | C11: =Май!D11 -> 9065 | D11: 9310 | E11: =D11-C11 -> 245
A12: 16 | B12: =Апрель!D12 -> 3311 | C12: =Май!D12 -> 3709 | D12: 3861 | E12: =D12-C12 -> 152
A13: 17 | B13: =Апрель!D13 -> 0 | C13: =Май!D13 -> 0 | E13: =D13-C13 -> 0
A14: 18 | B14: =Апрель!D14 -> 0 | C14: =Май!D14 -> 0 | E14: =D14-C14 -> 0
A15: 19 | B15: =Апрель!D15 -> 629 | C15: =Май!D15 -> 629 | D15: 629 | E15: =D15-C15 -> 0
A16: 20 | B16: =Апрель!D16 -> 7708 | C16: =Май!D16 -> 7718 | D16: 8021 | E16: =D16-C16 -> 303
A17: 21.22 | B17: =Апрель!D17 -> 9651 | C17: =Май!D17 -> 9862 | D17: 10046 | E17: =D17-C17 -> 184
A18: 23 | B18: =Апрель!D18 -> 3650 | C18: =Май!D18 -> 3692 | D18: 3838 | E18: =D18-C18 -> 146
A19: 24 | B19: =Апрель!D19 -> 49974 | C19: =Май!D19 -> 50438 | D19: 50688 | E19: =D19-C19 -> 250
A20: 25 | B20: =Апрель!D20 -> 0 | C20: =Май!D20 -> 0 | E20: =D20-C20 -> 0
A21: 26 | B21: =Апрель!D21 -> 1763 | C21: =Май!D21 -> 1764 | D21: 1877 | E21: =D21-C21 -> 113
A22: 27 | B22: =Апрель!D22 -> 0 | C22: =Май!D22 -> 0 | E22: =D22-C22 -> 0
A23: 28.29 | B23: =Апрель!D23 -> 36257 | C23: =Май!D23 -> 36935 | D23: 37467 | E23: =D23-C23 -> 532
A24: 30 | B24: =Апрель!D24 -> 2470 | C24: =Май!D24 -> 2522 | D24: 2587 | E24: =D24-C24 -> 65
A25: 31 | B25: =Апрель!D25 -> 78 | C25: =Май!D25 -> 80 | D25: 88 | E25: =D25-C25 -> 8
A26: 32 | B26: =Апрель!D26 -> 5082 | C26: =Май!D26 -> 5117 | D26: 5207 | E26: =D26-C26 -> 90
A27: 33 | B27: =Апрель!D27 -> 0 | C27: =Май!D27 -> 0 | E27: =D27-C27 -> 0
A28: 34 | B28: =Апрель!D28 -> 2212 | C28: =Май!D28 -> 2459 | D28: 2635 | E28: =D28-C28 -> 176
A29: 35 | B29: =Апрель!D29 -> 0 | C29: =Май!D29 -> 0 | E29: =D29-C29 -> 0
A30: 36 | B30: =Апрель!D30 -> 3734 | C30: =Май!D30 -> 3892 | D30: 4023 | E30: =D30-C30 -> 131
A31: 37 | B31: =Апрель!D31 -> 14883 | C31: =Май!D31 -> 15122 | D31: 15231 | E31: =D31-C31 -> 109
A32: 38 | B32: =Апрель!D32 -> 684 | C32: =Май!D32 -> 717 | D32: 766 | E32: =D32-C32 -> 49
A33: 39.4 | B33: =Апрель!D33 -> 59061 | C33: =Май!D33 -> 59282 | D33: 59532 | E33: =D33-C33 -> 250
A34: 41-43 | B34: =Апрель!D34 -> 20827 | C34: =Май!D34 -> 21032 | D34: 21184 | E34: =D34-C34 -> 152
A35: 44 | B35: =Апрель!D35 -> 1009 | C35: =Май!D35 -> 1146 | D35: 1276 | E35: =D35-C35 -> 130
A36: 45 | B36: =Апрель!D36 -> 1362 | C36: =Май!D36 -> 1491 | D36: 1678 | E36: =D36-C36 -> 187
A37: 46 | B37: =Апрель!D37 -> 5795 | C37: =Май!D37 -> 6003 | D37: 6088 | E37: =D37-C37 -> 85
A38: 47-49 | B38: =Апрель!D38 -> 30425 | C38: =Май!D38 -> 30563 | D38: 30892 | E38: =D38-C38 -> 329
A39: 50.51 | B39: =Апрель!D39 -> 5969 | C39: =Май!D39 -> 6208 | D39: 6374 | E39: =D39-C39 -> 166
A40: 52 | B40: =Апрель!D40 -> 9318 | C40: =Май!D40 -> 9552 | D40: 9855 | E40: =D40-C40 -> 303
A41: 53-56 | B41: =Апрель!D41 -> 840 | C41: =Май!D41 -> 1056 | D41: 1341 | E41: =D41-C41 -> 285
A42: 57 | B42: =Апрель!D42 -> 2 | C42: =Май!D42 -> 2 | D42: 2 | E42: =D42-C42 -> 0
A43: 58 | B43: =Апрель!D43 -> 6 | C43: =Май!D43 -> 6 | D43: 6 | E43: =D43-C43 -> 0
A44: 59 | B44: =Апрель!D44 -> 0 | C44: =Май!D44 -> 0 | E44: =D44-C44 -> 0
A45: 60.61 | B45: =Апрель!D45 -> 5804 | C45: =Май!D45 -> 6006 | D45: 6220 | E45: =D45-C45 -> 214
A46: 62 | B46: =Апрель!D46 -> 6497 | C46: =Май!D46 -> 6846 | D46: 7253 | E46: =D46-C46 -> 407
A47: 63 | B47: =Апрель!D47 -> 0 | C47: =Май!D47 -> 0 | E47: =D47-C47 -> 0
A48: 64 | B48: =Апрель!D48 -> 0 | C48: =Май!D48 -> 0 | E48: =D48-C48 -> 0
A49: 65 | B49: =Апрель!D49 -> 0 | C49: =Май!D49 -> 0 | E49: =D49-C49 -> 0
A50: 66 | B50: =Апрель!D50 -> 5894 | C50: =Май!D50 -> 6098 | D50: 6202 | E50: =D50-C50 -> 104
A51: 67 | B51: =Апрель!D51 -> 1400 | C51: =Май!D51 -> 1503 | D51: 1535 | E51: =D51-C51 -> 32
A52: 68 | B52: =Апрель!D52 -> 8064 | C52: =Май!D52 -> 8306 | D52: 8814 | E52: =D52-C52 -> 508
A53: 69 | B53: =Апрель!D53 -> 3288 | C53: =Май!D53 -> 3376 | D53: 3505 | E53: =D53-C53 -> 129
A54: Сторож | B54: =Апрель!D54 -> 64150 | C54: =Май!D54 -> 64150 | D54: 64200 | E54: =D54-C54 -> 50
A55: Скваж | B55: =Апрель!D55 -> 79 | C55: =Май!D55 -> 79 | D55: 79 | E55: =D55-C55 -> 0
A56: 70 | B56: =Апрель!D56 -> 13022 | C56: =Май!D56 -> 13315 | D56: 13637 | E56: =D56-C56 -> 322
A57: 71 | B57: =Апрель!D57 -> 475 | C57: =Май!D57 -> 487 | D57: 535 | E57: =D57-C57 -> 48
A58: 72 | B58: =Апрель!D58 -> 250 | C58: =Май!D58 -> 250 | D58: 251 | E58: =D58-C58 -> 1
A59: 73 | B59: =Апрель!D59 -> 4551 | C59: =Май!D59 -> 4817 | D59: 5237 | E59: =D59-C59 -> 420
A60: 74 | B60: =Апрель!D60 -> 0 | C60: =Май!D60 -> 0 | E60: =D60-C60 -> 0
A61: 75 | B61: =Апрель!D61 -> 0 | C61: =Май!D61 -> 0 | E61: =D61-C61 -> 0
A62: 76 | B62: =Апрель!D62 -> 1419 | C62: =Май!D62 -> 1531 | D62: 1554 | E62: =D62-C62 -> 23
A63: 77 | B63: =Апрель!D63 -> 41432 | C63: =Май!D63 -> 41897 | D63: 42380 | E63: =D63-C63 -> 483
A64: 78 | B64: =Апрель!D64 -> 33809 | C64: =Май!D64 -> 34367 | D64: 34758 | E64: =D64-C64 -> 391
A65: 79 | B65: =Апрель!D65 -> 31598 | C65: =Май!D65 -> 32502 | D65: 33613 | E65: =D65-C65 -> 1111
A66: 80 | B66: =Апрель!D66 -> 0 | C66: =Май!D66 -> 0 | E66: =D66-C66 -> 0
A67: 81 | B67: =Апрель!D67 -> 27300 | C67: =Май!D67 -> 27500 | D67: 27800 | E67: =D67-C67 -> 300
A68: 82 | B68: =Апрель!D68 -> 3615 | C68: =Май!D68 -> 3773 | D68: 3905 | E68: =D68-C68 -> 132
A69: 83 | B69: =Апрель!D69 -> 0 | C69: =Май!D69 -> 0 | E69: =D69-C69 -> 0
A70: 84 | B70: =Апрель!D70 -> 0 | C70: =Май!D70 -> 0 | E70: =D70-C70 -> 0
A71: 85 | B71: =Апрель!D71 -> 0 | C71: =Май!D71 -> 0 | E71: =D71-C71 -> 0
A72: 86 | B72: =Апрель!D72 -> 7333 | C72: =Май!D72 -> 7491 | D72: 7594 | E72: =D72-C72 -> 103
A73: 87 | B73: =Апрель!D73 -> 9801 | C73: =Май!D73 -> 9911 | D73: 9941 | E73: =D73-C73 -> 30
A74: 88.89 | B74: =Апрель!D74 -> 6265 | C74: =Май!D74 -> 6507 | D74: 6752 | E74: =D74-C74 -> 245
A75: 90 | B75: =Апрель!D75 -> 10043 | C75: =Май!D75 -> 10729 | D75: 11167 | E75: =D75-C75 -> 438
A76: 91 | B76: =Апрель!D76 -> 6401 | C76: =Май!D76 -> 6401 | D76: 6401 | E76: =D76-C76 -> 0
A77: 92 | B77: =Апрель!D77 -> 0 | C77: =Май!D77 -> 0 | E77: =D77-C77 -> 0
A78: 93 | B78: =Апрель!D78 -> 0 | C78: =Май!D78 -> 0 | E78: =D78-C78 -> 0
A79: 94 | B79: =Апрель!D79 -> 0 | C79: =Май!D79 -> 0 | E79: =D79-C79 -> 0
A80: 95 | B80: =Апрель!D80 -> 0 | C80: =Май!D80 -> 0 | E80: =D80-C80 -> 0
A81: 96 | B81: =Апрель!D81 -> 0 | C81: =Май!D81 -> 0 | E81: =D81-C81 -> 0
A82: 97 | B82: =Апрель!D82 -> 2.5 | C82: =Май!D82 -> 2.5 | D82: 2.5 | E82: =D82-C82 -> 0
A83: 98 | B83: =Апрель!D83 -> 0 | C83: =Май!D83 -> 0 | E83: =D83-C83 -> 0
A84: 99 | B84: =Апрель!D84 -> 8825 | C84: =Май!D84 -> 9416 | D84: 9887 | E84: =D84-C84 -> 471
A85: 100 | B85: =Апрель!D85 -> 0 | C85: =Май!D85 -> 0 | E85: =D85-C85 -> 0
A86: 101.102 | B86: =Апрель!D86 -> 24973 | C86: =Май!D86 -> 25514 | D86: 25765 | E86: =D86-C86 -> 251
A87: 103 | B87: =Апрель!D87 -> 1264 | C87: =Май!D87 -> 1302 | D87: 1320 | E87: =D87-C87 -> 18
A88: 104 | B88: =Апрель!D88 -> 111 | C88: =Май!D88 -> 123 | D88: 127 | E88: =D88-C88 -> 4
A89: 105 | B89: =Апрель!D89 -> 0 | C89: =Май!D89 -> 0 | E89: =D89-C89 -> 0
A90: 106 | B90: =Апрель!D90 -> 0 | C90: =Май!D90 -> 0 | E90: =D90-C90 -> 0
A91: 107.108 | B91: =Апрель!D91 -> 67 | C91: =Май!D91 -> 67 | D91: 67 | E91: =D91-C91 -> 0
A92: 109 | B92: =Апрель!D92 -> 6361 | C92: =Май!D92 -> 6583 | D92: 6836 | E92: =D92-C92 -> 253
A93: 110 | B93: =Апрель!D93 -> 789 | C93: =Май!D93 -> 820 | D93: 857 | E93: =D93-C93 -> 37
A94: 111 | B94: =Апрель!D94 -> 4612 | C94: =Май!D94 -> 4614 | D94: 4649 | E94: =D94-C94 -> 35
A95: 112 | B95: =Апрель!D95 -> 6603 | C95: =Май!D95 -> 6906 | D95: 7311 | E95: =D95-C95 -> 405
A96: 113 | B96: =Апрель!D96 -> 12084 | C96: =Май!D96 -> 12284 | D96: 12511 | E96: =D96-C96 -> 227
A97: 114 | B97: =Апрель!D97 -> 0 | C97: =Май!D97 -> 0 | E97: =D97-C97 -> 0
A98: 115 | B98: =Апрель!D98 -> 1278 | C98: =Май!D98 -> 1365 | D98: 1452 | E98: =D98-C98 -> 87
A99: 116 | B99: =Апрель!D99 -> 0 | C99: =Май!D99 -> 0 | E99: =D99-C99 -> 0
A100: 117 | B100: =Апрель!D100 -> 109760 | C100: =Май!D100 -> 110506 | D100: 110995 | E100: =D100-C100 -> 489
...

Sheet Июль
A1: № | B1: май | C1: июнь | D1: июль | E1: потребл. за мес.
A2: 1 | B2: =Май!D2 -> 0 | C2: =Июнь!D2 -> 0 | E2: =D2-C2 -> 0
A3: 2 | B3: =Май!D3 -> 245 | C3: =Июнь!D3 -> 245 | D3: 245 | E3: =D3-C3 -> 0
A4: 3 | B4: =Май!D4 -> 0 | C4: =Июнь!D4 -> 0 | E4: =D4-C4 -> 0
A5: 4.5 | B5: =Май!D5 -> 42181 | C5: =Июнь!D5 -> 42181 | D5: 42181 | E5: =D5-C5 -> 0
A6: 6 | B6: =Май!D6 -> 35559 | C6: =Июнь!D6 -> 36072 | D6: 36464 | E6: =D6-C6 -> 392
A7: 7.8 | B7: =Май!D7 -> 89142 | C7: =Июнь!D7 -> 89547 | D7: 89886 | E7: =D7-C7 -> 339
A8: 9.1 | B8: =Май!D8 -> 21573 | C8: =Июнь!D8 -> 21918 | D8: 8830 | E8: =D8-C8 -> -13088 | H8: (22173)показ 8830 потр 293квт/мес
A9: 11 | B9: =Май!D9 -> 1694 | C9: =Июнь!D9 -> 1759 | D9: 1976 | E9: =D9-C9 -> 217
A10: 12.13 | B10: =Май!D10 -> 45661 | C10: =Июнь!D10 -> 46039 | D10: 46428 | E10: =D10-C10 -> 389
A11: 14.15 | B11: =Май!D11 -> 9065 | C11: =Июнь!D11 -> 9310 | D11: 9558 | E11: =D11-C11 -> 248
A12: 16 | B12: =Май!D12 -> 3709 | C12: =Июнь!D12 -> 3861 | D12: 3944 | E12: =D12-C12 -> 83
A13: 17 | B13: =Май!D13 -> 0 | C13: =Июнь!D13 -> 0 | E13: =D13-C13 -> 0
A14: 18 | B14: =Май!D14 -> 0 | C14: =Июнь!D14 -> 0 | E14: =D14-C14 -> 0
A15: 19 | B15: =Май!D15 -> 629 | C15: =Июнь!D15 -> 629 | D15: 629 | E15: =D15-C15 -> 0
A16: 20 | B16: =Май!D16 -> 7718 | C16: =Июнь!D16 -> 8021 | D16: 8155 | E16: =D16-C16 -> 134
A17: 21.22 | B17: =Май!D17 -> 9862 | C17: =Июнь!D17 -> 10046 | D17: 10270 | E17: =D17-C17 -> 224
A18: 23 | B18: =Май!D18 -> 3692 | C18: =Июнь!D18 -> 3838 | D18: 3956 | E18: =D18-C18 -> 118
A19: 24 | B19: =Май!D19 -> 50438 | C19: =Июнь!D19 -> 50688 | D19: 50931 | E19: =D19-C19 -> 243
A20: 25 | B20: =Май!D20 -> 0 | C20: =Июнь!D20 -> 0 | E20: =D20-C20 -> 0
A21: 26 | B21: =Май!D21 -> 1764 | C21: =Июнь!D21 -> 1877 | D21: 2057 | E21: =D21-C21 -> 180
A22: 27 | B22: =Май!D22 -> 0 | C22: =Июнь!D22 -> 0 | E22: =D22-C22 -> 0
A23: 28.29 | B23: =Май!D23 -> 36935 | C23: =Июнь!D23 -> 37467 | D23: 37872 | E23: =D23-C23 -> 405
A24: 30 | B24: =Май!D24 -> 2522 | C24: =Июнь!D24 -> 2587 | D24: 2647 | E24: =D24-C24 -> 60
A25: 31 | B25: =Май!D25 -> 80 | C25: =Июнь!D25 -> 88 | D25: 89 | E25: =D25-C25 -> 1
A26: 32 | B26: =Май!D26 -> 5117 | C26: =Июнь!D26 -> 5207 | D26: 5262 | E26: =D26-C26 -> 55
A27: 33 | B27: =Май!D27 -> 0 | C27: =Июнь!D27 -> 0 | E27: =D27-C27 -> 0
A28: 34 | B28: =Май!D28 -> 2459 | C28: =Июнь!D28 -> 2635 | D28: 3011 | E28: =D28-C28 -> 376
A29: 35 | B29: =Май!D29 -> 0 | C29: =Июнь!D29 -> 0 | E29: =D29-C29 -> 0
A30: 36 | B30: =Май!D30 -> 3892 | C30: =Июнь!D30 -> 4023 | D30: 4123 | E30: =D30-C30 -> 100
A31: 37 | B31: =Май!D31 -> 15122 | C31: =Июнь!D31 -> 15231 | D31: 15468 | E31: =D31-C31 -> 237
A32: 38 | B32: =Май!D32 -> 717 | C32: =Июнь!D32 -> 766 | D32: 804 | E32: =D32-C32 -> 38
A33: 39.4 | B33: =Май!D33 -> 59282 | C33: =Июнь!D33 -> 59532 | D33: 59655 | E33: =D33-C33 -> 123
A34: 41-43 | B34: =Май!D34 -> 21032 | C34: =Июнь!D34 -> 21184 | D34: 21636 | E34: =D34-C34 -> 452
A35: 44 | B35: =Май!D35 -> 1146 | C35: =Июнь!D35 -> 1276 | D35: 1353 | E35: =D35-C35 -> 77
A36: 45 | B36: =Май!D36 -> 1491 | C36: =Июнь!D36 -> 1678 | D36: 1819 | E36: =D36-C36 -> 141
A37: 46 | B37: =Май!D37 -> 6003 | C37: =Июнь!D37 -> 6088 | D37: 6164 | E37: =D37-C37 -> 76
A38: 47-49 | B38: =Май!D38 -> 30563 | C38: =Июнь!D38 -> 30892 | D38: 31207 | E38: =D38-C38 -> 315
A39: 50.51 | B39: =Май!D39 -> 6208 | C39: =Июнь!D39 -> 6374 | D39: 6517 | E39: =D39-C39 -> 143
A40: 52 | B40: =Май!D40 -> 9552 | C40: =Июнь!D40 -> 9855 | D40: 10092 | E40: =D40-C40 -> 237
A41: 53-56 | B41: =Май!D41 -> 1056 | C41: =Июнь!D41 -> 1341 | D41: 1555 | E41: =D41-C41 -> 214
A42: 57 | B42: =Май!D42 -> 2 | C42: =Июнь!D42 -> 2 | D42: 3 | E42: =D42-C42 -> 1
A43: 58 | B43: =Май!D43 -> 6 | C43: =Июнь!D43 -> 6 | D43: 10 | E43: =D43-C43 -> 4
A44: 59 | B44: =Май!D44 -> 0 | C44: =Июнь!D44 -> 0 | E44: =D44-C44 -> 0
A45: 60.61 | B45: =Май!D45 -> 6006 | C45: =Июнь!D45 -> 6220 | D45: 6564 | E45: =D45-C45 -> 344
A46: 62 | B46: =Май!D46 -> 6846 | C46: =Июнь!D46 -> 7253 | D46: 7717 | E46: =D46-C46 -> 464
A47: 63 | B47: =Май!D47 -> 0 | C47: =Июнь!D47 -> 0 | E47: =D47-C47 -> 0
A48: 64 | B48: =Май!D48 -> 0 | C48: =Июнь!D48 -> 0 | E48: =D48-C48 -> 0
A49: 65 | B49: =Май!D49 -> 0 | C49: =Июнь!D49 -> 0 | E49: =D49-C49 -> 0
A50: 66 | B50: =Май!D50 -> 6098 | C50: =Июнь!D50 -> 6202 | D50: 6321 | E50: =D50-C50 -> 119
A51: 67 | B51: =Май!D51 -> 1503 | C51: =Июнь!D51 -> 1535 | D51: 1545 | E51: =D51-C51 -> 10
A52: 68 | B52: =Май!D52 -> 8306 | C52: =Июнь!D52 -> 8814 | D52: 9041 | E52: =D52-C52 -> 227
A53: 69 | B53: =Май!D53 -> 3376 | C53: =Июнь!D53 -> 3505 | D53: 3578 | E53: =D53-C53 -> 73
A54: Сторож | B54: =Май!D54 -> 64150 | C54: =Июнь!D54 -> 64200 | D54: 64250 | E54: =D54-C54 -> 50
A55: Скваж | B55: =Май!D55 -> 79 | C55: =Июнь!D55 -> 79 | D55: 79 | E55: =D55-C55 -> 0
A56: 70 | B56: =Май!D56 -> 13315 | C56: =Июнь!D56 -> 13637 | D56: 13892 | E56: =D56-C56 -> 255
A57: 71 | B57: =Май!D57 -> 487 | C57: =Июнь!D57 -> 535 | D57: 536 | E57: =D57-C57 -> 1
A58: 72 | B58: =Май!D58 -> 250 | C58: =Июнь!D58 -> 251 | D58: 260 | E58: =D58-C58 -> 9
A59: 73 | B59: =Май!D59 -> 4817 | C59: =Июнь!D59 -> 5237 | D59: 5532 | E59: =D59-C59 -> 295
A60: 74 | B60: =Май!D60 -> 0 | C60: =Июнь!D60 -> 0 | E60: =D60-C60 -> 0
A61: 75 | B61: =Май!D61 -> 0 | C61: =Июнь!D61 -> 0 | E61: =D61-C61 -> 0
A62: 76 | B62: =Май!D62 -> 1531 | C62: =Июнь!D62 -> 1554 | D62: 1618 | E62: =D62-C62 -> 64
A63: 77 | B63: =Май!D63 -> 41897 | C63: =Июнь!D63 -> 42380 | D63: 42897 | E63: =D63-C63 -> 517
A64: 78 | B64: =Май!D64 -> 34367 | C64: =Июнь!D64 -> 34758 | D64: 34863 | E64: =D64-C64 -> 105
A65: 79 | B65: =Май!D65 -> 32502 | C65: =Июнь!D65 -> 33613 | D65: 34691 | E65: =D65-C65 -> 1078
A66: 80 | B66: =Май!D66 -> 0 | C66: =Июнь!D66 -> 0 | E66: =D66-C66 -> 0
A67: 81 | B67: =Май!D67 -> 27500 | C67: =Июнь!D67 -> 27800 | D67: 28000 | E67: =D67-C67 -> 200
A68: 82 | B68: =Май!D68 -> 3773 | C68: =Июнь!D68 -> 3905 | D68: 4092 | E68: =D68-C68 -> 187
A69: 83 | B69: =Май!D69 -> 0 | C69: =Июнь!D69 -> 0 | E69: =D69-C69 -> 0
A70: 84 | B70: =Май!D70 -> 0 | C70: =Июнь!D70 -> 0 | E70: =D70-C70 -> 0
A71: 85 | B71: =Май!D71 -> 0 | C71: =Июнь!D71 -> 0 | E71: =D71-C71 -> 0
A72: 86 | B72: =Май!D72 -> 7491 | C72: =Июнь!D72 -> 7594 | D72: 7688 | E72: =D72-C72 -> 94
A73: 87 | B73: =Май!D73 -> 9911 | C73: =Июнь!D73 -> 9941 | D73: 10014 | E73: =D73-C73 -> 73
A74: 88.89 | B74: =Май!D74 -> 6507 | C74: =Июнь!D74 -> 6752 | D74: 7285 | E74: =D74-C74 -> 533
A75: 90 | B75: =Май!D75 -> 10729 | C75: =Июнь!D75 -> 11167 | D75: 11436 | E75: =D75-C75 -> 269
A76: 91 | B76: =Май!D76 -> 6401 | C76: =Июнь!D76 -> 6401 | D76: 6401 | E76: =D76-C76 -> 0
A77: 92 | B77: =Май!D77 -> 0 | C77: =Июнь!D77 -> 0 | E77: =D77-C77 -> 0
A78: 93 | B78: =Май!D78 -> 0 | C78: =Июнь!D78 -> 0 | E78: =D78-C78 -> 0
A79: 94 | B79: =Май!D79 -> 0 | C79: =Июнь!D79 -> 0 | E79: =D79-C79 -> 0
A80: 95 | B80: =Май!D80 -> 0 | C80: =Июнь!D80 -> 0 | E80: =D80-C80 -> 0
A81: 96 | B81: =Май!D81 -> 0 | C81: =Июнь!D81 -> 0 | E81: =D81-C81 -> 0
A82: 97 | B82: =Май!D82 -> 2.5 | C82: =Июнь!D82 -> 2.5 | D82: 2.5 | E82: =D82-C82 -> 0
A83: 98 | B83: =Май!D83 -> 0 | C83: =Июнь!D83 -> 0 | E83: =D83-C83 -> 0
A84: 99 | B84: =Май!D84 -> 9416 | C84: =Июнь!D84 -> 9887 | D84: 10182 | E84: =D84-C84 -> 295
A85: 100 | B85: =Май!D85 -> 0 | C85: =Июнь!D85 -> 0 | E85: =D85-C85 -> 0
A86: 101.102 | B86: =Май!D86 -> 25514 | C86: =Июнь!D86 -> 25765 | D86: 25964 | E86: =D86-C86 -> 199
A87: 103 | B87: =Май!D87 -> 1302 | C87: =Июнь!D87 -> 1320 | D87: 1327 | E87: =D87-C87 -> 7
A88: 104 | B88: =Май!D88 -> 123 | C88: =Июнь!D88 -> 127 | D88: 149 | E88: =D88-C88 -> 22
A89: 105 | B89: =Май!D89 -> 0 | C89: =Июнь!D89 -> 0 | E89: =D89-C89 -> 0
A90: 106 | B90: =Май!D90 -> 0 | C90: =Июнь!D90 -> 0 | E90: =D90-C90 -> 0
A91: 107.108 | B91: =Май!D91 -> 67 | C91: =Июнь!D91 -> 67 | D91: 67 | E91: =D91-C91 -> 0
A92: 109 | B92: =Май!D92 -> 6583 | C92: =Июнь!D92 -> 6836 | D92: 7104 | E92: =D92-C92 -> 268
A93: 110 | B93: =Май!D93 -> 820 | C93: =Июнь!D93 -> 857 | D93: 917 | E93: =D93-C93 -> 60
A94: 111 | B94: =Май!D94 -> 4614 | C94: =Июнь!D94 -> 4649 | D94: 4696 | E94: =D94-C94 -> 47
A95: 112 | B95: =Май!D95 -> 6906 | C95: =Июнь!D95 -> 7311 | D95: 7668 | E95: =D95-C95 -> 357
A96: 113 | B96: =Май!D96 -> 12284 | C96: =Июнь!D96 -> 12511 | D96: 12736 | E96: =D96-C96 -> 225
A97: 114 | B97: =Май!D97 -> 0 | C97: =Июнь!D97 -> 0 | E97: =D97-C97 -> 0
A98: 115 | B98: =Май!D98 -> 1365 | C98: =Июнь!D98 -> 1452 | D98: 1515 | E98: =D98-C98 -> 63
A99: 116 | B99: =Май!D99 -> 0 | C99: =Июнь!D99 -> 0 | E99: =D99-C99 -> 0
A100: 117 | B100: =Май!D100 -> 110506 | C100: =Июнь!D100 -> 110995 | D100: 111367 | E100: =D100-C100 -> 372
...

Sheet Август
A1: № | B1: Июнь | C1: Июль | D1: Август | E1: потребл. за мес.
A2: 1 | B2: =Июнь!D2 -> 0 | C2: =Июль!D2 -> 0 | E2: =D2-C2 -> 0
A3: 2 | B3: =Июнь!D3 -> 245 | C3: =Июль!D3 -> 245 | D3: 245 | E3: =D3-C3 -> 0
A4: 3 | B4: =Июнь!D4 -> 0 | C4: =Июль!D4 -> 0 | E4: =D4-C4 -> 0
A5: 4.5 | B5: =Июнь!D5 -> 42181 | C5: =Июль!D5 -> 42181 | D5: 42181 | E5: =D5-C5 -> 0
A6: 6 | B6: =Июнь!D6 -> 36072 | C6: =Июль!D6 -> 36464 | D6: 36938 | E6: =D6-C6 -> 474
A7: 7.8 | B7: =Июнь!D7 -> 89547 | C7: =Июль!D7 -> 89886 | D7: 90247 | E7: =D7-C7 -> 361
A8: 9.1 | B8: =Июнь!D8 -> 21918 | C8: =Июль!D8 -> 8830 | D8: 9319 | E8: =D8-C8 -> 489
A9: 11 | B9: =Июнь!D9 -> 1759 | C9: =Июль!D9 -> 1976 | D9: 2144 | E9: =D9-C9 -> 168
A10: 12.13 | B10: =Июнь!D10 -> 46039 | C10: =Июль!D10 -> 46428 | D10: 46903 | E10: =D10-C10 -> 475
A11: 14.15 | B11: =Июнь!D11 -> 9310 | C11: =Июль!D11 -> 9558 | D11: 10021 | E11: =D11-C11 -> 463
A12: 16 | B12: =Июнь!D12 -> 3861 | C12: =Июль!D12 -> 3944 | D12: 4035 | E12: =D12-C12 -> 91
A13: 17 | B13: =Июнь!D13 -> 0 | C13: =Июль!D13 -> 0 | E13: =D13-C13 -> 0
A14: 18 | B14: =Июнь!D14 -> 0 | C14: =Июль!D14 -> 0 | E14: =D14-C14 -> 0
A15: 19 | B15: =Июнь!D15 -> 629 | C15: =Июль!D15 -> 629 | D15: 629 | E15: =D15-C15 -> 0
A16: 20 | B16: =Июнь!D16 -> 8021 | C16: =Июль!D16 -> 8155 | D16: 8360 | E16: =D16-C16 -> 205
A17: 21.22 | B17: =Июнь!D17 -> 10046 | C17: =Июль!D17 -> 10270 | D17: 10511 | E17: =D17-C17 -> 241
A18: 23 | B18: =Июнь!D18 -> 3838 | C18: =Июль!D18 -> 3956 | D18: 4077 | E18: =D18-C18 -> 121
A19: 24 | B19: =Июнь!D19 -> 50688 | C19: =Июль!D19 -> 50931 | D19: 51235 | E19: =D19-C19 -> 304
A20: 25 | B20: =Июнь!D20 -> 0 | C20: =Июль!D20 -> 0 | E20: =D20-C20 -> 0
A21: 26 | B21: =Июнь!D21 -> 1877 | C21: =Июль!D21 -> 2057 | D21: 2299 | E21: =D21-C21 -> 242
A22: 27 | B22: =Июнь!D22 -> 0 | C22: =Июль!D22 -> 0 | E22: =D22-C22 -> 0
A23: 28.29 | B23: =Июнь!D23 -> 37467 | C23: =Июль!D23 -> 37872 | D23: 38209 | E23: =D23-C23 -> 337
A24: 30 | B24: =Июнь!D24 -> 2587 | C24: =Июль!D24 -> 2647 | D24: 2733 | E24: =D24-C24 -> 86
A25: 31 | B25: =Июнь!D25 -> 88 | C25: =Июль!D25 -> 89 | D25: 91 | E25: =D25-C25 -> 2
A26: 32 | B26: =Июнь!D26 -> 5207 | C26: =Июль!D26 -> 5262 | D26: 5325 | E26: =D26-C26 -> 63
A27: 33 | B27: =Июнь!D27 -> 0 | C27: =Июль!D27 -> 0 | E27: =D27-C27 -> 0
A28: 34 | B28: =Июнь!D28 -> 2635 | C28: =Июль!D28 -> 3011 | D28: 3117 | E28: =D28-C28 -> 106
A29: 35 | B29: =Июнь!D29 -> 0 | C29: =Июль!D29 -> 0 | E29: =D29-C29 -> 0
A30: 36 | B30: =Июнь!D30 -> 4023 | C30: =Июль!D30 -> 4123 | D30: 4246 | E30: =D30-C30 -> 123
A31: 37 | B31: =Июнь!D31 -> 15231 | C31: =Июль!D31 -> 15468 | D31: 15552 | E31: =D31-C31 -> 84
A32: 38 | B32: =Июнь!D32 -> 766 | C32: =Июль!D32 -> 804 | D32: 853 | E32: =D32-C32 -> 49
A33: 39.4 | B33: =Июнь!D33 -> 59532 | C33: =Июль!D33 -> 59655 | D33: 59825 | E33: =D33-C33 -> 170
A34: 41-43 | B34: =Июнь!D34 -> 21184 | C34: =Июль!D34 -> 21636 | D34: 22219 | E34: =D34-C34 -> 583
A35: 44 | B35: =Июнь!D35 -> 1276 | C35: =Июль!D35 -> 1353 | D35: 1421 | E35: =D35-C35 -> 68
A36: 45 | B36: =Июнь!D36 -> 1678 | C36: =Июль!D36 -> 1819 | D36: 1975 | E36: =D36-C36 -> 156
A37: 46 | B37: =Июнь!D37 -> 6088 | C37: =Июль!D37 -> 6164 | D37: 6221 | E37: =D37-C37 -> 57
A38: 47-49 | B38: =Июнь!D38 -> 30892 | C38: =Июль!D38 -> 31207 | D38: 31623 | E38: =D38-C38 -> 416
A39: 50.51 | B39: =Июнь!D39 -> 6374 | C39: =Июль!D39 -> 6517 | D39: 6790 | E39: =D39-C39 -> 273
A40: 52 | B40: =Июнь!D40 -> 9855 | C40: =Июль!D40 -> 10092 | D40: 10371 | E40: =D40-C40 -> 279
A41: 53-56 | B41: =Июнь!D41 -> 1341 | C41: =Июль!D41 -> 1555 | D41: 1793 | E41: =D41-C41 -> 238
A42: 57 | B42: =Июнь!D42 -> 2 | C42: =Июль!D42 -> 3 | D42: 3 | E42: =D42-C42 -> 0
A43: 58 | B43: =Июнь!D43 -> 6 | C43: =Июль!D43 -> 10 | D43: 10 | E43: =D43-C43 -> 0
A44: 59 | B44: =Июнь!D44 -> 0 | C44: =Июль!D44 -> 0 | E44: =D44-C44 -> 0
A45: 60.61 | B45: =Июнь!D45 -> 6220 | C45: =Июль!D45 -> 6564 | D45: 6917 | E45: =D45-C45 -> 353
A46: 62 | B46: =Июнь!D46 -> 7253 | C46: =Июль!D46 -> 7717 | D46: 8138 | E46: =D46-C46 -> 421
A47: 63 | B47: =Июнь!D47 -> 0 | C47: =Июль!D47 -> 0 | E47: =D47-C47 -> 0
A48: 64 | B48: =Июнь!D48 -> 0 | C48: =Июль!D48 -> 0 | E48: =D48-C48 -> 0
A49: 65 | B49: =Июнь!D49 -> 0 | C49: =Июль!D49 -> 0 | E49: =D49-C49 -> 0
A50: 66 | B50: =Июнь!D50 -> 6202 | C50: =Июль!D50 -> 6321 | D50: 6444 | E50: =D50-C50 -> 123
A51: 67 | B51: =Июнь!D51 -> 1535 | C51: =Июль!D51 -> 1545 | D51: 1551 | E51: =D51-C51 -> 6
A52: 68 | B52: =Июнь!D52 -> 8814 | C52: =Июль!D52 -> 9041 | D52: 9187 | E52: =D52-C52 -> 146
A53: 69 | B53: =Июнь!D53 -> 3505 | C53: =Июль!D53 -> 3578 | D53: 3651 | E53: =D53-C53 -> 73
A54: Сторож | B54: =Июнь!D54 -> 64200 | C54: =Июль!D54 -> 64250 | D54: 64300 | E54: =D54-C54 -> 50
A55: Скваж | B55: =Июнь!D55 -> 79 | C55: =Июль!D55 -> 79 | D55: 79 | E55: =D55-C55 -> 0
A56: 70 | B56: =Июнь!D56 -> 13637 | C56: =Июль!D56 -> 13892 | D56: 14185 | E56: =D56-C56 -> 293
A57: 71 | B57: =Июнь!D57 -> 535 | C57: =Июль!D57 -> 536 | D57: 543 | E57: =D57-C57 -> 7
A58: 72 | B58: =Июнь!D58 -> 251 | C58: =Июль!D58 -> 260 | D58: 284 | E58: =D58-C58 -> 24
A59: 73 | B59: =Июнь!D59 -> 5237 | C59: =Июль!D59 -> 5532 | D59: 5785 | E59: =D59-C59 -> 253
A60: 74 | B60: =Июнь!D60 -> 0 | C60: =Июль!D60 -> 0 | E60: =D60-C60 -> 0
A61: 75 | B61: =Июнь!D61 -> 0 | C61: =Июль!D61 -> 0 | E61: =D61-C61 -> 0
A62: 76 | B62: =Июнь!D62 -> 1554 | C62: =Июль!D62 -> 1618 | D62: 1644 | E62: =D62-C62 -> 26
A63: 77 | B63: =Июнь!D63 -> 42380 | C63: =Июль!D63 -> 42897 | D63: 43587 | E63: =D63-C63 -> 690
A64: 78 | B64: =Июнь!D64 -> 34758 | C64: =Июль!D64 -> 34863 | D64: 35165 | E64: =D64-C64 -> 302
A65: 79 | B65: =Июнь!D65 -> 33613 | C65: =Июль!D65 -> 34691 | D65: 35695 | E65: =D65-C65 -> 1004
A66: 80 | B66: =Июнь!D66 -> 0 | C66: =Июль!D66 -> 0 | E66: =D66-C66 -> 0
A67: 81 | B67: =Июнь!D67 -> 27800 | C67: =Июль!D67 -> 28000 | D67: 28138 | E67: =D67-C67 -> 138
A68: 82 | B68: =Июнь!D68 -> 3905 | C68: =Июль!D68 -> 4092 | D68: 4293 | E68: =D68-C68 -> 201
A69: 83 | B69: =Июнь!D69 -> 0 | C69: =Июль!D69 -> 0 | E69: =D69-C69 -> 0
A70: 84 | B70: =Июнь!D70 -> 0 | C70: =Июль!D70 -> 0 | E70: =D70-C70 -> 0
A71: 85 | B71: =Июнь!D71 -> 0 | C71: =Июль!D71 -> 0 | E71: =D71-C71 -> 0
A72: 86 | B72: =Июнь!D72 -> 7594 | C72: =Июль!D72 -> 7688 | D72: 7830 | E72: =D72-C72 -> 142
A73: 87 | B73: =Июнь!D73 -> 9941 | C73: =Июль!D73 -> 10014 | D73: 10047 | E73: =D73-C73 -> 33
A74: 88.89 | B74: =Июнь!D74 -> 6752 | C74: =Июль!D74 -> 7285 | D74: 7525 | E74: =D74-C74 -> 240
A75: 90 | B75: =Июнь!D75 -> 11167 | C75: =Июль!D75 -> 11436 | D75: 11831 | E75: =D75-C75 -> 395
A76: 91 | B76: =Июнь!D76 -> 6401 | C76: =Июль!D76 -> 6401 | D76: 6401 | E76: =D76-C76 -> 0
A77: 92 | B77: =Июнь!D77 -> 0 | C77: =Июль!D77 -> 0 | E77: =D77-C77 -> 0
A78: 93 | B78: =Июнь!D78 -> 0 | C78: =Июль!D78 -> 0 | E78: =D78-C78 -> 0
A79: 94 | B79: =Июнь!D79 -> 0 | C79: =Июль!D79 -> 0 | E79: =D79-C79 -> 0
A80: 95 | B80: =Июнь!D80 -> 0 | C80: =Июль!D80 -> 0 | E80: =D80-C80 -> 0
A81: 96 | B81: =Июнь!D81 -> 0 | C81: =Июль!D81 -> 0 | E81: =D81-C81 -> 0
A82: 97 | B82: =Июнь!D82 -> 2.5 | C82: =Июль!D82 -> 2.5 | D82: 2.5 | E82: =D82-C82 -> 0
A83: 98 | B83: =Июнь!D83 -> 0 | C83: =Июль!D83 -> 0 | E83: =D83-C83 -> 0
A84: 99 | B84: =Июнь!D84 -> 9887 | C84: =Июль!D84 -> 10182 | D84: 10539 | E84: =D84-C84 -> 357
A85: 100 | B85: =Июнь!D85 -> 0 | C85: =Июль!D85 -> 0 | E85: =D85-C85 -> 0
A86: 101.102 | B86: =Июнь!D86 -> 25765 | C86: =Июль!D86 -> 25964 | D86: 26198 | E86: =D86-C86 -> 234
A87: 103 | B87: =Июнь!D87 -> 1320 | C87: =Июль!D87 -> 1327 | D87: 1333 | E87: =D87-C87 -> 6
A88: 104 | B88: =Июнь!D88 -> 127 | C88: =Июль!D88 -> 149 | D88: 159 | E88: =D88-C88 -> 10
A89: 105 | B89: =Июнь!D89 -> 0 | C89: =Июль!D89 -> 0 | E89: =D89-C89 -> 0
A90: 106 | B90: =Июнь!D90 -> 0 | C90: =Июль!D90 -> 0 | E90: =D90-C90 -> 0
A91: 107.108 | B91: =Июнь!D91 -> 67 | C91: =Июль!D91 -> 67 | D91: 67 | E91: =D91-C91 -> 0
A92: 109 | B92: =Июнь!D92 -> 6836 | C92: =Июль!D92 -> 7104 | D92: 7436 | E92: =D92-C92 -> 332
A93: 110 | B93: =Июнь!D93 -> 857 | C93: =Июль!D93 -> 917 | D93: 985 | E93: =D93-C93 -> 68
A94: 111 | B94: =Июнь!D94 -> 4649 | C94: =Июль!D94 -> 4696 | D94: 4736 | E94: =D94-C94 -> 40
A95: 112 | B95: =Июнь!D95 -> 7311 | C95: =Июль!D95 -> 7668 | D95: 7865 | E95: =D95-C95 -> 197
A96: 113 | B96: =Июнь!D96 -> 12511 | C96: =Июль!D96 -> 12736 | D96: 13064 | E96: =D96-C96 -> 328
A97: 114 | B97: =Июнь!D97 -> 0 | C97: =Июль!D97 -> 0 | E97: =D97-C97 -> 0
A98: 115 | B98: =Июнь!D98 -> 1452 | C98: =Июль!D98 -> 1515 | D98: 1568 | E98: =D98-C98 -> 53
A99: 116 | B99: =Июнь!D99 -> 0 | C99: =Июль!D99 -> 0 | E99: =D99-C99 -> 0
A100: 117 | B100: =Июнь!D100 -> 110995 | C100: =Июль!D100 -> 111367 | D100: 111903 | E100: =D100-C100 -> 536
...

Sheet Сентябрь
A1: № | B1: Июль | C1: Август | D1: Сентябрь | E1: потребл. за мес.
A2: 1 | B2: =Июль!D2 -> 0 | C2: =Август!D2 -> 0 | E2: =D2-C2 -> 0
A3: 2 | B3: =Июль!D3 -> 245 | C3: =Август!D3 -> 245 | D3: 245 | E3: =D3-C3 -> 0
A4: 3 | B4: =Июль!D4 -> 0 | C4: =Август!D4 -> 0 | E4: =D4-C4 -> 0
A5: 4.5 | B5: =Июль!D5 -> 42181 | C5: =Август!D5 -> 42181 | D5: 42181 | E5: =D5-C5 -> 0
A6: 6 | B6: =Июль!D6 -> 36464 | C6: =Август!D6 -> 36938 | D6: 37698 | E6: =D6-C6 -> 760
A7: 7.8 | B7: =Июль!D7 -> 89886 | C7: =Август!D7 -> 90247 | D7: 90674 | E7: =D7-C7 -> 427
A8: 9.1 | B8: =Июль!D8 -> 8830 | C8: =Август!D8 -> 9319 | D8: 9998 | E8: =D8-C8 -> 679
A9: 11 | B9: =Июль!D9 -> 1976 | C9: =Август!D9 -> 2144 | D9: 2467 | E9: =D9-C9 -> 323
A10: 12.13 | B10: =Июль!D10 -> 46428 | C10: =Август!D10 -> 46903 | D10: 47389 | E10: =D10-C10 -> 486
A11: 14.15 | B11: =Июль!D11 -> 9558 | C11: =Август!D11 -> 10021 | D11: 11459 | E11: =D11-C11 -> 1438
A12: 16 | B12: =Июль!D12 -> 3944 | C12: =Август!D12 -> 4035 | D12: 4066 | E12: =D12-C12 -> 31
A13: 17 | B13: =Июль!D13 -> 0 | C13: =Август!D13 -> 0 | E13: =D13-C13 -> 0
A14: 18 | B14: =Июль!D14 -> 0 | C14: =Август!D14 -> 0 | E14: =D14-C14 -> 0
A15: 19 | B15: =Июль!D15 -> 629 | C15: =Август!D15 -> 629 | D15: 629 | E15: =D15-C15 -> 0
A16: 20 | B16: =Июль!D16 -> 8155 | C16: =Август!D16 -> 8360 | D16: 8400 | E16: =D16-C16 -> 40
A17: 21.22 | B17: =Июль!D17 -> 10270 | C17: =Август!D17 -> 10511 | D17: 10594 | E17: =D17-C17 -> 83
A18: 23 | B18: =Июль!D18 -> 3956 | C18: =Август!D18 -> 4077 | D18: 4122 | E18: =D18-C18 -> 45
A19: 24 | B19: =Июль!D19 -> 50931 | C19: =Август!D19 -> 51235 | D19: 51648 | E19: =D19-C19 -> 413
A20: 25 | B20: =Июль!D20 -> 0 | C20: =Август!D20 -> 0 | E20: =D20-C20 -> 0
A21: 26 | B21: =Июль!D21 -> 2057 | C21: =Август!D21 -> 2299 | D21: 2328 | E21: =D21-C21 -> 29
A22: 27 | B22: =Июль!D22 -> 0 | C22: =Август!D22 -> 0 | E22: =D22-C22 -> 0
A23: 28.29 | B23: =Июль!D23 -> 37872 | C23: =Август!D23 -> 38209 | D23: 38365 | E23: =D23-C23 -> 156
A24: 30 | B24: =Июль!D24 -> 2647 | C24: =Август!D24 -> 2733 | D24: 2855 | E24: =D24-C24 -> 122
A25: 31 | B25: =Июль!D25 -> 89 | C25: =Август!D25 -> 91 | D25: 93 | E25: =D25-C25 -> 2
A26: 32 | B26: =Июль!D26 -> 5262 | C26: =Август!D26 -> 5325 | D26: 5433 | E26: =D26-C26 -> 108
A27: 33 | B27: =Июль!D27 -> 0 | C27: =Август!D27 -> 0 | E27: =D27-C27 -> 0
A28: 34 | B28: =Июль!D28 -> 3011 | C28: =Август!D28 -> 3117 | D28: 3194 | E28: =D28-C28 -> 77
A29: 35 | B29: =Июль!D29 -> 0 | C29: =Август!D29 -> 0 | E29: =D29-C29 -> 0
A30: 36 | B30: =Июль!D30 -> 4123 | C30: =Август!D30 -> 4246 | D30: 4356 | E30: =D30-C30 -> 110
A31: 37 | B31: =Июль!D31 -> 15468 | C31: =Август!D31 -> 15552 | D31: 15635 | E31: =D31-C31 -> 83
A32: 38 | B32: =Июль!D32 -> 804 | C32: =Август!D32 -> 853 | D32: 904 | E32: =D32-C32 -> 51
A33: 39.4 | B33: =Июль!D33 -> 59655 | C33: =Август!D33 -> 59825 | D33: 60176 | E33: =D33-C33 -> 351
A34: 41-43 | B34: =Июль!D34 -> 21636 | C34: =Август!D34 -> 22219 | D34: 22516 | E34: =D34-C34 -> 297
A35: 44 | B35: =Июль!D35 -> 1353 | C35: =Август!D35 -> 1421 | D35: 1532 | E35: =D35-C35 -> 111
A36: 45 | B36: =Июль!D36 -> 1819 | C36: =Август!D36 -> 1975 | D36: 2013 | E36: =D36-C36 -> 38
A37: 46 | B37: =Июль!D37 -> 6164 | C37: =Август!D37 -> 6221 | D37: 6280 | E37: =D37-C37 -> 59
A38: 47-49 | B38: =Июль!D38 -> 31207 | C38: =Август!D38 -> 31623 | D38: 31811 | E38: =D38-C38 -> 188
A39: 50.51 | B39: =Июль!D39 -> 6517 | C39: =Август!D39 -> 6790 | D39: 6984 | E39: =D39-C39 -> 194
A40: 52 | B40: =Июль!D40 -> 10092 | C40: =Август!D40 -> 10371 | D40: 10770 | E40: =D40-C40 -> 399
A41: 53-56 | B41: =Июль!D41 -> 1555 | C41: =Август!D41 -> 1793 | D41: 2062 | E41: =D41-C41 -> 269
A42: 57 | B42: =Июль!D42 -> 3 | C42: =Август!D42 -> 3 | D42: 3 | E42: =D42-C42 -> 0
A43: 58 | B43: =Июль!D43 -> 10 | C43: =Август!D43 -> 10 | D43: 10 | E43: =D43-C43 -> 0
A44: 59 | B44: =Июль!D44 -> 0 | C44: =Август!D44 -> 0 | E44: =D44-C44 -> 0
A45: 60.61 | B45: =Июль!D45 -> 6564 | C45: =Август!D45 -> 6917 | D45: 7026 | E45: =D45-C45 -> 109
A46: 62 | B46: =Июль!D46 -> 7717 | C46: =Август!D46 -> 8138 | D46: 8536 | E46: =D46-C46 -> 398
A47: 63 | B47: =Июль!D47 -> 0 | C47: =Август!D47 -> 0 | E47: =D47-C47 -> 0
A48: 64 | B48: =Июль!D48 -> 0 | C48: =Август!D48 -> 0 | E48: =D48-C48 -> 0
A49: 65 | B49: =Июль!D49 -> 0 | C49: =Август!D49 -> 0 | E49: =D49-C49 -> 0
A50: 66 | B50: =Июль!D50 -> 6321 | C50: =Август!D50 -> 6444 | D50: 6475 | E50: =D50-C50 -> 31
A51: 67 | B51: =Июль!D51 -> 1545 | C51: =Август!D51 -> 1551 | D51: 1560 | E51: =D51-C51 -> 9
A52: 68 | B52: =Июль!D52 -> 9041 | C52: =Август!D52 -> 9187 | D52: 9284 | E52: =D52-C52 -> 97
A53: 69 | B53: =Июль!D53 -> 3578 | C53: =Август!D53 -> 3651 | D53: 3697 | E53: =D53-C53 -> 46
A54: Сторож | B54: =Июль!D54 -> 64250 | C54: =Август!D54 -> 64300 | D54: 64249 | E54: =D54-C54 -> -51
A55: Скваж | B55: =Июль!D55 -> 79 | C55: =Август!D55 -> 79 | D55: 79 | E55: =D55-C55 -> 0
A56: 70 | B56: =Июль!D56 -> 13892 | C56: =Август!D56 -> 14185 | D56: 14492 | E56: =D56-C56 -> 307
A57: 71 | B57: =Июль!D57 -> 536 | C57: =Август!D57 -> 543 | D57: 584 | E57: =D57-C57 -> 41
A58: 72 | B58: =Июль!D58 -> 260 | C58: =Август!D58 -> 284 | D58: 299 | E58: =D58-C58 -> 15
A59: 73 | B59: =Июль!D59 -> 5532 | C59: =Август!D59 -> 5785 | D59: 6415 | E59: =D59-C59 -> 630
A60: 74 | B60: =Июль!D60 -> 0 | C60: =Август!D60 -> 0 | E60: =D60-C60 -> 0
A61: 75 | B61: =Июль!D61 -> 0 | C61: =Август!D61 -> 0 | E61: =D61-C61 -> 0
A62: 76 | B62: =Июль!D62 -> 1618 | C62: =Август!D62 -> 1644 | D62: 1691 | E62: =D62-C62 -> 47
A63: 77 | B63: =Июль!D63 -> 42897 | C63: =Август!D63 -> 43587 | D63: 44148 | E63: =D63-C63 -> 561
A64: 78 | B64: =Июль!D64 -> 34863 | C64: =Август!D64 -> 35165 | D64: 35289 | E64: =D64-C64 -> 124
A65: 79 | B65: =Июль!D65 -> 34691 | C65: =Август!D65 -> 35695 | D65: 36891 | E65: =D65-C65 -> 1196
A66: 80 | B66: =Июль!D66 -> 0 | C66: =Август!D66 -> 0 | E66: =D66-C66 -> 0
A67: 81 | B67: =Июль!D67 -> 28000 | C67: =Август!D67 -> 28138 | D67: 28490 | E67: =D67-C67 -> 352
A68: 82 | B68: =Июль!D68 -> 4092 | C68: =Август!D68 -> 4293 | D68: 4469 | E68: =D68-C68 -> 176
A69: 83 | B69: =Июль!D69 -> 0 | C69: =Август!D69 -> 0 | E69: =D69-C69 -> 0
A70: 84 | B70: =Июль!D70 -> 0 | C70: =Август!D70 -> 0 | E70: =D70-C70 -> 0
A71: 85 | B71: =Июль!D71 -> 0 | C71: =Август!D71 -> 0 | E71: =D71-C71 -> 0
A72: 86 | B72: =Июль!D72 -> 7688 | C72: =Август!D72 -> 7830 | D72: 7908 | E72: =D72-C72 -> 78
A73: 87 | B73: =Июль!D73 -> 10014 | C73: =Август!D73 -> 10047 | D73: 10058 | E73: =D73-C73 -> 11
A74: 88.89 | B74: =Июль!D74 -> 7285 | C74: =Август!D74 -> 7525 | D74: 7607 | E74: =D74-C74 -> 82
A75: 90 | B75: =Июль!D75 -> 11436 | C75: =Август!D75 -> 11831 | D75: 12278 | E75: =D75-C75 -> 447
A76: 91 | B76: =Июль!D76 -> 6401 | C76: =Август!D76 -> 6401 | D76: 6401 | E76: =D76-C76 -> 0
A77: 92 | B77: =Июль!D77 -> 0 | C77: =Август!D77 -> 0 | E77: =D77-C77 -> 0
A78: 93 | B78: =Июль!D78 -> 0 | C78: =Август!D78 -> 0 | E78: =D78-C78 -> 0
A79: 94 | B79: =Июль!D79 -> 0 | C79: =Август!D79 -> 0 | E79: =D79-C79 -> 0
A80: 95 | B80: =Июль!D80 -> 0 | C80: =Август!D80 -> 0 | E80: =D80-C80 -> 0
A81: 96 | B81: =Июль!D81 -> 0 | C81: =Август!D81 -> 0 | E81: =D81-C81 -> 0
A82: 97 | B82: =Июль!D82 -> 2.5 | C82: =Август!D82 -> 2.5 | D82: 2.5 | E82: =D82-C82 -> 0
A83: 98 | B83: =Июль!D83 -> 0 | C83: =Август!D83 -> 0 | E83: =D83-C83 -> 0
A84: 99 | B84: =Июль!D84 -> 10182 | C84: =Август!D84 -> 10539 | D84: 10799 | E84: =D84-C84 -> 260
A85: 100 | B85: =Июль!D85 -> 0 | C85: =Август!D85 -> 0 | E85: =D85-C85 -> 0
A86: 101.102 | B86: =Июль!D86 -> 25964 | C86: =Август!D86 -> 26198 | D86: 26519 | E86: =D86-C86 -> 321
A87: 103 | B87: =Июль!D87 -> 1327 | C87: =Август!D87 -> 1333 | D87: 1338 | E87: =D87-C87 -> 5
A88: 104 | B88: =Июль!D88 -> 149 | C88: =Август!D88 -> 159 | D88: 162 | E88: =D88-C88 -> 3
A89: 105 | B89: =Июль!D89 -> 0 | C89: =Август!D89 -> 0 | E89: =D89-C89 -> 0
A90: 106 | B90: =Июль!D90 -> 0 | C90: =Август!D90 -> 0 | E90: =D90-C90 -> 0
A91: 107.108 | B91: =Июль!D91 -> 67 | C91: =Август!D91 -> 67 | D91: 67 | E91: =D91-C91 -> 0
A92: 109 | B92: =Июль!D92 -> 7104 | C92: =Август!D92 -> 7436 | D92: 7693 | E92: =D92-C92 -> 257
A93: 110 | B93: =Июль!D93 -> 917 | C93: =Август!D93 -> 985 | D93: 1022 | E93: =D93-C93 -> 37
A94: 111 | B94: =Июль!D94 -> 4696 | C94: =Август!D94 -> 4736 | D94: 4757 | E94: =D94-C94 -> 21
A95: 112 | B95: =Июль!D95 -> 7668 | C95: =Август!D95 -> 7865 | D95: 8125 | E95: =D95-C95 -> 260
A96: 113 | B96: =Июль!D96 -> 12736 | C96: =Август!D96 -> 13064 | D96: 13235 | E96: =D96-C96 -> 171
A97: 114 | B97: =Июль!D97 -> 0 | C97: =Август!D97 -> 0 | E97: =D97-C97 -> 0
A98: 115 | B98: =Июль!D98 -> 1515 | C98: =Август!D98 -> 1568 | D98: 1587 | E98: =D98-C98 -> 19
A99: 116 | B99: =Июль!D99 -> 0 | C99: =Август!D99 -> 0 | E99: =D99-C99 -> 0
A100: 117 | B100: =Июль!D100 -> 111367 | C100: =Август!D100 -> 111903 | D100: 112842 | E100: =D100-C100 -> 939
...

Sheet Октябрь
A1: № | B1: Август | C1: Сентябрь | D1: Октябрь | E1: потребл. за мес.
A2: 1 | B2: =Август!D2 -> 0 | C2: =Сентябрь!D2 -> 0 | E2: =D2-C2 -> 0
A3: 2 | B3: =Август!D3 -> 245 | C3: =Сентябрь!D3 -> 245 | D3: 245 | E3: =D3-C3 -> 0
A4: 3 | B4: =Август!D4 -> 0 | C4: =Сентябрь!D4 -> 0 | E4: =D4-C4 -> 0
A5: 4.5 | B5: =Август!D5 -> 42181 | C5: =Сентябрь!D5 -> 42181 | D5: 42181 | E5: =D5-C5 -> 0
A6: 6 | B6: =Август!D6 -> 36938 | C6: =Сентябрь!D6 -> 37698 | D6: 38397 | E6: =D6-C6 -> 699
A7: 7.8 | B7: =Август!D7 -> 90247 | C7: =Сентябрь!D7 -> 90674 | D7: 91944 | E7: =D7-C7 -> 1270
A8: 9.1 | B8: =Август!D8 -> 9319 | C8: =Сентябрь!D8 -> 9998 | D8: 10504 | E8: =D8-C8 -> 506
A9: 11 | B9: =Август!D9 -> 2144 | C9: =Сентябрь!D9 -> 2467 | D9: 2847 | E9: =D9-C9 -> 380
A10: 12.13 | B10: =Август!D10 -> 46903 | C10: =Сентябрь!D10 -> 47389 | D10: 47798 | E10: =D10-C10 -> 409
A11: 14.15 | B11: =Август!D11 -> 10021 | C11: =Сентябрь!D11 -> 11459 | D11: 13063 | E11: =D11-C11 -> 1604
A12: 16 | B12: =Август!D12 -> 4035 | C12: =Сентябрь!D12 -> 4066 | D12: 4273 | E12: =D12-C12 -> 207
A13: 17 | B13: =Август!D13 -> 0 | C13: =Сентябрь!D13 -> 0 | E13: =D13-C13 -> 0
A14: 18 | B14: =Август!D14 -> 0 | C14: =Сентябрь!D14 -> 0 | E14: =D14-C14 -> 0
A15: 19 | B15: =Август!D15 -> 629 | C15: =Сентябрь!D15 -> 629 | D15: 629 | E15: =D15-C15 -> 0
A16: 20 | B16: =Август!D16 -> 8360 | C16: =Сентябрь!D16 -> 8400 | D16: 8401 | E16: =D16-C16 -> 1
A17: 21.22 | B17: =Август!D17 -> 10511 | C17: =Сентябрь!D17 -> 10594 | D17: 10723 | E17: =D17-C17 -> 129
A18: 23 | B18: =Август!D18 -> 4077 | C18: =Сентябрь!D18 -> 4122 | D18: 4257 | E18: =D18-C18 -> 135
A19: 24 | B19: =Август!D19 -> 51235 | C19: =Сентябрь!D19 -> 51648 | D19: 52669 | E19: =D19-C19 -> 1021
A20: 25 | B20: =Август!D20 -> 0 | C20: =Сентябрь!D20 -> 0 | E20: =D20-C20 -> 0
A21: 26 | B21: =Август!D21 -> 2299 | C21: =Сентябрь!D21 -> 2328 | D21: 2329 | E21: =D21-C21 -> 1
A22: 27 | B22: =Август!D22 -> 0 | C22: =Сентябрь!D22 -> 0 | E22: =D22-C22 -> 0
A23: 28.29 | B23: =Август!D23 -> 38209 | C23: =Сентябрь!D23 -> 38365 | D23: 38587 | E23: =D23-C23 -> 222
A24: 30 | B24: =Август!D24 -> 2733 | C24: =Сентябрь!D24 -> 2855 | D24: 2967 | E24: =D24-C24 -> 112
A25: 31 | B25: =Август!D25 -> 91 | C25: =Сентябрь!D25 -> 93 | D25: 93 | E25: =D25-C25 -> 0
A26: 32 | B26: =Август!D26 -> 5325 | C26: =Сентябрь!D26 -> 5433 | D26: 5463 | E26: =D26-C26 -> 30
A27: 33 | B27: =Август!D27 -> 0 | C27: =Сентябрь!D27 -> 0 | E27: =D27-C27 -> 0
A28: 34 | B28: =Август!D28 -> 3117 | C28: =Сентябрь!D28 -> 3194 | D28: 3314 | E28: =D28-C28 -> 120
A29: 35 | B29: =Август!D29 -> 0 | C29: =Сентябрь!D29 -> 0 | E29: =D29-C29 -> 0
A30: 36 | B30: =Август!D30 -> 4246 | C30: =Сентябрь!D30 -> 4356 | D30: 4414 | E30: =D30-C30 -> 58
A31: 37 | B31: =Август!D31 -> 15552 | C31: =Сентябрь!D31 -> 15635 | D31: 15779 | E31: =D31-C31 -> 144
A32: 38 | B32: =Август!D32 -> 853 | C32: =Сентябрь!D32 -> 904 | D32: 906 | E32: =D32-C32 -> 2
A33: 39.4 | B33: =Август!D33 -> 59825 | C33: =Сентябрь!D33 -> 60176 | D33: 60697 | E33: =D33-C33 -> 521
A34: 41-43 | B34: =Август!D34 -> 22219 | C34: =Сентябрь!D34 -> 22516 | D34: 22739 | E34: =D34-C34 -> 223
A35: 44 | B35: =Август!D35 -> 1421 | C35: =Сентябрь!D35 -> 1532 | D35: 1547 | E35: =D35-C35 -> 15
A36: 45 | B36: =Август!D36 -> 1975 | C36: =Сентябрь!D36 -> 2013 | D36: 2014 | E36: =D36-C36 -> 1
A37: 46 | B37: =Август!D37 -> 6221 | C37: =Сентябрь!D37 -> 6280 | D37: 6452 | E37: =D37-C37 -> 172
A38: 47-49 | B38: =Август!D38 -> 31623 | C38: =Сентябрь!D38 -> 31811 | D38: 31891 | E38: =D38-C38 -> 80
A39: 50.51 | B39: =Август!D39 -> 6790 | C39: =Сентябрь!D39 -> 6984 | D39: 7338 | E39: =D39-C39 -> 354
A40: 52 | B40: =Август!D40 -> 10371 | C40: =Сентябрь!D40 -> 10770 | D40: 11185 | E40: =D40-C40 -> 415
A41: 53-56 | B41: =Август!D41 -> 1793 | C41: =Сентябрь!D41 -> 2062 | D41: 2070 | E41: =D41-C41 -> 8
A42: 57 | B42: =Август!D42 -> 3 | C42: =Сентябрь!D42 -> 3 | D42: 3 | E42: =D42-C42 -> 0
A43: 58 | B43: =Август!D43 -> 10 | C43: =Сентябрь!D43 -> 10 | D43: 10 | E43: =D43-C43 -> 0
A44: 59 | B44: =Август!D44 -> 0 | C44: =Сентябрь!D44 -> 0 | E44: =D44-C44 -> 0
A45: 60.61 | B45: =Август!D45 -> 6917 | C45: =Сентябрь!D45 -> 7026 | D45: 7136 | E45: =D45-C45 -> 110
A46: 62 | B46: =Август!D46 -> 8138 | C46: =Сентябрь!D46 -> 8536 | D46: 8798 | E46: =D46-C46 -> 262
A47: 63 | B47: =Август!D47 -> 0 | C47: =Сентябрь!D47 -> 0 | E47: =D47-C47 -> 0
A48: 64 | B48: =Август!D48 -> 0 | C48: =Сентябрь!D48 -> 0 | E48: =D48-C48 -> 0
A49: 65 | B49: =Август!D49 -> 0 | C49: =Сентябрь!D49 -> 0 | E49: =D49-C49 -> 0
A50: 66 | B50: =Август!D50 -> 6444 | C50: =Сентябрь!D50 -> 6475 | D50: 6613 | E50: =D50-C50 -> 138
A51: 67 | B51: =Август!D51 -> 1551 | C51: =Сентябрь!D51 -> 1560 | D51: 1560 | E51: =D51-C51 -> 0
A52: 68 | B52: =Август!D52 -> 9187 | C52: =Сентябрь!D52 -> 9284 | D52: 9317 | E52: =D52-C52 -> 33
A53: 69 | B53: =Август!D53 -> 3651 | C53: =Сентябрь!D53 -> 3697 | D53: 3699 | E53: =D53-C53 -> 2
A54: Сторож | B54: =Август!D54 -> 64300 | C54: =Сентябрь!D54 -> 64249 | D54: 64288 | E54: =D54-C54 -> 39
A55: Скваж | B55: =Август!D55 -> 79 | C55: =Сентябрь!D55 -> 79 | D55: 79 | E55: =D55-C55 -> 0
A56: 70 | B56: =Август!D56 -> 14185 | C56: =Сентябрь!D56 -> 14492 | D56: 14545 | E56: =D56-C56 -> 53
A57: 71 | B57: =Август!D57 -> 543 | C57: =Сентябрь!D57 -> 584 | D57: 584 | E57: =D57-C57 -> 0
A58: 72 | B58: =Август!D58 -> 284 | C58: =Сентябрь!D58 -> 299 | D58: 306 | E58: =D58-C58 -> 7
A59: 73 | B59: =Август!D59 -> 5785 | C59: =Сентябрь!D59 -> 6415 | D59: 7380 | E59: =D59-C59 -> 965
A60: 74 | B60: =Август!D60 -> 0 | C60: =Сентябрь!D60 -> 0 | E60: =D60-C60 -> 0
A61: 75 | B61: =Август!D61 -> 0 | C61: =Сентябрь!D61 -> 0 | E61: =D61-C61 -> 0
A62: 76 | B62: =Август!D62 -> 1644 | C62: =Сентябрь!D62 -> 1691 | D62: 1752 | E62: =D62-C62 -> 61
A63: 77 | B63: =Август!D63 -> 43587 | C63: =Сентябрь!D63 -> 44148 | D63: 44603 | E63: =D63-C63 -> 455
A64: 78 | B64: =Август!D64 -> 35165 | C64: =Сентябрь!D64 -> 35289 | D64: 35379 | E64: =D64-C64 -> 90
A65: 79 | B65: =Август!D65 -> 35695 | C65: =Сентябрь!D65 -> 36891 | D65: 37959 | E65: =D65-C65 -> 1068
A66: 80 | B66: =Август!D66 -> 0 | C66: =Сентябрь!D66 -> 0 | E66: =D66-C66 -> 0
A67: 81 | B67: =Август!D67 -> 28138 | C67: =Сентябрь!D67 -> 28490 | D67: 28900 | E67: =D67-C67 -> 410
A68: 82 | B68: =Август!D68 -> 4293 | C68: =Сентябрь!D68 -> 4469 | D68: 4627 | E68: =D68-C68 -> 158
A69: 83 | B69: =Август!D69 -> 0 | C69: =Сентябрь!D69 -> 0 | E69: =D69-C69 -> 0
A70: 84 | B70: =Август!D70 -> 0 | C70: =Сентябрь!D70 -> 0 | E70: =D70-C70 -> 0
A71: 85 | B71: =Август!D71 -> 0 | C71: =Сентябрь!D71 -> 0 | E71: =D71-C71 -> 0
A72: 86 | B72: =Август!D72 -> 7830 | C72: =Сентябрь!D72 -> 7908 | D72: 8031 | E72: =D72-C72 -> 123
A73: 87 | B73: =Август!D73 -> 10047 | C73: =Сентябрь!D73 -> 10058 | D73: 10082 | E73: =D73-C73 -> 24
A74: 88.89 | B74: =Август!D74 -> 7525 | C74: =Сентябрь!D74 -> 7607 | D74: 7695 | E74: =D74-C74 -> 88
A75: 90 | B75: =Август!D75 -> 11831 | C75: =Сентябрь!D75 -> 12278 | D75: 12278 | E75: =D75-C75 -> 0
A76: 91 | B76: =Август!D76 -> 6401 | C76: =Сентябрь!D76 -> 6401 | D76: 6401 | E76: =D76-C76 -> 0
A77: 92 | B77: =Август!D77 -> 0 | C77: =Сентябрь!D77 -> 0 | E77: =D77-C77 -> 0
A78: 93 | B78: =Август!D78 -> 0 | C78: =Сентябрь!D78 -> 0 | E78: =D78-C78 -> 0
A79: 94 | B79: =Август!D79 -> 0 | C79: =Сентябрь!D79 -> 0 | E79: =D79-C79 -> 0
A80: 95 | B80: =Август!D80 -> 0 | C80: =Сентябрь!D80 -> 0 | E80: =D80-C80 -> 0
A81: 96 | B81: =Август!D81 -> 0 | C81: =Сентябрь!D81 -> 0 | E81: =D81-C81 -> 0
A82: 97 | B82: =Август!D82 -> 2.5 | C82: =Сентябрь!D82 -> 2.5 | D82: 2 | E82: =D82-C82 -> -0.5
A83: 98 | B83: =Август!D83 -> 0 | C83: =Сентябрь!D83 -> 0 | E83: =D83-C83 -> 0
A84: 99 | B84: =Август!D84 -> 10539 | C84: =Сентябрь!D84 -> 10799 | D84: 10912 | E84: =D84-C84 -> 113
A85: 100 | B85: =Август!D85 -> 0 | C85: =Сентябрь!D85 -> 0 | E85: =D85-C85 -> 0
A86: 101.102 | B86: =Август!D86 -> 26198 | C86: =Сентябрь!D86 -> 26519 | D86: 27160 | E86: =D86-C86 -> 641
A87: 103 | B87: =Август!D87 -> 1333 | C87: =Сентябрь!D87 -> 1338 | D87: 1338 | E87: =D87-C87 -> 0
A88: 104 | B88: =Август!D88 -> 159 | C88: =Сентябрь!D88 -> 162 | D88: 173 | E88: =D88-C88 -> 11
A89: 105 | B89: =Август!D89 -> 0 | C89: =Сентябрь!D89 -> 0 | E89: =D89-C89 -> 0
A90: 106 | B90: =Август!D90 -> 0 | C90: =Сентябрь!D90 -> 0 | E90: =D90-C90 -> 0
A91: 107.108 | B91: =Август!D91 -> 67 | C91: =Сентябрь!D91 -> 67 | D91: 67 | E91: =D91-C91 -> 0
A92: 109 | B92: =Август!D92 -> 7436 | C92: =Сентябрь!D92 -> 7693 | D92: 8269 | E92: =D92-C92 -> 576
A93: 110 | B93: =Август!D93 -> 985 | C93: =Сентябрь!D93 -> 1022 | D93: 1038 | E93: =D93-C93 -> 16
A94: 111 | B94: =Август!D94 -> 4736 | C94: =Сентябрь!D94 -> 4757 | D94: 4783 | E94: =D94-C94 -> 26
A95: 112 | B95: =Август!D95 -> 7865 | C95: =Сентябрь!D95 -> 8125 | D95: 8420 | E95: =D95-C95 -> 295
A96: 113 | B96: =Август!D96 -> 13064 | C96: =Сентябрь!D96 -> 13235 | D96: 13270 | E96: =D96-C96 -> 35
A97: 114 | B97: =Август!D97 -> 0 | C97: =Сентябрь!D97 -> 0 | E97: =D97-C97 -> 0
A98: 115 | B98: =Август!D98 -> 1568 | C98: =Сентябрь!D98 -> 1587 | D98: 1646 | E98: =D98-C98 -> 59
A99: 116 | B99: =Август!D99 -> 0 | C99: =Сентябрь!D99 -> 0 | E99: =D99-C99 -> 0
A100: 117 | B100: =Август!D100 -> 111903 | C100: =Сентябрь!D100 -> 112842 | D100: 113684 | E100: =D100-C100 -> 842
...

Sheet Ноябрь
A1: № | B1: Сентябрь | C1: Октябрь | D1: Ноябрь | E1: потребл. за мес.
A2: 1 | B2: =Сентябрь!D2 -> 0 | C2: =Октябрь!D2 -> 0 | E2: =D2-C2 -> 0
A3: 2 | B3: =Сентябрь!D3 -> 245 | C3: =Октябрь!D3 -> 245 | D3: 245 | E3: =D3-C3 -> 0
A4: 3 | B4: =Сентябрь!D4 -> 0 | C4: =Октябрь!D4 -> 0 | E4: =D4-C4 -> 0
A5: 4.5 | B5: =Сентябрь!D5 -> 42181 | C5: =Октябрь!D5 -> 42181 | D5: 42181 | E5: =D5-C5 -> 0
A6: 6 | B6: =Сентябрь!D6 -> 37698 | C6: =Октябрь!D6 -> 38397 | D6: 39908 | E6: =D6-C6 -> 1511
A7: 7.8 | B7: =Сентябрь!D7 -> 90674 | C7: =Октябрь!D7 -> 91944 | D7: 93760 | E7: =D7-C7 -> 1816
A8: 9.1 | B8: =Сентябрь!D8 -> 9998 | C8: =Октябрь!D8 -> 10504 | D8: 11008 | E8: =D8-C8 -> 504
A9: 11 | B9: =Сентябрь!D9 -> 2467 | C9: =Октябрь!D9 -> 2847 | D9: 2996 | E9: =D9-C9 -> 149
A10: 12.13 | B10: =Сентябрь!D10 -> 47389 | C10: =Октябрь!D10 -> 47798 | D10: 48385 | E10: =D10-C10 -> 587
A11: 14.15 | B11: =Сентябрь!D11 -> 11459 | C11: =Октябрь!D11 -> 13063 | D11: 13505 | E11: =D11-C11 -> 442
A12: 16 | B12: =Сентябрь!D12 -> 4066 | C12: =Октябрь!D12 -> 4273 | D12: 4273 | E12: =D12-C12 -> 0
A13: 17 | B13: =Сентябрь!D13 -> 0 | C13: =Октябрь!D13 -> 0 | E13: =D13-C13 -> 0
A14: 18 | B14: =Сентябрь!D14 -> 0 | C14: =Октябрь!D14 -> 0 | E14: =D14-C14 -> 0
A15: 19 | B15: =Сентябрь!D15 -> 629 | C15: =Октябрь!D15 -> 629 | D15: 629 | E15: =D15-C15 -> 0
A16: 20 | B16: =Сентябрь!D16 -> 8400 | C16: =Октябрь!D16 -> 8401 | D16: 8401 | E16: =D16-C16 -> 0
A17: 21.22 | B17: =Сентябрь!D17 -> 10594 | C17: =Октябрь!D17 -> 10723 | D17: 10723 | E17: =D17-C17 -> 0
A18: 23 | B18: =Сентябрь!D18 -> 4122 | C18: =Октябрь!D18 -> 4257 | D18: 4439 | E18: =D18-C18 -> 182
A19: 24 | B19: =Сентябрь!D19 -> 51648 | C19: =Октябрь!D19 -> 52669 | D19: 54006 | E19: =D19-C19 -> 1337
A20: 25 | B20: =Сентябрь!D20 -> 0 | C20: =Октябрь!D20 -> 0 | E20: =D20-C20 -> 0
A21: 26 | B21: =Сентябрь!D21 -> 2328 | C21: =Октябрь!D21 -> 2329 | D21: 2374 | E21: =D21-C21 -> 45
A22: 27 | B22: =Сентябрь!D22 -> 0 | C22: =Октябрь!D22 -> 0 | E22: =D22-C22 -> 0
A23: 28.29 | B23: =Сентябрь!D23 -> 38365 | C23: =Октябрь!D23 -> 38587 | D23: 38591 | E23: =D23-C23 -> 4
A24: 30 | B24: =Сентябрь!D24 -> 2855 | C24: =Октябрь!D24 -> 2967 | D24: 2969 | E24: =D24-C24 -> 2
A25: 31 | B25: =Сентябрь!D25 -> 93 | C25: =Октябрь!D25 -> 93 | D25: 93 | E25: =D25-C25 -> 0
A26: 32 | B26: =Сентябрь!D26 -> 5433 | C26: =Октябрь!D26 -> 5463 | D26: 5484 | E26: =D26-C26 -> 21
A27: 33 | B27: =Сентябрь!D27 -> 0 | C27: =Октябрь!D27 -> 0 | E27: =D27-C27 -> 0
A28: 34 | B28: =Сентябрь!D28 -> 3194 | C28: =Октябрь!D28 -> 3314 | D28: 3415 | E28: =D28-C28 -> 101
A29: 35 | B29: =Сентябрь!D29 -> 0 | C29: =Октябрь!D29 -> 0 | E29: =D29-C29 -> 0
A30: 36 | B30: =Сентябрь!D30 -> 4356 | C30: =Октябрь!D30 -> 4414 | D30: 4414 | E30: =D30-C30 -> 0
A31: 37 | B31: =Сентябрь!D31 -> 15635 | C31: =Октябрь!D31 -> 15779 | D31: 16097 | E31: =D31-C31 -> 318
A32: 38 | B32: =Сентябрь!D32 -> 904 | C32: =Октябрь!D32 -> 906 | D32: 913 | E32: =D32-C32 -> 7
A33: 39.4 | B33: =Сентябрь!D33 -> 60176 | C33: =Октябрь!D33 -> 60697 | D33: 61887 | E33: =D33-C33 -> 1190
A34: 41-43 | B34: =Сентябрь!D34 -> 22516 | C34: =Октябрь!D34 -> 22739 | D34: 23123 | E34: =D34-C34 -> 384
A35: 44 | B35: =Сентябрь!D35 -> 1532 | C35: =Октябрь!D35 -> 1547 | D35: 1547 | E35: =D35-C35 -> 0
A36: 45 | B36: =Сентябрь!D36 -> 2013 | C36: =Октябрь!D36 -> 2014 | D36: 2014 | E36: =D36-C36 -> 0
A37: 46 | B37: =Сентябрь!D37 -> 6280 | C37: =Октябрь!D37 -> 6452 | D37: 6452 | E37: =D37-C37 -> 0
A38: 47-49 | B38: =Сентябрь!D38 -> 31811 | C38: =Октябрь!D38 -> 31891 | D38: 32059 | E38: =D38-C38 -> 168
A39: 50.51 | B39: =Сентябрь!D39 -> 6984 | C39: =Октябрь!D39 -> 7338 | D39: 7626 | E39: =D39-C39 -> 288
A40: 52 | B40: =Сентябрь!D40 -> 10770 | C40: =Октябрь!D40 -> 11185 | D40: 11756 | E40: =D40-C40 -> 571
A41: 53-56 | B41: =Сентябрь!D41 -> 2062 | C41: =Октябрь!D41 -> 2070 | D41: 2070 | E41: =D41-C41 -> 0
A42: 57 | B42: =Сентябрь!D42 -> 3 | C42: =Октябрь!D42 -> 3 | D42: 3 | E42: =D42-C42 -> 0
A43: 58 | B43: =Сентябрь!D43 -> 10 | C43: =Октябрь!D43 -> 10 | D43: 10 | E43: =D43-C43 -> 0
A44: 59 | B44: =Сентябрь!D44 -> 0 | C44: =Октябрь!D44 -> 0 | E44: =D44-C44 -> 0
A45: 60.61 | B45: =Сентябрь!D45 -> 7026 | C45: =Октябрь!D45 -> 7136 | D45: 7137 | E45: =D45-C45 -> 1
A46: 62 | B46: =Сентябрь!D46 -> 8536 | C46: =Октябрь!D46 -> 8798 | D46: 8843 | E46: =D46-C46 -> 45
A47: 63 | B47: =Сентябрь!D47 -> 0 | C47: =Октябрь!D47 -> 0 | E47: =D47-C47 -> 0
A48: 64 | B48: =Сентябрь!D48 -> 0 | C48: =Октябрь!D48 -> 0 | E48: =D48-C48 -> 0
A49: 65 | B49: =Сентябрь!D49 -> 0 | C49: =Октябрь!D49 -> 0 | E49: =D49-C49 -> 0
A50: 66 | B50: =Сентябрь!D50 -> 6475 | C50: =Октябрь!D50 -> 6613 | D50: 6712 | E50: =D50-C50 -> 99
A51: 67 | B51: =Сентябрь!D51 -> 1560 | C51: =Октябрь!D51 -> 1560 | D51: 1560 | E51: =D51-C51 -> 0
A52: 68 | B52: =Сентябрь!D52 -> 9284 | C52: =Октябрь!D52 -> 9317 | D52: 9333 | E52: =D52-C52 -> 16
A53: 69 | B53: =Сентябрь!D53 -> 3697 | C53: =Октябрь!D53 -> 3699 | D53: 3699 | E53: =D53-C53 -> 0
A54: Сторож | B54: =Сентябрь!D54 -> 64249 | C54: =Октябрь!D54 -> 64288 | D54: 64320 | E54: =D54-C54 -> 32
A55: Скваж | B55: =Сентябрь!D55 -> 79 | C55: =Октябрь!D55 -> 79 | D55: 79 | E55: =D55-C55 -> 0
A56: 70 | B56: =Сентябрь!D56 -> 14492 | C56: =Октябрь!D56 -> 14545 | D56: 14627 | E56: =D56-C56 -> 82
A57: 71 | B57: =Сентябрь!D57 -> 584 | C57: =Октябрь!D57 -> 584 | D57: 585 | E57: =D57-C57 -> 1
A58: 72 | B58: =Сентябрь!D58 -> 299 | C58: =Октябрь!D58 -> 306 | D58: 311 | E58: =D58-C58 -> 5
A59: 73 | B59: =Сентябрь!D59 -> 6415 | C59: =Октябрь!D59 -> 7380 | D59: 7973 | E59: =D59-C59 -> 593
A60: 74 | B60: =Сентябрь!D60 -> 0 | C60: =Октябрь!D60 -> 0 | E60: =D60-C60 -> 0
A61: 75 | B61: =Сентябрь!D61 -> 0 | C61: =Октябрь!D61 -> 0 | E61: =D61-C61 -> 0
A62: 76 | B62: =Сентябрь!D62 -> 1691 | C62: =Октябрь!D62 -> 1752 | D62: 1752 | E62: =D62-C62 -> 0
A63: 77 | B63: =Сентябрь!D63 -> 44148 | C63: =Октябрь!D63 -> 44603 | D63: 45228 | E63: =D63-C63 -> 625
A64: 78 | B64: =Сентябрь!D64 -> 35289 | C64: =Октябрь!D64 -> 35379 | D64: 35379 | E64: =D64-C64 -> 0
A65: 79 | B65: =Сентябрь!D65 -> 36891 | C65: =Октябрь!D65 -> 37959 | D65: 39726 | E65: =D65-C65 -> 1767
A66: 80 | B66: =Сентябрь!D66 -> 0 | C66: =Октябрь!D66 -> 0 | E66: =D66-C66 -> 0
A67: 81 | B67: =Сентябрь!D67 -> 28490 | C67: =Октябрь!D67 -> 28900 | D67: 29500 | E67: =D67-C67 -> 600
A68: 82 | B68: =Сентябрь!D68 -> 4469 | C68: =Октябрь!D68 -> 4627 | D68: 4716 | E68: =D68-C68 -> 89
A69: 83 | B69: =Сентябрь!D69 -> 0 | C69: =Октябрь!D69 -> 0 | E69: =D69-C69 -> 0
A70: 84 | B70: =Сентябрь!D70 -> 0 | C70: =Октябрь!D70 -> 0 | E70: =D70-C70 -> 0
A71: 85 | B71: =Сентябрь!D71 -> 0 | C71: =Октябрь!D71 -> 0 | E71: =D71-C71 -> 0
A72: 86 | B72: =Сентябрь!D72 -> 7908 | C72: =Октябрь!D72 -> 8031 | D72: 8471 | E72: =D72-C72 -> 440
A73: 87 | B73: =Сентябрь!D73 -> 10058 | C73: =Октябрь!D73 -> 10082 | D73: 10108 | E73: =D73-C73 -> 26
A74: 88.89 | B74: =Сентябрь!D74 -> 7607 | C74: =Октябрь!D74 -> 7695 | D74: 7695 | E74: =D74-C74 -> 0
A75: 90 | B75: =Сентябрь!D75 -> 12278 | C75: =Октябрь!D75 -> 12278 | D75: 12278 | E75: =D75-C75 -> 0
A76: 91 | B76: =Сентябрь!D76 -> 6401 | C76: =Октябрь!D76 -> 6401 | D76: 6401 | E76: =D76-C76 -> 0
A77: 92 | B77: =Сентябрь!D77 -> 0 | C77: =Октябрь!D77 -> 0 | E77: =D77-C77 -> 0
A78: 93 | B78: =Сентябрь!D78 -> 0 | C78: =Октябрь!D78 -> 0 | E78: =D78-C78 -> 0
A79: 94 | B79: =Сентябрь!D79 -> 0 | C79: =Октябрь!D79 -> 0 | E79: =D79-C79 -> 0
A80: 95 | B80: =Сентябрь!D80 -> 0 | C80: =Октябрь!D80 -> 0 | E80: =D80-C80 -> 0
A81: 96 | B81: =Сентябрь!D81 -> 0 | C81: =Октябрь!D81 -> 0 | E81: =D81-C81 -> 0
A82: 97 | B82: =Сентябрь!D82 -> 2.5 | C82: =Октябрь!D82 -> 2 | D82: 2 | E82: =D82-C82 -> 0
A83: 98 | B83: =Сентябрь!D83 -> 0 | C83: =Октябрь!D83 -> 0 | E83: =D83-C83 -> 0
A84: 99 | B84: =Сентябрь!D84 -> 10799 | C84: =Октябрь!D84 -> 10912 | D84: 11152 | E84: =D84-C84 -> 240
A85: 100 | B85: =Сентябрь!D85 -> 0 | C85: =Октябрь!D85 -> 0 | E85: =D85-C85 -> 0
A86: 101.102 | B86: =Сентябрь!D86 -> 26519 | C86: =Октябрь!D86 -> 27160 | D86: 27961 | E86: =D86-C86 -> 801
A87: 103 | B87: =Сентябрь!D87 -> 1338 | C87: =Октябрь!D87 -> 1338 | D87: 1338 | E87: =D87-C87 -> 0
A88: 104 | B88: =Сентябрь!D88 -> 162 | C88: =Октябрь!D88 -> 173 | D88: 177 | E88: =D88-C88 -> 4
A89: 105 | B89: =Сентябрь!D89 -> 0 | C89: =Октябрь!D89 -> 0 | E89: =D89-C89 -> 0
A90: 106 | B90: =Сентябрь!D90 -> 0 | C90: =Октябрь!D90 -> 0 | E90: =D90-C90 -> 0
A91: 107.108 | B91: =Сентябрь!D91 -> 67 | C91: =Октябрь!D91 -> 67 | D91: 67 | E91: =D91-C91 -> 0
A92: 109 | B92: =Сентябрь!D92 -> 7693 | C92: =Октябрь!D92 -> 8269 | D92: 8336 | E92: =D92-C92 -> 67
A93: 110 | B93: =Сентябрь!D93 -> 1022 | C93: =Октябрь!D93 -> 1038 | D93: 1038 | E93: =D93-C93 -> 0
A94: 111 | B94: =Сентябрь!D94 -> 4757 | C94: =Октябрь!D94 -> 4783 | D94: 4788 | E94: =D94-C94 -> 5
A95: 112 | B95: =Сентябрь!D95 -> 8125 | C95: =Октябрь!D95 -> 8420 | D95: 8430 | E95: =D95-C95 -> 10
A96: 113 | B96: =Сентябрь!D96 -> 13235 | C96: =Октябрь!D96 -> 13270 | D96: 13317 | E96: =D96-C96 -> 47
A97: 114 | B97: =Сентябрь!D97 -> 0 | C97: =Октябрь!D97 -> 0 | E97: =D97-C97 -> 0
A98: 115 | B98: =Сентябрь!D98 -> 1587 | C98: =Октябрь!D98 -> 1646 | D98: 1646 | E98: =D98-C98 -> 0
A99: 116 | B99: =Сентябрь!D99 -> 0 | C99: =Октябрь!D99 -> 0 | E99: =D99-C99 -> 0
A100: 117 | B100: =Сентябрь!D100 -> 112842 | C100: =Октябрь!D100 -> 113684 | D100: 114724 | E100: =D100-C100 -> 1040
...

Sheet Декабрь
A1: № | B1: Октябрь | C1: Ноябрь | D1: Декабрь | E1: потребл. за мес.
A2: 1 | B2: =Октябрь!D2 -> 0 | C2: =Ноябрь!D2 -> 0 | E2: =D2-C2 -> 0
A3: 2 | B3: =Октябрь!D3 -> 245 | C3: =Ноябрь!D3 -> 245 | D3: 245 | E3: =D3-C3 -> 0
A4: 3 | B4: =Октябрь!D4 -> 0 | C4: =Ноябрь!D4 -> 0 | E4: =D4-C4 -> 0
A5: 4.5 | B5: =Октябрь!D5 -> 42181 | C5: =Ноябрь!D5 -> 42181 | D5: 42181 | E5: =D5-C5 -> 0
A6: 6 | B6: =Октябрь!D6 -> 38397 | C6: =Ноябрь!D6 -> 39908 | D6: 41356 | E6: =D6-C6 -> 1448
A7: 7.8 | B7: =Октябрь!D7 -> 91944 | C7: =Ноябрь!D7 -> 93760 | D7: 96680 | E7: =D7-C7 -> 2920
A8: 9.1 | B8: =Октябрь!D8 -> 10504 | C8: =Ноябрь!D8 -> 11008 | D8: 11543 | E8: =D8-C8 -> 535
A9: 11 | B9: =Октябрь!D9 -> 2847 | C9: =Ноябрь!D9 -> 2996 | D9: 2996 | E9: =D9-C9 -> 0
A10: 12.13 | B10: =Октябрь!D10 -> 47798 | C10: =Ноябрь!D10 -> 48385 | D10: 49616 | E10: =D10-C10 -> 1231
A11: 14.15 | B11: =Октябрь!D11 -> 13063 | C11: =Ноябрь!D11 -> 13505 | D11: 13505 | E11: =D11-C11 -> 0
A12: 16 | B12: =Октябрь!D12 -> 4273 | C12: =Ноябрь!D12 -> 4273 | D12: 4273 | E12: =D12-C12 -> 0
A13: 17 | B13: =Октябрь!D13 -> 0 | C13: =Ноябрь!D13 -> 0 | E13: =D13-C13 -> 0
A14: 18 | B14: =Октябрь!D14 -> 0 | C14: =Ноябрь!D14 -> 0 | E14: =D14-C14 -> 0
A15: 19 | B15: =Октябрь!D15 -> 629 | C15: =Ноябрь!D15 -> 629 | D15: 629 | E15: =D15-C15 -> 0
A16: 20 | B16: =Октябрь!D16 -> 8401 | C16: =Ноябрь!D16 -> 8401 | D16: 8401 | E16: =D16-C16 -> 0
A17: 21.22 | B17: =Октябрь!D17 -> 10723 | C17: =Ноябрь!D17 -> 10723 | D17: 10754 | E17: =D17-C17 -> 31
A18: 23 | B18: =Октябрь!D18 -> 4257 | C18: =Ноябрь!D18 -> 4439 | D18: 4440 | E18: =D18-C18 -> 1
A19: 24 | B19: =Октябрь!D19 -> 52669 | C19: =Ноябрь!D19 -> 54006 | D19: 54158 | E19: =D19-C19 -> 152
A20: 25 | B20: =Октябрь!D20 -> 0 | C20: =Ноябрь!D20 -> 0 | E20: =D20-C20 -> 0
A21: 26 | B21: =Октябрь!D21 -> 2329 | C21: =Ноябрь!D21 -> 2374 | D21: 2374 | E21: =D21-C21 -> 0
A22: 27 | B22: =Октябрь!D22 -> 0 | C22: =Ноябрь!D22 -> 0 | E22: =D22-C22 -> 0
A23: 28.29 | B23: =Октябрь!D23 -> 38587 | C23: =Ноябрь!D23 -> 38591 | D23: 38596 | E23: =D23-C23 -> 5
A24: 30 | B24: =Октябрь!D24 -> 2967 | C24: =Ноябрь!D24 -> 2969 | D24: 2969 | E24: =D24-C24 -> 0
A25: 31 | B25: =Октябрь!D25 -> 93 | C25: =Ноябрь!D25 -> 93 | D25: 93 | E25: =D25-C25 -> 0
A26: 32 | B26: =Октябрь!D26 -> 5463 | C26: =Ноябрь!D26 -> 5484 | D26: 5484 | E26: =D26-C26 -> 0
A27: 33 | B27: =Октябрь!D27 -> 0 | C27: =Ноябрь!D27 -> 0 | E27: =D27-C27 -> 0
A28: 34 | B28: =Октябрь!D28 -> 3314 | C28: =Ноябрь!D28 -> 3415 | D28: 3449 | E28: =D28-C28 -> 34
A29: 35 | B29: =Октябрь!D29 -> 0 | C29: =Ноябрь!D29 -> 0 | E29: =D29-C29 -> 0
A30: 36 | B30: =Октябрь!D30 -> 4414 | C30: =Ноябрь!D30 -> 4414 | D30: 4414 | E30: =D30-C30 -> 0
A31: 37 | B31: =Октябрь!D31 -> 15779 | C31: =Ноябрь!D31 -> 16097 | D31: 16667 | E31: =D31-C31 -> 570
A32: 38 | B32: =Октябрь!D32 -> 906 | C32: =Ноябрь!D32 -> 913 | D32: 914 | E32: =D32-C32 -> 1
A33: 39.4 | B33: =Октябрь!D33 -> 60697 | C33: =Ноябрь!D33 -> 61887 | D33: 63105 | E33: =D33-C33 -> 1218
A34: 41-43 | B34: =Октябрь!D34 -> 22739 | C34: =Ноябрь!D34 -> 23123 | D34: 23583 | E34: =D34-C34 -> 460
A35: 44 | B35: =Октябрь!D35 -> 1547 | C35: =Ноябрь!D35 -> 1547 | D35: 1547 | E35: =D35-C35 -> 0
A36: 45 | B36: =Октябрь!D36 -> 2014 | C36: =Ноябрь!D36 -> 2014 | D36: 2014 | E36: =D36-C36 -> 0
A37: 46 | B37: =Октябрь!D37 -> 6452 | C37: =Ноябрь!D37 -> 6452 | D37: 6452 | E37: =D37-C37 -> 0
A38: 47-49 | B38: =Октябрь!D38 -> 31891 | C38: =Ноябрь!D38 -> 32059 | D38: 32371 | E38: =D38-C38 -> 312
A39: 50.51 | B39: =Октябрь!D39 -> 7338 | C39: =Ноябрь!D39 -> 7626 | D39: 7763 | E39: =D39-C39 -> 137
A40: 52 | B40: =Октябрь!D40 -> 11185 | C40: =Ноябрь!D40 -> 11756 | D40: 12268 | E40: =D40-C40 -> 512
A41: 53-56 | B41: =Октябрь!D41 -> 2070 | C41: =Ноябрь!D41 -> 2070 | D41: 2070 | E41: =D41-C41 -> 0
A42: 57 | B42: =Октябрь!D42 -> 3 | C42: =Ноябрь!D42 -> 3 | D42: 3 | E42: =D42-C42 -> 0
A43: 58 | B43: =Октябрь!D43 -> 10 | C43: =Ноябрь!D43 -> 10 | D43: 10 | E43: =D43-C43 -> 0
A44: 59 | B44: =Октябрь!D44 -> 0 | C44: =Ноябрь!D44 -> 0 | E44: =D44-C44 -> 0
A45: 60.61 | B45: =Октябрь!D45 -> 7136 | C45: =Ноябрь!D45 -> 7137 | D45: 7137 | E45: =D45-C45 -> 0
A46: 62 | B46: =Октябрь!D46 -> 8798 | C46: =Ноябрь!D46 -> 8843 | D46: 8843 | E46: =D46-C46 -> 0
A47: 63 | B47: =Октябрь!D47 -> 0 | C47: =Ноябрь!D47 -> 0 | E47: =D47-C47 -> 0
A48: 64 | B48: =Октябрь!D48 -> 0 | C48: =Ноябрь!D48 -> 0 | E48: =D48-C48 -> 0
A49: 65 | B49: =Октябрь!D49 -> 0 | C49: =Ноябрь!D49 -> 0 | E49: =D49-C49 -> 0
A50: 66 | B50: =Октябрь!D50 -> 6613 | C50: =Ноябрь!D50 -> 6712 | D50: 6717 | E50: =D50-C50 -> 5
A51: 67 | B51: =Октябрь!D51 -> 1560 | C51: =Ноябрь!D51 -> 1560 | D51: 1560 | E51: =D51-C51 -> 0
A52: 68 | B52: =Октябрь!D52 -> 9317 | C52: =Ноябрь!D52 -> 9333 | D52: 9339 | E52: =D52-C52 -> 6
A53: 69 | B53: =Октябрь!D53 -> 3699 | C53: =Ноябрь!D53 -> 3699 | D53: 3706 | E53: =D53-C53 -> 7
A54: Сторож | B54: =Октябрь!D54 -> 64288 | C54: =Ноябрь!D54 -> 64320 | D54: 64380 | E54: =D54-C54 -> 60
A55: Скваж | B55: =Октябрь!D55 -> 79 | C55: =Ноябрь!D55 -> 79 | D55: 79 | E55: =D55-C55 -> 0
A56: 70 | B56: =Октябрь!D56 -> 14545 | C56: =Ноябрь!D56 -> 14627 | D56: 14627 | E56: =D56-C56 -> 0
A57: 71 | B57: =Октябрь!D57 -> 584 | C57: =Ноябрь!D57 -> 585 | D57: 585 | E57: =D57-C57 -> 0
A58: 72 | B58: =Октябрь!D58 -> 306 | C58: =Ноябрь!D58 -> 311 | D58: 311 | E58: =D58-C58 -> 0
A59: 73 | B59: =Октябрь!D59 -> 7380 | C59: =Ноябрь!D59 -> 7973 | D59: 7973 | E59: =D59-C59 -> 0
A60: 74 | B60: =Октябрь!D60 -> 0 | C60: =Ноябрь!D60 -> 0 | E60: =D60-C60 -> 0
A61: 75 | B61: =Октябрь!D61 -> 0 | C61: =Ноябрь!D61 -> 0 | E61: =D61-C61 -> 0
A62: 76 | B62: =Октябрь!D62 -> 1752 | C62: =Ноябрь!D62 -> 1752 | D62: 1752 | E62: =D62-C62 -> 0
A63: 77 | B63: =Октябрь!D63 -> 44603 | C63: =Ноябрь!D63 -> 45228 | D63: 46344 | E63: =D63-C63 -> 1116
A64: 78 | B64: =Октябрь!D64 -> 35379 | C64: =Ноябрь!D64 -> 35379 | D64: 35379 | E64: =D64-C64 -> 0
A65: 79 | B65: =Октябрь!D65 -> 37959 | C65: =Ноябрь!D65 -> 39726 | D65: 41207 | E65: =D65-C65 -> 1481
A66: 80 | B66: =Октябрь!D66 -> 0 | C66: =Ноябрь!D66 -> 0 | E66: =D66-C66 -> 0
A67: 81 | B67: =Октябрь!D67 -> 28900 | C67: =Ноябрь!D67 -> 29500 | D67: 30740 | E67: =D67-C67 -> 1240
A68: 82 | B68: =Октябрь!D68 -> 4627 | C68: =Ноябрь!D68 -> 4716 | D68: 4744 | E68: =D68-C68 -> 28
A69: 83 | B69: =Октябрь!D69 -> 0 | C69: =Ноябрь!D69 -> 0 | E69: =D69-C69 -> 0
A70: 84 | B70: =Октябрь!D70 -> 0 | C70: =Ноябрь!D70 -> 0 | E70: =D70-C70 -> 0
A71: 85 | B71: =Октябрь!D71 -> 0 | C71: =Ноябрь!D71 -> 0 | E71: =D71-C71 -> 0
A72: 86 | B72: =Октябрь!D72 -> 8031 | C72: =Ноябрь!D72 -> 8471 | D72: 9315 | E72: =D72-C72 -> 844
A73: 87 | B73: =Октябрь!D73 -> 10082 | C73: =Ноябрь!D73 -> 10108 | D73: 10109 | E73: =D73-C73 -> 1
A74: 88.89 | B74: =Октябрь!D74 -> 7695 | C74: =Ноябрь!D74 -> 7695 | D74: 7695 | E74: =D74-C74 -> 0
A75: 90 | B75: =Октябрь!D75 -> 12278 | C75: =Ноябрь!D75 -> 12278 | D75: 12278 | E75: =D75-C75 -> 0
A76: 91 | B76: =Октябрь!D76 -> 6401 | C76: =Ноябрь!D76 -> 6401 | D76: 6401 | E76: =D76-C76 -> 0
A77: 92 | B77: =Октябрь!D77 -> 0 | C77: =Ноябрь!D77 -> 0 | E77: =D77-C77 -> 0
A78: 93 | B78: =Октябрь!D78 -> 0 | C78: =Ноябрь!D78 -> 0 | E78: =D78-C78 -> 0
A79: 94 | B79: =Октябрь!D79 -> 0 | C79: =Ноябрь!D79 -> 0 | E79: =D79-C79 -> 0
A80: 95 | B80: =Октябрь!D80 -> 0 | C80: =Ноябрь!D80 -> 0 | E80: =D80-C80 -> 0
A81: 96 | B81: =Октябрь!D81 -> 0 | C81: =Ноябрь!D81 -> 0 | E81: =D81-C81 -> 0
A82: 97 | B82: =Октябрь!D82 -> 2 | C82: =Ноябрь!D82 -> 2 | D82: 2 | E82: =D82-C82 -> 0
A83: 98 | B83: =Октябрь!D83 -> 0 | C83: =Ноябрь!D83 -> 0 | E83: =D83-C83 -> 0
A84: 99 | B84: =Октябрь!D84 -> 10912 | C84: =Ноябрь!D84 -> 11152 | D84: 11239 | E84: =D84-C84 -> 87
A85: 100 | B85: =Октябрь!D85 -> 0 | C85: =Ноябрь!D85 -> 0 | E85: =D85-C85 -> 0
A86: 101.102 | B86: =Октябрь!D86 -> 27160 | C86: =Ноябрь!D86 -> 27961 | D86: 29126 | E86: =D86-C86 -> 1165
A87: 103 | B87: =Октябрь!D87 -> 1338 | C87: =Ноябрь!D87 -> 1338 | D87: 1338 | E87: =D87-C87 -> 0
A88: 104 | B88: =Октябрь!D88 -> 173 | C88: =Ноябрь!D88 -> 177 | D88: 177 | E88: =D88-C88 -> 0
A89: 105 | B89: =Октябрь!D89 -> 0 | C89: =Ноябрь!D89 -> 0 | E89: =D89-C89 -> 0
A90: 106 | B90: =Октябрь!D90 -> 0 | C90: =Ноябрь!D90 -> 0 | E90: =D90-C90 -> 0
A91: 107.108 | B91: =Октябрь!D91 -> 67 | C91: =Ноябрь!D91 -> 67 | D91: 67 | E91: =D91-C91 -> 0
A92: 109 | B92: =Октябрь!D92 -> 8269 | C92: =Ноябрь!D92 -> 8336 | D92: 8338 | E92: =D92-C92 -> 2
A93: 110 | B93: =Октябрь!D93 -> 1038 | C93: =Ноябрь!D93 -> 1038 | D93: 1038 | E93: =D93-C93 -> 0
A94: 111 | B94: =Октябрь!D94 -> 4783 | C94: =Ноябрь!D94 -> 4788 | D94: 4788 | E94: =D94-C94 -> 0
A95: 112 | B95: =Октябрь!D95 -> 8420 | C95: =Ноябрь!D95 -> 8430 | D95: 8430 | E95: =D95-C95 -> 0
A96: 113 | B96: =Октябрь!D96 -> 13270 | C96: =Ноябрь!D96 -> 13317 | D96: 13317 | E96: =D96-C96 -> 0
A97: 114 | B97: =Октябрь!D97 -> 0 | C97: =Ноябрь!D97 -> 0 | E97: =D97-C97 -> 0
A98: 115 | B98: =Октябрь!D98 -> 1646 | C98: =Ноябрь!D98 -> 1646 | D98: 1646 | E98: =D98-C98 -> 0
A99: 116 | B99: =Октябрь!D99 -> 0 | C99: =Ноябрь!D99 -> 0 | E99: =D99-C99 -> 0
A100: 117 | B100: =Октябрь!D100 -> 113684 | C100: =Ноябрь!D100 -> 114724 | D100: 116799 | E100: =D100-C100 -> 2075
...

Sheet Счетчики
A1: СНТ Винт
B4: Меркурий 230 АМ-03 № 25471825 | C4: 1-77,
B5: Меркурий 230 АМ-03 № 25471781 | C5: Новое поле
B6: Меркурий 230 АМ-03 № 19418887 | C6: Бочка
B7: Энергомера СЕ 101 № 124539496 | C7: Освещение
B8: СЭТ-4М.03М01. №0811120485 | C8: Общий Сатино
A11: Ответственный за снятие показаний | C11: _________________________ ( _____________________ ) | F11: Стафеева Е.В.

Sheet Без счетчиков
A1: 81 | B1: индивидуал, не вынес счетчик
A2: 106
A3: 114
A4: 165
A5: 169 | B5: не продан
A6: 170 | B6: не продан
A7: 175 | B7: не продан
A8: 176 | B8: не продан
A9: 192
