Workbook

Sheet Январь
A1: № | B1: Ноябрь | C1: Декабрь | D1: Январь | E1: потребл. за мес.
A2: 1 | B2: =[1]Ноябрь!D2 -> 0 | C2: =[1]Декабрь!D2 -> 0 | E2: =D2-C2 -> 0
A3: 2 | B3: =[1]Ноябрь!D3 -> 217 | C3: =[1]Декабрь!D3 -> 217 | D3: 217 | E3: =D3-C3 -> 0
A4: 3 | B4: =[1]Ноябрь!D4 -> 0 | C4: =[1]Декабрь!D4 -> 0 | E4: =D4-C4 -> 0
A5: 4.5 | B5: =[1]Ноябрь!D5 -> 42181 | C5: =[1]Декабрь!D5 -> 42181 | D5: 42181 | E5: =D5-C5 -> 0
A6: 6 | B6: =[1]Ноябрь!D6 -> 13101 | C6: =[1]Декабрь!D6 -> 15414 | D6: 17882 | E6: =D6-C6 -> 2468
A7: 7.8 | B7: =[1]Ноябрь!D7 -> 59835 | C7: =[1]Декабрь!D7 -> 61426 | D7: 62756 | E7: =D7-C7 -> 1330
A8: 9.1 | B8: =[1]Ноябрь!D8 -> 10123 | C8: =[1]Декабрь!D8 -> 10567 | D8: 11076 | E8: =D8-C8 -> 509
A9: 11 | B9: =[1]Ноябрь!D9 -> 0 | C9: =[1]Декабрь!D9 -> 0 | E9: =D9-C9 -> 0
A10: 12.13 | B10: =[1]Ноябрь!D10 -> 29967 | C10: =[1]Декабрь!D10 -> 30805 | D10: 31826 | E10: =D10-C10 -> 1021
A11: 14.15 | B11: =[1]Ноябрь!D11 -> 91087 | C11: =[1]Декабрь!D11 -> 91997 | D11: 93011 | E11: =D11-C11 -> 1014
A12: 16 | B12: =[1]Ноябрь!D12 -> 2562 | C12: =[1]Декабрь!D12 -> 2562 | D12: 2562 | E12: =D12-C12 -> 0
A13: 17 | B13: =[1]Ноябрь!D13 -> 0 | C13: =[1]Декабрь!D13 -> 0 | E13: =D13-C13 -> 0
A14: 18 | B14: =[1]Ноябрь!D14 -> 0 | C14: =[1]Декабрь!D14 -> 0 | E14: =D14-C14 -> 0
A15: 19 | B15: =[1]Ноябрь!D15 -> 629 | C15: =[1]Декабрь!D15 -> 629 | D15: 629 | E15: =D15-C15 -> 0
A16: 20 | B16: =[1]Ноябрь!D16 -> 4593 | C16: =[1]Декабрь!D16 -> 5187 | D16: 5973 | E16: =D16-C16 -> 786
A17: 21.22 | B17: =[1]Ноябрь!D17 -> 4372 | C17: =[1]Декабрь!D17 -> 4372 | D17: 4413 | E17: =D17-C17 -> 41
A18: 23 | B18: =[1]Ноябрь!D18 -> 2183 | C18: =[1]Декабрь!D18 -> 2184 | D18: 2185 | E18: =D18-C18 -> 1
A19: 24 | B19: =[1]Ноябрь!D19 -> 38692 | C19: =[1]Декабрь!D19 -> 38724 | D19: 38738 | E19: =D19-C19 -> 14
A20: 25 | B20: =[1]Ноябрь!D20 -> 0 | C20: =[1]Декабрь!D20 -> 0 | E20: =D20-C20 -> 0
A21: 26 | B21: =[1]Ноябрь!D21 -> 603 | C21: =[1]Декабрь!D21 -> 603 | D21: 603 | E21: =D21-C21 -> 0
A22: 27 | B22: =[1]Ноябрь!D22 -> 0 | C22: =[1]Декабрь!D22 -> 0 | E22: =D22-C22 -> 0
A23: 28.29 | B23: =[1]Ноябрь!D23 -> 31590 | C23: =[1]Декабрь!D23 -> 31590 | D23: 31590 | E23: =D23-C23 -> 0
A24: 30 | B24: =[1]Ноябрь!D24 -> 1640 | C24: =[1]Декабрь!D24 -> 1640 | D24: 1640 | E24: =D24-C24 -> 0
A25: 31 | B25: =[1]Ноябрь!D25 -> 57 | C25: =[1]Декабрь!D25 -> 57 | D25: 57 | E25: =D25-C25 -> 0
A26: 32 | B26: =[1]Ноябрь!D26 -> 3344 | C26: =[1]Декабрь!D26 -> 3344 | D26: 3344 | E26: =D26-C26 -> 0
A27: 33 | B27: =[1]Ноябрь!D27 -> 0 | C27: =[1]Декабрь!D27 -> 0 | E27: =D27-C27 -> 0
A28: 34 | B28: =[1]Ноябрь!D28 -> 960 | C28: =[1]Декабрь!D28 -> 960 | D28: 960 | E28: =D28-C28 -> 0
A29: 35 | B29: =[1]Ноябрь!D29 -> 0 | C29: =[1]Декабрь!D29 -> 0 | E29: =D29-C29 -> 0
A30: 36 | B30: =[1]Ноябрь!D30 -> 2673 | C30: =[1]Декабрь!D30 -> 2673 | D30: 2673 | E30: =D30-C30 -> 0
A31: 37 | B31: =[1]Ноябрь!D31 -> 10796 | C31: =[1]Декабрь!D31 -> 11093 | D31: 11500 | E31: =D31-C31 -> 407
A32: 38 | B32: =[1]Ноябрь!D32 -> 272 | C32: =[1]Декабрь!D32 -> 272 | D32: 283 | E32: =D32-C32 -> 11
A33: 39.4 | B33: =[1]Ноябрь!D33 -> 49658 | C33: =[1]Декабрь!D33 -> 50288 | D33: 50941 | E33: =D33-C33 -> 653
A34: 41-43 | B34: =[1]Ноябрь!D34 -> 16736 | C34: =[1]Декабрь!D34 -> 16742 | D34: 16838 | E34: =D34-C34 -> 96
A35: 44 | B35: =[1]Ноябрь!D35 -> 547 | C35: =[1]Декабрь!D35 -> 547 | D35: 547 | E35: =D35-C35 -> 0
A36: 45 | B36: =[1]Ноябрь!D36 -> 528 | C36: =[1]Декабрь!D36 -> 528 | D36: 528 | E36: =D36-C36 -> 0
A37: 46 | B37: =[1]Ноябрь!D37 -> 5052 | C37: =[1]Декабрь!D37 -> 5052 | D37: 5052 | E37: =D37-C37 -> 0
A38: 47-49 | B38: =[1]Ноябрь!D38 -> 27614 | C38: =[1]Декабрь!D38 -> 27647 | D38: 27784 | E38: =D38-C38 -> 137
A39: 50.51 | B39: =[1]Ноябрь!D39 -> 3560 | C39: =[1]Декабрь!D39 -> 3560 | D39: 3696 | E39: =D39-C39 -> 136
A40: 52 | B40: =[1]Ноябрь!D40 -> 3949 | C40: =[1]Декабрь!D40 -> 4272 | D40: 4634 | E40: =D40-C40 -> 362
...

Sheet Февраль
A1: № | B1: Декабрь | C1: Январь | D1: Февраль | E1: потребл. за мес.
A2: 1 | B2: =Январь!C2 -> 0 | C2: =Январь!D2 -> 0 | E2: =D2-C2 -> 0
A3: 2 | B3: =Январь!C3 -> 217 | C3: =Январь!D3 -> 217 | D3: 217 | E3: =D3-C3 -> 0
A4: 3 | B4: =Январь!C4 -> 0 | C4: =Январь!D4 -> 0 | E4: =D4-C4 -> 0
A5: 4.5 | B5: =Январь!C5 -> 42181 | C5: =Январь!D5 -> 42181 | D5: 42181 | E5: =D5-C5 -> 0
A6: 6 | B6: =Январь!C6 -> 15414 | C6: =Январь!D6 -> 17882 | D6: 19871 | E6: =D6-C6 -> 1989
A7: 7.8 | B7: =Январь!C7 -> 61426 | C7: =Январь!D7 -> 62756 | D7: 63982 | E7: =D7-C7 -> 1226
A8: 9.1 | B8: =Январь!C8 -> 10567 | C8: =Январь!D8 -> 11076 | D8: 11608 | E8: =D8-C8 -> 532
A9: 11 | B9: =Январь!C9 -> 0 | C9: =Январь!D9 -> 0 | E9: =D9-C9 -> 0
A10: 12.13 | B10: =Январь!C10 -> 30805 | C10: =Январь!D10 -> 31826 | D10: 32731 | E10: =D10-C10 -> 905
A11: 14.15 | B11: =Январь!C11 -> 91997 | C11: =Январь!D11 -> 93011 | D11: 94084 | E11: =D11-C11 -> 1073
A12: 16 | B12: =Январь!C12 -> 2562 | C12: =Январь!D12 -> 2562 | D12: 2562 | E12: =D12-C12 -> 0
A13: 17 | B13: =Январь!C13 -> 0 | C13: =Январь!D13 -> 0 | E13: =D13-C13 -> 0
A14: 18 | B14: =Январь!C14 -> 0 | C14: =Январь!D14 -> 0 | E14: =D14-C14 -> 0
A15: 19 | B15: =Январь!C15 -> 629 | C15: =Январь!D15 -> 629 | D15: 629 | E15: =D15-C15 -> 0
A16: 20 | B16: =Январь!C16 -> 5187 | C16: =Январь!D16 -> 5973 | D16: 6459 | E16: =D16-C16 -> 486
A17: 21.22 | B17: =Январь!C17 -> 4372 | C17: =Январь!D17 -> 4413 | D17: 4445 | E17: =D17-C17 -> 32
A18: 23 | B18: =Январь!C18 -> 2184 | C18: =Январь!D18 -> 2185 | D18: 2186 | E18: =D18-C18 -> 1
A19: 24 | B19: =Январь!C19 -> 38724 | C19: =Январь!D19 -> 38738 | D19: 38877 | E19: =D19-C19 -> 139 | H19: !!!
A20: 25 | B20: =Январь!C20 -> 0 | C20: =Январь!D20 -> 0 | E20: =D20-C20 -> 0
A21: 26 | B21: =Январь!C21 -> 603 | C21: =Январь!D21 -> 603 | D21: 603 | E21: =D21-C21 -> 0
A22: 27 | B22: =Январь!C22 -> 0 | C22: =Январь!D22 -> 0 | E22: =D22-C22 -> 0
A23: 28.29 | B23: =Январь!C23 -> 31590 | C23: =Январь!D23 -> 31590 | D23: 31590 | E23: =D23-C23 -> 0
A24: 30 | B24: =Январь!C24 -> 1640 | C24: =Январь!D24 -> 1640 | D24: 1640 | E24: =D24-C24 -> 0
A25: 31 | B25: =Январь!C25 -> 57 | C25: =Январь!D25 -> 57 | D25: 57 | E25: =D25-C25 -> 0
A26: 32 | B26: =Январь!C26 -> 3344 | C26: =Январь!D26 -> 3344 | D26: 3344 | E26: =D26-C26 -> 0
A27: 33 | B27: =Январь!C27 -> 0 | C27: =Январь!D27 -> 0 | E27: =D27-C27 -> 0
A28: 34 | B28: =Январь!C28 -> 960 | C28: =Январь!D28 -> 960 | D28: 960 | E28: =D28-C28 -> 0
A29: 35 | B29: =Январь!C29 -> 0 | C29: =Январь!D29 -> 0 | E29: =D29-C29 -> 0
A30: 36 | B30: =Январь!C30 -> 2673 | C30: =Январь!D30 -> 2673 | D30: 2707 | E30: =D30-C30 -> 34
A31: 37 | B31: =Январь!C31 -> 11093 | C31: =Январь!D31 -> 11500 | D31: 11817 | E31: =D31-C31 -> 317
A32: 38 | B32: =Январь!C32 -> 272 | C32: =Январь!D32 -> 283 | D32: 291 | E32: =D32-C32 -> 8
A33: 39.4 | B33: =Январь!C33 -> 50288 | C33: =Январь!D33 -> 50941 | D33: 51515 | E33: =D33-C33 -> 574
A34: 41-43 | B34: =Январь!C34 -> 16742 | C34: =Январь!D34 -> 16838 | D34: 16897 | E34: =D34-C34 -> 59
A35: 44 | B35: =Январь!C35 -> 547 | C35: =Январь!D35 -> 547 | D35: 547 | E35: =D35-C35 -> 0
A36: 45 | B36: =Январь!C36 -> 528 | C36: =Январь!D36 -> 528 | D36: 528 | E36: =D36-C36 -> 0
A37: 46 | B37: =Январь!C37 -> 5052 | C37: =Январь!D37 -> 5052 | D37: 5052 | E37: =D37-C37 -> 0
A38: 47-49 | B38: =Январь!C38 -> 27647 | C38: =Январь!D38 -> 27784 | D38: 27858 | E38: =D38-C38 -> 74
A39: 50.51 | B39: =Январь!C39 -> 3560 | C39: =Январь!D39 -> 3696 | D39: 3696 | E39: =D39-C39 -> 0
A40: 52 | B40: =Январь!C40 -> 4272 | C40: =Январь!D40 -> 4634 | D40: 4959 | E40: =D40-C40 -> 325
...

Sheet Март
A1: № | B1: Январь | C1: Февраль | D1: Март | E1: потребл. за мес.
A2: 1 | B2: =Январь!D2 -> 0 | C2: =Февраль!D2 -> 0 | E2: =D2-C2 -> 0
A3: 2 | B3: =Январь!D3 -> 217 | C3: =Февраль!D3 -> 217 | D3: 217 | E3: =D3-C3 -> 0
A4: 3 | B4: =Январь!D4 -> 0 | C4: =Февраль!D4 -> 0 | E4: =D4-C4 -> 0
A5: 4.5 | B5: =Январь!D5 -> 42181 | C5: =Февраль!D5 -> 42181 | D5: 42181 | E5: =D5-C5 -> 0
A6: 6 | B6: =Январь!D6 -> 17882 | C6: =Февраль!D6 -> 19871 | D6: 21709 | E6: =D6-C6 -> 1838
A7: 7.8 | B7: =Январь!D7 -> 62756 | C7: =Февраль!D7 -> 63982 | D7: 65097 | E7: =D7-C7 -> 1115
A8: 9.1 | B8: =Январь!D8 -> 11076 | C8: =Февраль!D8 -> 11608 | D8: 12203 | E8: =D8-C8 -> 595
A9: 11 | B9: =Январь!D9 -> 0 | C9: =Февраль!D9 -> 0 | E9: =D9-C9 -> 0
A10: 12.13 | B10: =Январь!D10 -> 31826 | C10: =Февраль!D10 -> 32731 | D10: 33319 | E10: =D10-C10 -> 588
A11: 14.15 | B11: =Январь!D11 -> 93011 | C11: =Февраль!D11 -> 94084 | D11: 95058 | E11: =D11-C11 -> 974
A12: 16 | B12: =Январь!D12 -> 2562 | C12: =Февраль!D12 -> 2562 | D12: 2562 | E12: =D12-C12 -> 0
A13: 17 | B13: =Январь!D13 -> 0 | C13: =Февраль!D13 -> 0 | E13: =D13-C13 -> 0
A14: 18 | B14: =Январь!D14 -> 0 | C14: =Февраль!D14 -> 0 | E14: =D14-C14 -> 0
A15: 19 | B15: =Январь!D15 -> 629 | C15: =Февраль!D15 -> 629 | D15: 629 | E15: =D15-C15 -> 0
A16: 20 | B16: =Январь!D16 -> 5973 | C16: =Февраль!D16 -> 6459 | D16: 7186 | E16: =D16-C16 -> 727
A17: 21.22 | B17: =Январь!D17 -> 4413 | C17: =Февраль!D17 -> 4445 | D17: 4525 | E17: =D17-C17 -> 80
A18: 23 | B18: =Январь!D18 -> 2185 | C18: =Февраль!D18 -> 2186 | D18: 2187 | E18: =D18-C18 -> 1
A19: 24 | B19: =Январь!D19 -> 38738 | C19: =Февраль!D19 -> 38877 | D19: 39253 | E19: =D19-C19 -> 376
A20: 25 | B20: =Январь!D20 -> 0 | C20: =Февраль!D20 -> 0 | E20: =D20-C20 -> 0
A21: 26 | B21: =Январь!D21 -> 603 | C21: =Февраль!D21 -> 603 | D21: 603 | E21: =D21-C21 -> 0
A22: 27 | B22: =Январь!D22 -> 0 | C22: =Февраль!D22 -> 0 | E22: =D22-C22 -> 0
A23: 28.29 | B23: =Январь!D23 -> 31590 | C23: =Февраль!D23 -> 31590 | D23: 31590 | E23: =D23-C23 -> 0
A24: 30 | B24: =Январь!D24 -> 1640 | C24: =Февраль!D24 -> 1640 | D24: 1640 | E24: =D24-C24 -> 0
A25: 31 | B25: =Январь!D25 -> 57 | C25: =Февраль!D25 -> 57 | D25: 58 | E25: =D25-C25 -> 1
A26: 32 | B26: =Январь!D26 -> 3344 | C26: =Февраль!D26 -> 3344 | D26: 3471 | E26: =D26-C26 -> 127
A27: 33 | B27: =Январь!D27 -> 0 | C27: =Февраль!D27 -> 0 | E27: =D27-C27 -> 0
A28: 34 | B28: =Январь!D28 -> 960 | C28: =Февраль!D28 -> 960 | D28: 1023 | E28: =D28-C28 -> 63
A29: 35 | B29: =Январь!D29 -> 0 | C29: =Февраль!D29 -> 0 | E29: =D29-C29 -> 0
A30: 36 | B30: =Январь!D30 -> 2673 | C30: =Февраль!D30 -> 2707 | D30: 2738 | E30: =D30-C30 -> 31
A31: 37 | B31: =Январь!D31 -> 11500 | C31: =Февраль!D31 -> 11817 | D31: 12090 | E31: =D31-C31 -> 273
A32: 38 | B32: =Январь!D32 -> 283 | C32: =Февраль!D32 -> 291 | D32: 293 | E32: =D32-C32 -> 2
A33: 39.4 | B33: =Январь!D33 -> 50941 | C33: =Февраль!D33 -> 51515 | D33: 52016 | E33: =D33-C33 -> 501
A34: 41-43 | B34: =Январь!D34 -> 16838 | C34: =Февраль!D34 -> 16897 | D34: 16954 | E34: =D34-C34 -> 57
A35: 44 | B35: =Январь!D35 -> 547 | C35: =Февраль!D35 -> 547 | D35: 547 | E35: =D35-C35 -> 0
A36: 45 | B36: =Январь!D36 -> 528 | C36: =Февраль!D36 -> 528 | D36: 528 | E36: =D36-C36 -> 0
A37: 46 | B37: =Январь!D37 -> 5052 | C37: =Февраль!D37 -> 5052 | D37: 5052 | E37: =D37-C37 -> 0
A38: 47-49 | B38: =Январь!D38 -> 27784 | C38: =Февраль!D38 -> 27858 | D38: 27981 | E38: =D38-C38 -> 123
A39: 50.51 | B39: =Январь!D39 -> 3696 | C39: =Февраль!D39 -> 3696 | D39: 3740 | E39: =D39-C39 -> 44
A40: 52 | B40: =Январь!D40 -> 4634 | C40: =Февраль!D40 -> 4959 | D40: 5241 | E40: =D40-C40 -> 282
...

Sheet Апрель
A1: № | B1: Февраль | C1: Март | D1: Апрель | E1: потребл. за мес.
A2: 1 | B2: =Февраль!D2 -> 0 | C2: =Март!D2 -> 0 | E2: =D2-C2 -> 0
A3: 2 | B3: =Февраль!D3 -> 217 | C3: =Март!D3 -> 217 | D3: 217 | E3: =D3-C3 -> 0
A4: 3 | B4: =Февраль!D4 -> 0 | C4: =Март!D4 -> 0 | E4: =D4-C4 -> 0
A5: 4.5 | B5: =Февраль!D5 -> 42181 | C5: =Март!D5 -> 42181 | D5: 42181 | E5: =D5-C5 -> 0
A6: 6 | B6: =Февраль!D6 -> 19871 | C6: =Март!D6 -> 21709 | D6: 23602 | E6: =D6-C6 -> 1893
A7: 7.8 | B7: =Февраль!D7 -> 63982 | C7: =Март!D7 -> 65097 | D7: 67800 | E7: =D7-C7 -> 2703
A8: 9.1 | B8: =Февраль!D8 -> 11608 | C8: =Март!D8 -> 12203 | D8: 12953 | E8: =D8-C8 -> 750
A9: 11 | B9: =Февраль!D9 -> 0 | C9: =Март!D9 -> 0 | E9: =D9-C9 -> 0
A10: 12.13 | B10: =Февраль!D10 -> 32731 | C10: =Март!D10 -> 33319 | D10: 34324 | E10: =D10-C10 -> 1005
A11: 14.15 | B11: =Февраль!D11 -> 94084 | C11: =Март!D11 -> 95058 | D11: 97822 | E11: =D11-C11 -> 2764
A12: 16 | B12: =Февраль!D12 -> 2562 | C12: =Март!D12 -> 2562 | D12: 2562 | E12: =D12-C12 -> 0
A13: 17 | B13: =Февраль!D13 -> 0 | C13: =Март!D13 -> 0 | E13: =D13-C13 -> 0
A14: 18 | B14: =Февраль!D14 -> 0 | C14: =Март!D14 -> 0 | E14: =D14-C14 -> 0
A15: 19 | B15: =Февраль!D15 -> 629 | C15: =Март!D15 -> 629 | D15: 629 | E15: =D15-C15 -> 0
A16: 20 | B16: =Февраль!D16 -> 6459 | C16: =Март!D16 -> 7186 | D16: 7189 | E16: =D16-C16 -> 3
A17: 21.22 | B17: =Февраль!D17 -> 4445 | C17: =Март!D17 -> 4525 | D17: 5394 | E17: =D17-C17 -> 869
A18: 23 | B18: =Февраль!D18 -> 2186 | C18: =Март!D18 -> 2187 | D18: 2408 | E18: =D18-C18 -> 221
A19: 24 | B19: =Февраль!D19 -> 38877 | C19: =Март!D19 -> 39253 | D19: 40882 | E19: =D19-C19 -> 1629
A20: 25 | B20: =Февраль!D20 -> 0 | C20: =Март!D20 -> 0 | E20: =D20-C20 -> 0
A21: 26 | B21: =Февраль!D21 -> 603 | C21: =Март!D21 -> 603 | D21: 772 | E21: =D21-C21 -> 169
A22: 27 | B22: =Февраль!D22 -> 0 | C22: =Март!D22 -> 0 | E22: =D22-C22 -> 0
A23: 28.29 | B23: =Февраль!D23 -> 31590 | C23: =Март!D23 -> 31590 | D23: 32231 | E23: =D23-C23 -> 641
A24: 30 | B24: =Февраль!D24 -> 1640 | C24: =Март!D24 -> 1640 | D24: 1654 | E24: =D24-C24 -> 14
A25: 31 | B25: =Февраль!D25 -> 57 | C25: =Март!D25 -> 58 | D25: 58 | E25: =D25-C25 -> 0
A26: 32 | B26: =Февраль!D26 -> 3344 | C26: =Март!D26 -> 3471 | D26: 4440 | E26: =D26-C26 -> 969
A27: 33 | B27: =Февраль!D27 -> 0 | C27: =Март!D27 -> 0 | E27: =D27-C27 -> 0
A28: 34 | B28: =Февраль!D28 -> 960 | C28: =Март!D28 -> 1023 | D28: 1296 | E28: =D28-C28 -> 273
A29: 35 | B29: =Февраль!D29 -> 0 | C29: =Март!D29 -> 0 | E29: =D29-C29 -> 0
A30: 36 | B30: =Февраль!D30 -> 2707 | C30: =Март!D30 -> 2738 | D30: 2738 | E30: =D30-C30 -> 0
A31: 37 | B31: =Февраль!D31 -> 11817 | C31: =Март!D31 -> 12090 | D31: 12205 | E31: =D31-C31 -> 115
A32: 38 | B32: =Февраль!D32 -> 291 | C32: =Март!D32 -> 293 | D32: 313 | E32: =D32-C32 -> 20
A33: 39.4 | B33: =Февраль!D33 -> 51515 | C33: =Март!D33 -> 52016 | D33: 52794 | E33: =D33-C33 -> 778
A34: 41-43 | B34: =Февраль!D34 -> 16897 | C34: =Март!D34 -> 16954 | D34: 17723 | E34: =D34-C34 -> 769
A35: 44 | B35: =Февраль!D35 -> 547 | C35: =Март!D35 -> 547 | D35: 587 | E35: =D35-C35 -> 40
A36: 45 | B36: =Февраль!D36 -> 528 | C36: =Март!D36 -> 528 | D36: 529 | E36: =D36-C36 -> 1
A37: 46 | B37: =Февраль!D37 -> 5052 | C37: =Март!D37 -> 5052 | D37: 5052 | E37: =D37-C37 -> 0
A38: 47-49 | B38: =Февраль!D38 -> 27858 | C38: =Март!D38 -> 27981 | D38: 28292 | E38: =D38-C38 -> 311
A39: 50.51 | B39: =Февраль!D39 -> 3696 | C39: =Март!D39 -> 3740 | D39: 4089 | E39: =D39-C39 -> 349
A40: 52 | B40: =Февраль!D40 -> 4959 | C40: =Март!D40 -> 5241 | D40: 5649 | E40: =D40-C40 -> 408
...

Sheet Май
A1: № | B1: Март | C1: Апрель | D1: Май | E1: потребл. за мес.
A2: 1 | B2: =Март!D2 -> 0 | C2: =Апрель!D2 -> 0 | E2: =D2-C2 -> 0
A3: 2 | B3: =Март!D3 -> 217 | C3: =Апрель!D3 -> 217 | D3: 240 | E3: =D3-C3 -> 23
A4: 3 | B4: =Март!D4 -> 0 | C4: =Апрель!D4 -> 0 | E4: =D4-C4 -> 0
A5: 4.5 | B5: =Март!D5 -> 42181 | C5: =Апрель!D5 -> 42181 | D5: 42181 | E5: =D5-C5 -> 0
A6: 6 | B6: =Март!D6 -> 21709 | C6: =Апрель!D6 -> 23602 | D6: 24710 | E6: =D6-C6 -> 1108
A7: 7.8 | B7: =Март!D7 -> 65097 | C7: =Апрель!D7 -> 67800 | D7: 69503 | E7: =D7-C7 -> 1703
A8: 9.1 | B8: =Март!D8 -> 12203 | C8: =Апрель!D8 -> 12953 | D8: 13482 | E8: =D8-C8 -> 529
A9: 11 | B9: =Март!D9 -> 0 | C9: =Апрель!D9 -> 0 | E9: =D9-C9 -> 0
A10: 12.13 | B10: =Март!D10 -> 33319 | C10: =Апрель!D10 -> 34324 | D10: 34960 | E10: =D10-C10 -> 636
A11: 14.15 | B11: =Март!D11 -> 95058 | C11: =Апрель!D11 -> 97822 | D11: 98881 | E11: =D11-C11 -> 1059
A12: 16 | B12: =Март!D12 -> 2562 | C12: =Апрель!D12 -> 2562 | D12: 2863 | E12: =D12-C12 -> 301
A13: 17 | B13: =Март!D13 -> 0 | C13: =Апрель!D13 -> 0 | E13: =D13-C13 -> 0
A14: 18 | B14: =Март!D14 -> 0 | C14: =Апрель!D14 -> 0 | E14: =D14-C14 -> 0
A15: 19 | B15: =Март!D15 -> 629 | C15: =Апрель!D15 -> 629 | D15: 629 | E15: =D15-C15 -> 0
A16: 20 | B16: =Март!D16 -> 7186 | C16: =Апрель!D16 -> 7189 | D16: 7298 | E16: =D16-C16 -> 109
A17: 21.22 | B17: =Март!D17 -> 4525 | C17: =Апрель!D17 -> 5394 | D17: 6053 | E17: =D17-C17 -> 659
A18: 23 | B18: =Март!D18 -> 2187 | C18: =Апрель!D18 -> 2408 | D18: 2487 | E18: =D18-C18 -> 79
A19: 24 | B19: =Март!D19 -> 39253 | C19: =Апрель!D19 -> 40882 | D19: 41682 | E19: =D19-C19 -> 800
A20: 25 | B20: =Март!D20 -> 0 | C20: =Апрель!D20 -> 0 | E20: =D20-C20 -> 0
A21: 26 | B21: =Март!D21 -> 603 | C21: =Апрель!D21 -> 772 | D21: 979 | E21: =D21-C21 -> 207
A22: 27 | B22: =Март!D22 -> 0 | C22: =Апрель!D22 -> 0 | E22: =D22-C22 -> 0
A23: 28.29 | B23: =Март!D23 -> 31590 | C23: =Апрель!D23 -> 32231 | D23: 32901 | E23: =D23-C23 -> 670
A24: 30 | B24: =Март!D24 -> 1640 | C24: =Апрель!D24 -> 1654 | D24: 1857 | E24: =D24-C24 -> 203
A25: 31 | B25: =Март!D25 -> 58 | C25: =Апрель!D25 -> 58 | D25: 62 | E25: =D25-C25 -> 4
A26: 32 | B26: =Март!D26 -> 3471 | C26: =Апрель!D26 -> 4440 | D26: 4744 | E26: =D26-C26 -> 304
A27: 33 | B27: =Март!D27 -> 0 | C27: =Апрель!D27 -> 0 | E27: =D27-C27 -> 0
A28: 34 | B28: =Март!D28 -> 1023 | C28: =Апрель!D28 -> 1296 | D28: 1402 | E28: =D28-C28 -> 106
A29: 35 | B29: =Март!D29 -> 0 | C29: =Апрель!D29 -> 0 | E29: =D29-C29 -> 0
A30: 36 | B30: =Март!D30 -> 2738 | C30: =Апрель!D30 -> 2738 | D30: 2982 | E30: =D30-C30 -> 244
A31: 37 | B31: =Март!D31 -> 12090 | C31: =Апрель!D31 -> 12205 | D31: 12315 | E31: =D31-C31 -> 110
A32: 38 | B32: =Март!D32 -> 293 | C32: =Апрель!D32 -> 313 | D32: 336 | E32: =D32-C32 -> 23
A33: 39.4 | B33: =Март!D33 -> 52016 | C33: =Апрель!D33 -> 52794 | D33: 53469 | E33: =D33-C33 -> 675
A34: 41-43 | B34: =Март!D34 -> 16954 | C34: =Апрель!D34 -> 17723 | D34: 18366 | E34: =D34-C34 -> 643
A35: 44 | B35: =Март!D35 -> 547 | C35: =Апрель!D35 -> 587 | D35: 689 | E35: =D35-C35 -> 102
A36: 45 | B36: =Март!D36 -> 528 | C36: =Апрель!D36 -> 529 | D36: 653 | E36: =D36-C36 -> 124
A37: 46 | B37: =Март!D37 -> 5052 | C37: =Апрель!D37 -> 5052 | D37: 5237 | E37: =D37-C37 -> 185
A38: 47-49 | B38: =Март!D38 -> 27981 | C38: =Апрель!D38 -> 28292 | D38: 28653 | E38: =D38-C38 -> 361
A39: 50.51 | B39: =Март!D39 -> 3740 | C39: =Апрель!D39 -> 4089 | D39: 4540 | E39: =D39-C39 -> 451
A40: 52 | B40: =Март!D40 -> 5241 | C40: =Апрель!D40 -> 5649 | D40: 5959 | E40: =D40-C40 -> 310
...

Sheet Июнь
A1: № | B1: апрель | C1: май | D1: июнь | E1: потребл. за мес.
A2: 1 | B2: =Апрель!D2 -> 0 | C2: =Май!D2 -> 0 | E2: =D2-C2 -> 0
A3: 2 | B3: =Апрель!D3 -> 217 | C3: =Май!D3 -> 240 | D3: 245 | E3: =D3-C3 -> 5
A4: 3 | B4: =Апрель!D4 -> 0 | C4: =Май!D4 -> 0 | E4: =D4-C4 -> 0
A5: 4.5 | B5: =Апрель!D5 -> 42181 | C5: =Май!D5 -> 42181 | D5: 42181 | E5: =D5-C5 -> 0
A6: 6 | B6: =Апрель!D6 -> 23602 | C6: =Май!D6 -> 24710 | D6: 25276 | E6: =D6-C6 -> 566
A7: 7.8 | B7: =Апрель!D7 -> 67800 | C7: =Май!D7 -> 69503 | D7: 70349 | E7: =D7-C7 -> 846
A8: 9.1 | B8: =Апрель!D8 -> 12953 | C8: =Май!D8 -> 13482 | D8: 13980 | E8: =D8-C8 -> 498
A9: 11 | B9: =Апрель!D9 -> 0 | C9: =Май!D9 -> 0 | D9: 7 | E9: =D9-C9 -> 7
A10: 12.13 | B10: =Апрель!D10 -> 34324 | C10: =Май!D10 -> 34960 | D10: 35448 | E10: =D10-C10 -> 488
A11: 14.15 | B11: =Апрель!D11 -> 97822 | C11: =Май!D11 -> 98881 | D11: 99462 | E11: =D11-C11 -> 581
A12: 16 | B12: =Апрель!D12 -> 2562 | C12: =Май!D12 -> 2863 | D12: 2917 | E12: =D12-C12 -> 54
A13: 17 | B13: =Апрель!D13 -> 0 | C13: =Май!D13 -> 0 | E13: =D13-C13 -> 0
A14: 18 | B14: =Апрель!D14 -> 0 | C14: =Май!D14 -> 0 | E14: =D14-C14 -> 0
A15: 19 | B15: =Апрель!D15 -> 629 | C15: =Май!D15 -> 629 | D15: 629 | E15: =D15-C15 -> 0
A16: 20 | B16: =Апрель!D16 -> 7189 | C16: =Май!D16 -> 7298 | D16: 7405 | E16: =D16-C16 -> 107
A17: 21.22 | B17: =Апрель!D17 -> 5394 | C17: =Май!D17 -> 6053 | D17: 6593 | E17: =D17-C17 -> 540
A18: 23 | B18: =Апрель!D18 -> 2408 | C18: =Май!D18 -> 2487 | D18: 2561 | E18: =D18-C18 -> 74
A19: 24 | B19: =Апрель!D19 -> 40882 | C19: =Май!D19 -> 41682 | D19: 42105 | E19: =D19-C19 -> 423
A20: 25 | B20: =Апрель!D20 -> 0 | C20: =Май!D20 -> 0 | E20: =D20-C20 -> 0
A21: 26 | B21: =Апрель!D21 -> 772 | C21: =Май!D21 -> 979 | D21: 1144 | E21: =D21-C21 -> 165
A22: 27 | B22: =Апрель!D22 -> 0 | C22: =Май!D22 -> 0 | E22: =D22-C22 -> 0
A23: 28.29 | B23: =Апрель!D23 -> 32231 | C23: =Май!D23 -> 32901 | D23: 33592 | E23: =D23-C23 -> 691
A24: 30 | B24: =Апрель!D24 -> 1654 | C24: =Май!D24 -> 1857 | D24: 1954 | E24: =D24-C24 -> 97
A25: 31 | B25: =Апрель!D25 -> 58 | C25: =Май!D25 -> 62 | D25: 67 | E25: =D25-C25 -> 5
A26: 32 | B26: =Апрель!D26 -> 4440 | C26: =Май!D26 -> 4744 | D26: 4848 | E26: =D26-C26 -> 104
A27: 33 | B27: =Апрель!D27 -> 0 | C27: =Май!D27 -> 0 | E27: =D27-C27 -> 0
A28: 34 | B28: =Апрель!D28 -> 1296 | C28: =Май!D28 -> 1402 | D28: 1490 | E28: =D28-C28 -> 88
A29: 35 | B29: =Апрель!D29 -> 0 | C29: =Май!D29 -> 0 | E29: =D29-C29 -> 0
A30: 36 | B30: =Апрель!D30 -> 2738 | C30: =Май!D30 -> 2982 | D30: 3118 | E30: =D30-C30 -> 136
A31: 37 | B31: =Апрель!D31 -> 12205 | C31: =Май!D31 -> 12315 | D31: 12434 | E31: =D31-C31 -> 119
A32: 38 | B32: =Апрель!D32 -> 313 | C32: =Май!D32 -> 336 | D32: 369 | E32: =D32-C32 -> 33
A33: 39.4 | B33: =Апрель!D33 -> 52794 | C33: =Май!D33 -> 53469 | D33: 53948 | E33: =D33-C33 -> 479
A34: 41-43 | B34: =Апрель!D34 -> 17723 | C34: =Май!D34 -> 18366 | D34: 19066 | E34: =D34-C34 -> 700
A35: 44 | B35: =Апрель!D35 -> 587 | C35: =Май!D35 -> 689 | D35: 723 | E35: =D35-C35 -> 34
A36: 45 | B36: =Апрель!D36 -> 529 | C36: =Май!D36 -> 653 | D36: 872 | E36: =D36-C36 -> 219
A37: 46 | B37: =Апрель!D37 -> 5052 | C37: =Май!D37 -> 5237 | D37: 5306 | E37: =D37-C37 -> 69
A38: 47-49 | B38: =Апрель!D38 -> 28292 | C38: =Май!D38 -> 28653 | D38: 28928 | E38: =D38-C38 -> 275
A39: 50.51 | B39: =Апрель!D39 -> 4089 | C39: =Май!D39 -> 4540 | D39: 4829 | E39: =D39-C39 -> 289
A40: 52 | B40: =Апрель!D40 -> 5649 | C40: =Май!D40 -> 5959 | D40: 6236 | E40: =D40-C40 -> 277
...

Sheet Июль
A1: № | B1: май | C1: июнь | D1: июль | E1: потребл. за мес.
A2: 1 | B2: =Май!D2 -> 0 | C2: =Июнь!D2 -> 0 | E2: =D2-C2 -> 0
A3: 2 | B3: =Май!D3 -> 240 | C3: =Июнь!D3 -> 245 | D3: 245 | E3: =D3-C3 -> 0
A4: 3 | B4: =Май!D4 -> 0 | C4: =Июнь!D4 -> 0 | E4: =D4-C4 -> 0
A5: 4.5 | B5: =Май!D5 -> 42181 | C5: =Июнь!D5 -> 42181 | D5: 42181 | E5: =D5-C5 -> 0
A6: 6 | B6: =Май!D6 -> 24710 | C6: =Июнь!D6 -> 25276 | D6: 25750 | E6: =D6-C6 -> 474
A7: 7.8 | B7: =Май!D7 -> 69503 | C7: =Июнь!D7 -> 70349 | D7: 70778 | E7: =D7-C7 -> 429
A8: 9.1 | B8: =Май!D8 -> 13482 | C8: =Июнь!D8 -> 13980 | D8: 14545 | E8: =D8-C8 -> 565 | H8: 839
A9: 11 | B9: =Май!D9 -> 0 | C9: =Июнь!D9 -> 7 | D9: 270 | E9: =D9-C9 -> 263
A10: 12.13 | B10: =Май!D10 -> 34960 | C10: =Июнь!D10 -> 35448 | D10: 35869 | E10: =D10-C10 -> 421
A11: 14.15 | B11: =Май!D11 -> 98881 | C11: =Июнь!D11 -> 99462 | D11: 99741 | E11: =D11-C11 -> 279
A12: 16 | B12: =Май!D12 -> 2863 | C12: =Июнь!D12 -> 2917 | D12: 3020 | E12: =D12-C12 -> 103
A13: 17 | B13: =Май!D13 -> 0 | C13: =Июнь!D13 -> 0 | E13: =D13-C13 -> 0
A14: 18 | B14: =Май!D14 -> 0 | C14: =Июнь!D14 -> 0 | E14: =D14-C14 -> 0
A15: 19 | B15: =Май!D15 -> 629 | C15: =Июнь!D15 -> 629 | D15: 629 | E15: =D15-C15 -> 0
A16: 20 | B16: =Май!D16 -> 7298 | C16: =Июнь!D16 -> 7405 | D16: 7421 | E16: =D16-C16 -> 16
A17: 21.22 | B17: =Май!D17 -> 6053 | C17: =Июнь!D17 -> 6593 | D17: 7000 | E17: =D17-C17 -> 407
A18: 23 | B18: =Май!D18 -> 2487 | C18: =Июнь!D18 -> 2561 | D18: 2669 | E18: =D18-C18 -> 108
A19: 24 | B19: =Май!D19 -> 41682 | C19: =Июнь!D19 -> 42105 | D19: 42373 | E19: =D19-C19 -> 268
A20: 25 | B20: =Май!D20 -> 0 | C20: =Июнь!D20 -> 0 | E20: =D20-C20 -> 0
A21: 26 | B21: =Май!D21 -> 979 | C21: =Июнь!D21 -> 1144 | D21: 1338 | E21: =D21-C21 -> 194
A22: 27 | B22: =Май!D22 -> 0 | C22: =Июнь!D22 -> 0 | E22: =D22-C22 -> 0
A23: 28.29 | B23: =Май!D23 -> 32901 | C23: =Июнь!D23 -> 33592 | D23: 34014 | E23: =D23-C23 -> 422
A24: 30 | B24: =Май!D24 -> 1857 | C24: =Июнь!D24 -> 1954 | D24: 2064 | E24: =D24-C24 -> 110
A25: 31 | B25: =Май!D25 -> 62 | C25: =Июнь!D25 -> 67 | D25: 74 | E25: =D25-C25 -> 7
A26: 32 | B26: =Май!D26 -> 4744 | C26: =Июнь!D26 -> 4848 | D26: 4873 | E26: =D26-C26 -> 25
A27: 33 | B27: =Май!D27 -> 0 | C27: =Июнь!D27 -> 0 | E27: =D27-C27 -> 0
A28: 34 | B28: =Май!D28 -> 1402 | C28: =Июнь!D28 -> 1490 | D28: 1614 | E28: =D28-C28 -> 124
A29: 35 | B29: =Май!D29 -> 0 | C29: =Июнь!D29 -> 0 | E29: =D29-C29 -> 0
A30: 36 | B30: =Май!D30 -> 2982 | C30: =Июнь!D30 -> 3118 | D30: 3217 | E30: =D30-C30 -> 99
A31: 37 | B31: =Май!D31 -> 12315 | C31: =Июнь!D31 -> 12434 | D31: 12639 | E31: =D31-C31 -> 205
A32: 38 | B32: =Май!D32 -> 336 | C32: =Июнь!D32 -> 369 | D32: 408 | E32: =D32-C32 -> 39
A33: 39.4 | B33: =Май!D33 -> 53469 | C33: =Июнь!D33 -> 53948 | D33: 54118 | E33: =D33-C33 -> 170
A34: 41-43 | B34: =Май!D34 -> 18366 | C34: =Июнь!D34 -> 19066 | D34: 19538 | E34: =D34-C34 -> 472
A35: 44 | B35: =Май!D35 -> 689 | C35: =Июнь!D35 -> 723 | D35: 780 | E35: =D35-C35 -> 57
A36: 45 | B36: =Май!D36 -> 653 | C36: =Июнь!D36 -> 872 | D36: 1136 | E36: =D36-C36 -> 264
A37: 46 | B37: =Май!D37 -> 5237 | C37: =Июнь!D37 -> 5306 | D37: 5386 | E37: =D37-C37 -> 80
A38: 47-49 | B38: =Май!D38 -> 28653 | C38: =Июнь!D38 -> 28928 | D38: 29233 | E38: =D38-C38 -> 305
A39: 50.51 | B39: =Май!D39 -> 4540 | C39: =Июнь!D39 -> 4829 | D39: 4968 | E39: =D39-C39 -> 139
A40: 52 | B40: =Май!D40 -> 5959 | C40: =Июнь!D40 -> 6236 | D40: 6520 | E40: =D40-C40 -> 284
...

Sheet Август
A1: № | B1: Июнь | C1: Июль | D1: Август | E1: потребл. за мес.
A2: 1 | B2: =Июнь!D2 -> 0 | C2: =Июль!D2 -> 0 | E2: =D2-C2 -> 0
A3: 2 | B3: =Июнь!D3 -> 245 | C3: =Июль!D3 -> 245 | D3: 245 | E3: =D3-C3 -> 0
A4: 3 | B4: =Июнь!D4 -> 0 | C4: =Июль!D4 -> 0 | E4: =D4-C4 -> 0
A5: 4.5 | B5: =Июнь!D5 -> 42181 | C5: =Июль!D5 -> 42181 | D5: 42181 | E5: =D5-C5 -> 0
A6: 6 | B6: =Июнь!D6 -> 25276 | C6: =Июль!D6 -> 25750 | D6: 26288 | E6: =D6-C6 -> 538
A7: 7.8 | B7: =Июнь!D7 -> 70349 | C7: =Июль!D7 -> 70778 | D7: 71165 | E7: =D7-C7 -> 387
A8: 9.1 | B8: =Июнь!D8 -> 13980 | C8: =Июль!D8 -> 14545 | D8: 14940 | E8: =D8-C8 -> 395 | H8: 1233
A9: 11 | B9: =Июнь!D9 -> 7 | C9: =Июль!D9 -> 270 | D9: 795 | E9: =D9-C9 -> 525
A10: 12.13 | B10: =Июнь!D10 -> 35448 | C10: =Июль!D10 -> 35869 | D10: 36336 | E10: =D10-C10 -> 467
A11: 14.15 | B11: =Июнь!D11 -> 99462 | C11: =Июль!D11 -> 99741 | D11: 30 | E11: =D11-C11 -> -99711
A12: 16 | B12: =Июнь!D12 -> 2917 | C12: =Июль!D12 -> 3020 | D12: 3093 | E12: =D12-C12 -> 73
A13: 17 | B13: =Июнь!D13 -> 0 | C13: =Июль!D13 -> 0 | E13: =D13-C13 -> 0
A14: 18 | B14: =Июнь!D14 -> 0 | C14: =Июль!D14 -> 0 | E14: =D14-C14 -> 0
A15: 19 | B15: =Июнь!D15 -> 629 | C15: =Июль!D15 -> 629 | D15: 629 | E15: =D15-C15 -> 0
A16: 20 | B16: =Июнь!D16 -> 7405 | C16: =Июль!D16 -> 7421 | D16: 7449 | E16: =D16-C16 -> 28
A17: 21.22 | B17: =Июнь!D17 -> 6593 | C17: =Июль!D17 -> 7000 | D17: 7356 | E17: =D17-C17 -> 356
A18: 23 | B18: =Июнь!D18 -> 2561 | C18: =Июль!D18 -> 2669 | D18: 2803 | E18: =D18-C18 -> 134
A19: 24 | B19: =Июнь!D19 -> 42105 | C19: =Июль!D19 -> 42373 | D19: 42687 | E19: =D19-C19 -> 314
A20: 25 | B20: =Июнь!D20 -> 0 | C20: =Июль!D20 -> 0 | E20: =D20-C20 -> 0
A21: 26 | B21: =Июнь!D21 -> 1144 | C21: =Июль!D21 -> 1338 | D21: 1691 | E21: =D21-C21 -> 353
A22: 27 | B22: =Июнь!D22 -> 0 | C22: =Июль!D22 -> 0 | E22: =D22-C22 -> 0
A23: 28.29 | B23: =Июнь!D23 -> 33592 | C23: =Июль!D23 -> 34014 | D23: 34636 | E23: =D23-C23 -> 622
A24: 30 | B24: =Июнь!D24 -> 1954 | C24: =Июль!D24 -> 2064 | D24: 2164 | E24: =D24-C24 -> 100
A25: 31 | B25: =Июнь!D25 -> 67 | C25: =Июль!D25 -> 74 | D25: 75 | E25: =D25-C25 -> 1
A26: 32 | B26: =Июнь!D26 -> 4848 | C26: =Июль!D26 -> 4873 | D26: 4912 | E26: =D26-C26 -> 39
A27: 33 | B27: =Июнь!D27 -> 0 | C27: =Июль!D27 -> 0 | E27: =D27-C27 -> 0
A28: 34 | B28: =Июнь!D28 -> 1490 | C28: =Июль!D28 -> 1614 | D28: 1892 | E28: =D28-C28 -> 278
A29: 35 | B29: =Июнь!D29 -> 0 | C29: =Июль!D29 -> 0 | E29: =D29-C29 -> 0
A30: 36 | B30: =Июнь!D30 -> 3118 | C30: =Июль!D30 -> 3217 | D30: 3331 | E30: =D30-C30 -> 114
A31: 37 | B31: =Июнь!D31 -> 12434 | C31: =Июль!D31 -> 12639 | D31: 12748 | E31: =D31-C31 -> 109
A32: 38 | B32: =Июнь!D32 -> 369 | C32: =Июль!D32 -> 408 | D32: 493 | E32: =D32-C32 -> 85
A33: 39.4 | B33: =Июнь!D33 -> 53948 | C33: =Июль!D33 -> 54118 | D33: 54374 | E33: =D33-C33 -> 256
A34: 41-43 | B34: =Июнь!D34 -> 19066 | C34: =Июль!D34 -> 19538 | D34: 19917 | E34: =D34-C34 -> 379
A35: 44 | B35: =Июнь!D35 -> 723 | C35: =Июль!D35 -> 780 | D35: 885 | E35: =D35-C35 -> 105
A36: 45 | B36: =Июнь!D36 -> 872 | C36: =Июль!D36 -> 1136 | D36: 1309 | E36: =D36-C36 -> 173
A37: 46 | B37: =Июнь!D37 -> 5306 | C37: =Июль!D37 -> 5386 | D37: 5482 | E37: =D37-C37 -> 96
A38: 47-49 | B38: =Июнь!D38 -> 28928 | C38: =Июль!D38 -> 29233 | D38: 29674 | E38: =D38-C38 -> 441
A39: 50.51 | B39: =Июнь!D39 -> 4829 | C39: =Июль!D39 -> 4968 | D39: 5150 | E39: =D39-C39 -> 182
A40: 52 | B40: =Июнь!D40 -> 6236 | C40: =Июль!D40 -> 6520 | D40: 6822 | E40: =D40-C40 -> 302
...

Sheet Сентябрь
A1: № | B1: Июль | C1: Август | D1: Сентябрь | E1: потребл. за мес.
A2: 1 | B2: =Июль!D2 -> 0 | C2: =Август!D2 -> 0 | E2: =D2-C2 -> 0
A3: 2 | B3: =Июль!D3 -> 245 | C3: =Август!D3 -> 245 | D3: 245 | E3: =D3-C3 -> 0
A4: 3 | B4: =Июль!D4 -> 0 | C4: =Август!D4 -> 0 | E4: =D4-C4 -> 0
A5: 4.5 | B5: =Июль!D5 -> 42181 | C5: =Август!D5 -> 42181 | D5: 42181 | E5: =D5-C5 -> 0
A6: 6 | B6: =Июль!D6 -> 25750 | C6: =Август!D6 -> 26288 | D6: 26927 | E6: =D6-C6 -> 639
A7: 7.8 | B7: =Июль!D7 -> 70778 | C7: =Август!D7 -> 71165 | D7: 72036 | E7: =D7-C7 -> 871
A8: 9.1 | B8: =Июль!D8 -> 14545 | C8: =Август!D8 -> 14940 | D8: 15330 | E8: =D8-C8 -> 390 | H8: 1622
A9: 11 | B9: =Июль!D9 -> 270 | C9: =Август!D9 -> 795 | D9: 985 | E9: =D9-C9 -> 190
A10: 12.13 | B10: =Июль!D10 -> 35869 | C10: =Август!D10 -> 36336 | D10: 36796 | E10: =D10-C10 -> 460
A11: 14.15 | B11: =Июль!D11 -> 99741 | C11: =Август!D11 -> 30 | D11: 183 | E11: =D11-C11 -> 153
A12: 16 | B12: =Июль!D12 -> 3020 | C12: =Август!D12 -> 3093 | D12: 3174 | E12: =D12-C12 -> 81
A13: 17 | B13: =Июль!D13 -> 0 | C13: =Август!D13 -> 0 | E13: =D13-C13 -> 0
A14: 18 | B14: =Июль!D14 -> 0 | C14: =Август!D14 -> 0 | E14: =D14-C14 -> 0
A15: 19 | B15: =Июль!D15 -> 629 | C15: =Август!D15 -> 629 | D15: 629 | E15: =D15-C15 -> 0
A16: 20 | B16: =Июль!D16 -> 7421 | C16: =Август!D16 -> 7449 | D16: 7460 | E16: =D16-C16 -> 11
A17: 21.22 | B17: =Июль!D17 -> 7000 | C17: =Август!D17 -> 7356 | D17: 7802 | E17: =D17-C17 -> 446
A18: 23 | B18: =Июль!D18 -> 2669 | C18: =Август!D18 -> 2803 | D18: 2895 | E18: =D18-C18 -> 92
A19: 24 | B19: =Июль!D19 -> 42373 | C19: =Август!D19 -> 42687 | D19: 42903 | E19: =D19-C19 -> 216
A20: 25 | B20: =Июль!D20 -> 0 | C20: =Август!D20 -> 0 | E20: =D20-C20 -> 0
A21: 26 | B21: =Июль!D21 -> 1338 | C21: =Август!D21 -> 1691 | D21: 1763 | E21: =D21-C21 -> 72
A22: 27 | B22: =Июль!D22 -> 0 | C22: =Август!D22 -> 0 | E22: =D22-C22 -> 0
A23: 28.29 | B23: =Июль!D23 -> 34014 | C23: =Август!D23 -> 34636 | D23: 35085 | E23: =D23-C23 -> 449
A24: 30 | B24: =Июль!D24 -> 2064 | C24: =Август!D24 -> 2164 | D24: 2345 | E24: =D24-C24 -> 181
A25: 31 | B25: =Июль!D25 -> 74 | C25: =Август!D25 -> 75 | D25: 77 | E25: =D25-C25 -> 2
A26: 32 | B26: =Июль!D26 -> 4873 | C26: =Август!D26 -> 4912 | D26: 4937 | E26: =D26-C26 -> 25
A27: 33 | B27: =Июль!D27 -> 0 | C27: =Август!D27 -> 0 | E27: =D27-C27 -> 0
A28: 34 | B28: =Июль!D28 -> 1614 | C28: =Август!D28 -> 1892 | D28: 2005 | E28: =D28-C28 -> 113
A29: 35 | B29: =Июль!D29 -> 0 | C29: =Август!D29 -> 0 | E29: =D29-C29 -> 0
A30: 36 | B30: =Июль!D30 -> 3217 | C30: =Август!D30 -> 3331 | D30: 3449 | E30: =D30-C30 -> 118
A31: 37 | B31: =Июль!D31 -> 12639 | C31: =Август!D31 -> 12748 | D31: 12804 | E31: =D31-C31 -> 56
A32: 38 | B32: =Июль!D32 -> 408 | C32: =Август!D32 -> 493 | D32: 549 | E32: =D32-C32 -> 56
A33: 39.4 | B33: =Июль!D33 -> 54118 | C33: =Август!D33 -> 54374 | D33: 54613 | E33: =D33-C33 -> 239
A34: 41-43 | B34: =Июль!D34 -> 19538 | C34: =Август!D34 -> 19917 | D34: 20073 | E34: =D34-C34 -> 156
A35: 44 | B35: =Июль!D35 -> 780 | C35: =Август!D35 -> 885 | D35: 962 | E35: =D35-C35 -> 77
A36: 45 | B36: =Июль!D36 -> 1136 | C36: =Август!D36 -> 1309 | D36: 1344 | E36: =D36-C36 -> 35
A37: 46 | B37: =Июль!D37 -> 5386 | C37: =Август!D37 -> 5482 | D37: 5584 | E37: =D37-C37 -> 102
A38: 47-49 | B38: =Июль!D38 -> 29233 | C38: =Август!D38 -> 29674 | D38: 29857 | E38: =D38-C38 -> 183
A39: 50.51 | B39: =Июль!D39 -> 4968 | C39: =Август!D39 -> 5150 | D39: 5337 | E39: =D39-C39 -> 187
A40: 52 | B40: =Июль!D40 -> 6520 | C40: =Август!D40 -> 6822 | D40: 7121 | E40: =D40-C40 -> 299
...

Sheet Октябрь
A1: № | B1: Август | C1: Сентябрь | D1: Октябрь | E1: потребл. за мес.
A2: 1 | B2: =Август!D2 -> 0 | C2: =Сентябрь!D2 -> 0 | E2: =D2-C2 -> 0
A3: 2 | B3: =Август!D3 -> 245 | C3: =Сентябрь!D3 -> 245 | D3: 245 | E3: =D3-C3 -> 0
A4: 3 | B4: =Август!D4 -> 0 | C4: =Сентябрь!D4 -> 0 | E4: =D4-C4 -> 0
A5: 4.5 | B5: =Август!D5 -> 42181 | C5: =Сентябрь!D5 -> 42181 | D5: 42181 | E5: =D5-C5 -> 0
A6: 6 | B6: =Август!D6 -> 26288 | C6: =Сентябрь!D6 -> 26927 | D6: 27597 | E6: =D6-C6 -> 670
A7: 7.8 | B7: =Август!D7 -> 71165 | C7: =Сентябрь!D7 -> 72036 | D7: 72827 | E7: =D7-C7 -> 791
A8: 9.1 | B8: =Август!D8 -> 14940 | C8: =Сентябрь!D8 -> 15330 | D8: 15656 | E8: =D8-C8 -> 326 | H8: 1948
A9: 11 | B9: =Август!D9 -> 795 | C9: =Сентябрь!D9 -> 985 | D9: 1123 | E9: =D9-C9 -> 138
A10: 12.13 | B10: =Август!D10 -> 36336 | C10: =Сентябрь!D10 -> 36796 | D10: 37362 | E10: =D10-C10 -> 566
A11: 14.15 | B11: =Август!D11 -> 30 | C11: =Сентябрь!D11 -> 183 | D11: 1231 | E11: =D11-C11 -> 1048
A12: 16 | B12: =Август!D12 -> 3093 | C12: =Сентябрь!D12 -> 3174 | D12: 3310 | E12: =D12-C12 -> 136
A13: 17 | B13: =Август!D13 -> 0 | C13: =Сентябрь!D13 -> 0 | E13: =D13-C13 -> 0
A14: 18 | B14: =Август!D14 -> 0 | C14: =Сентябрь!D14 -> 0 | E14: =D14-C14 -> 0
A15: 19 | B15: =Август!D15 -> 629 | C15: =Сентябрь!D15 -> 629 | D15: 629 | E15: =D15-C15 -> 0
A16: 20 | B16: =Август!D16 -> 7449 | C16: =Сентябрь!D16 -> 7460 | D16: 7460 | E16: =D16-C16 -> 0
A17: 21.22 | B17: =Август!D17 -> 7356 | C17: =Сентябрь!D17 -> 7802 | D17: 8344 | E17: =D17-C17 -> 542
A18: 23 | B18: =Август!D18 -> 2803 | C18: =Сентябрь!D18 -> 2895 | D18: 3026 | E18: =D18-C18 -> 131
A19: 24 | B19: =Август!D19 -> 42687 | C19: =Сентябрь!D19 -> 42903 | D19: 43597 | E19: =D19-C19 -> 694
A20: 25 | B20: =Август!D20 -> 0 | C20: =Сентябрь!D20 -> 0 | E20: =D20-C20 -> 0
A21: 26 | B21: =Август!D21 -> 1691 | C21: =Сентябрь!D21 -> 1763 | D21: 1763 | E21: =D21-C21 -> 0
A22: 27 | B22: =Август!D22 -> 0 | C22: =Сентябрь!D22 -> 0 | E22: =D22-C22 -> 0
A23: 28.29 | B23: =Август!D23 -> 34636 | C23: =Сентябрь!D23 -> 35085 | D23: 35787 | E23: =D23-C23 -> 702
A24: 30 | B24: =Август!D24 -> 2164 | C24: =Сентябрь!D24 -> 2345 | D24: 2466 | E24: =D24-C24 -> 121
A25: 31 | B25: =Август!D25 -> 75 | C25: =Сентябрь!D25 -> 77 | D25: 78 | E25: =D25-C25 -> 1
A26: 32 | B26: =Август!D26 -> 4912 | C26: =Сентябрь!D26 -> 4937 | D26: 4938 | E26: =D26-C26 -> 1
A27: 33 | B27: =Август!D27 -> 0 | C27: =Сентябрь!D27 -> 0 | E27: =D27-C27 -> 0
A28: 34 | B28: =Август!D28 -> 1892 | C28: =Сентябрь!D28 -> 2005 | D28: 2077 | E28: =D28-C28 -> 72
A29: 35 | B29: =Август!D29 -> 0 | C29: =Сентябрь!D29 -> 0 | E29: =D29-C29 -> 0
A30: 36 | B30: =Август!D30 -> 3331 | C30: =Сентябрь!D30 -> 3449 | D30: 3570 | E30: =D30-C30 -> 121
A31: 37 | B31: =Август!D31 -> 12748 | C31: =Сентябрь!D31 -> 12804 | D31: 12850 | E31: =D31-C31 -> 46
A32: 38 | B32: =Август!D32 -> 493 | C32: =Сентябрь!D32 -> 549 | D32: 578 | E32: =D32-C32 -> 29
A33: 39.4 | B33: =Август!D33 -> 54374 | C33: =Сентябрь!D33 -> 54613 | D33: 54841 | E33: =D33-C33 -> 228
A34: 41-43 | B34: =Август!D34 -> 19917 | C34: =Сентябрь!D34 -> 20073 | D34: 20159 | E34: =D34-C34 -> 86
A35: 44 | B35: =Август!D35 -> 885 | C35: =Сентябрь!D35 -> 962 | D35: 993 | E35: =D35-C35 -> 31
A36: 45 | B36: =Август!D36 -> 1309 | C36: =Сентябрь!D36 -> 1344 | D36: 1355 | E36: =D36-C36 -> 11
A37: 46 | B37: =Август!D37 -> 5482 | C37: =Сентябрь!D37 -> 5584 | D37: 5710 | E37: =D37-C37 -> 126
A38: 47-49 | B38: =Август!D38 -> 29674 | C38: =Сентябрь!D38 -> 29857 | D38: 29951 | E38: =D38-C38 -> 94
A39: 50.51 | B39: =Август!D39 -> 5150 | C39: =Сентябрь!D39 -> 5337 | D39: 5529 | E39: =D39-C39 -> 192
A40: 52 | B40: =Август!D40 -> 6822 | C40: =Сентябрь!D40 -> 7121 | D40: 7388 | E40: =D40-C40 -> 267
...

Sheet Ноябрь
A1: № | B1: Сентябрь | C1: Октябрь | D1: Ноябрь | E1: потребл. за мес.
A2: 1 | B2: =Сентябрь!D2 -> 0 | C2: =Октябрь!D2 -> 0 | E2: =D2-C2 -> 0
A3: 2 | B3: =Сентябрь!D3 -> 245 | C3: =Октябрь!D3 -> 245 | D3: 245 | E3: =D3-C3 -> 0
A4: 3 | B4: =Сентябрь!D4 -> 0 | C4: =Октябрь!D4 -> 0 | E4: =D4-C4 -> 0
A5: 4.5 | B5: =Сентябрь!D5 -> 42181 | C5: =Октябрь!D5 -> 42181 | D5: 42181 | E5: =D5-C5 -> 0
A6: 6 | B6: =Сентябрь!D6 -> 26927 | C6: =Октябрь!D6 -> 27597 | D6: 28247 | E6: =D6-C6 -> 650
A7: 7.8 | B7: =Сентябрь!D7 -> 72036 | C7: =Октябрь!D7 -> 72827 | D7: 74521 | E7: =D7-C7 -> 1694
A8: 9.1 | B8: =Сентябрь!D8 -> 15330 | C8: =Октябрь!D8 -> 15656 | D8: 16575 | E8: =D8-C8 -> 919 | H8: 2866
A9: 11 | B9: =Сентябрь!D9 -> 985 | C9: =Октябрь!D9 -> 1123 | D9: 1135 | E9: =D9-C9 -> 12
A10: 12.13 | B10: =Сентябрь!D10 -> 36796 | C10: =Октябрь!D10 -> 37362 | D10: 38457 | E10: =D10-C10 -> 1095
A11: 14.15 | B11: =Сентябрь!D11 -> 183 | C11: =Октябрь!D11 -> 1231 | D11: 2124 | E11: =D11-C11 -> 893
A12: 16 | B12: =Сентябрь!D12 -> 3174 | C12: =Октябрь!D12 -> 3310 | D12: 3311 | E12: =D12-C12 -> 1
A13: 17 | B13: =Сентябрь!D13 -> 0 | C13: =Октябрь!D13 -> 0 | E13: =D13-C13 -> 0
A14: 18 | B14: =Сентябрь!D14 -> 0 | C14: =Октябрь!D14 -> 0 | E14: =D14-C14 -> 0
A15: 19 | B15: =Сентябрь!D15 -> 629 | C15: =Октябрь!D15 -> 629 | D15: 629 | E15: =D15-C15 -> 0
A16: 20 | B16: =Сентябрь!D16 -> 7460 | C16: =Октябрь!D16 -> 7460 | D16: 7536 | E16: =D16-C16 -> 76
A17: 21.22 | B17: =Сентябрь!D17 -> 7802 | C17: =Октябрь!D17 -> 8344 | D17: 9034 | E17: =D17-C17 -> 690
A18: 23 | B18: =Сентябрь!D18 -> 2895 | C18: =Октябрь!D18 -> 3026 | D18: 3306 | E18: =D18-C18 -> 280
A19: 24 | B19: =Сентябрь!D19 -> 42903 | C19: =Октябрь!D19 -> 43597 | D19: 44888 | E19: =D19-C19 -> 1291
A20: 25 | B20: =Сентябрь!D20 -> 0 | C20: =Октябрь!D20 -> 0 | E20: =D20-C20 -> 0
A21: 26 | B21: =Сентябрь!D21 -> 1763 | C21: =Октябрь!D21 -> 1763 | D21: 1763 | E21: =D21-C21 -> 0
A22: 27 | B22: =Сентябрь!D22 -> 0 | C22: =Октябрь!D22 -> 0 | E22: =D22-C22 -> 0
A23: 28.29 | B23: =Сентябрь!D23 -> 35085 | C23: =Октябрь!D23 -> 35787 | D23: 36250 | E23: =D23-C23 -> 463
A24: 30 | B24: =Сентябрь!D24 -> 2345 | C24: =Октябрь!D24 -> 2466 | D24: 2469 | E24: =D24-C24 -> 3
A25: 31 | B25: =Сентябрь!D25 -> 77 | C25: =Октябрь!D25 -> 78 | D25: 78 | E25: =D25-C25 -> 0
A26: 32 | B26: =Сентябрь!D26 -> 4937 | C26: =Октябрь!D26 -> 4938 | D26: 4938 | E26: =D26-C26 -> 0
A27: 33 | B27: =Сентябрь!D27 -> 0 | C27: =Октябрь!D27 -> 0 | E27: =D27-C27 -> 0
A28: 34 | B28: =Сентябрь!D28 -> 2005 | C28: =Октябрь!D28 -> 2077 | D28: 2156 | E28: =D28-C28 -> 79
A29: 35 | B29: =Сентябрь!D29 -> 0 | C29: =Октябрь!D29 -> 0 | E29: =D29-C29 -> 0
A30: 36 | B30: =Сентябрь!D30 -> 3449 | C30: =Октябрь!D30 -> 3570 | D30: 3628 | E30: =D30-C30 -> 58
A31: 37 | B31: =Сентябрь!D31 -> 12804 | C31: =Октябрь!D31 -> 12850 | D31: 13061 | E31: =D31-C31 -> 211
A32: 38 | B32: =Сентябрь!D32 -> 549 | C32: =Октябрь!D32 -> 578 | D32: 612 | E32: =D32-C32 -> 34
A33: 39.4 | B33: =Сентябрь!D33 -> 54613 | C33: =Октябрь!D33 -> 54841 | D33: 55465 | E33: =D33-C33 -> 624
A34: 41-43 | B34: =Сентябрь!D34 -> 20073 | C34: =Октябрь!D34 -> 20159 | D34: 20289 | E34: =D34-C34 -> 130
A35: 44 | B35: =Сентябрь!D35 -> 962 | C35: =Октябрь!D35 -> 993 | D35: 993 | E35: =D35-C35 -> 0
A36: 45 | B36: =Сентябрь!D36 -> 1344 | C36: =Октябрь!D36 -> 1355 | D36: 1355 | E36: =D36-C36 -> 0
A37: 46 | B37: =Сентябрь!D37 -> 5584 | C37: =Октябрь!D37 -> 5710 | D37: 5766 | E37: =D37-C37 -> 56
A38: 47-49 | B38: =Сентябрь!D38 -> 29857 | C38: =Октябрь!D38 -> 29951 | D38: 30116 | E38: =D38-C38 -> 165
A39: 50.51 | B39: =Сентябрь!D39 -> 5337 | C39: =Октябрь!D39 -> 5529 | D39: 5619 | E39: =D39-C39 -> 90
A40: 52 | B40: =Сентябрь!D40 -> 7121 | C40: =Октябрь!D40 -> 7388 | D40: 7766 | E40: =D40-C40 -> 378
...

Sheet Декабрь
A1: № | B1: Октябрь | C1: Ноябрь | D1: Декабрь | E1: потребл. за мес.
A2: 1 | B2: =Октябрь!D2 -> 0 | C2: =Ноябрь!D2 -> 0 | E2: =D2-C2 -> 0
A3: 2 | B3: =Октябрь!D3 -> 245 | C3: =Ноябрь!D3 -> 245 | D3: 245 | E3: =D3-C3 -> 0
A4: 3 | B4: =Октябрь!D4 -> 0 | C4: =Ноябрь!D4 -> 0 | E4: =D4-C4 -> 0
A5: 4.5 | B5: =Октябрь!D5 -> 42181 | C5: =Ноябрь!D5 -> 42181 | D5: 42181 | E5: =D5-C5 -> 0
A6: 6 | B6: =Октябрь!D6 -> 27597 | C6: =Ноябрь!D6 -> 28247 | D6: 28884 | E6: =D6-C6 -> 637
A7: 7.8 | B7: =Октябрь!D7 -> 72827 | C7: =Ноябрь!D7 -> 74521 | D7: 76883 | E7: =D7-C7 -> 2362
A8: 9.1 | B8: =Октябрь!D8 -> 15656 | C8: =Ноябрь!D8 -> 16575 | D8: 17066 | E8: =D8-C8 -> 491 | H8: 3357
A9: 11 | B9: =Октябрь!D9 -> 1123 | C9: =Ноябрь!D9 -> 1135 | D9: 1135 | E9: =D9-C9 -> 0
A10: 12.13 | B10: =Октябрь!D10 -> 37362 | C10: =Ноябрь!D10 -> 38457 | D10: 39665 | E10: =D10-C10 -> 1208
A11: 14.15 | B11: =Октябрь!D11 -> 1231 | C11: =Ноябрь!D11 -> 2124 | D11: 3139 | E11: =D11-C11 -> 1015
A12: 16 | B12: =Октябрь!D12 -> 3310 | C12: =Ноябрь!D12 -> 3311 | D12: 3311 | E12: =D12-C12 -> 0
A13: 17 | B13: =Октябрь!D13 -> 0 | C13: =Ноябрь!D13 -> 0 | E13: =D13-C13 -> 0
A14: 18 | B14: =Октябрь!D14 -> 0 | C14: =Ноябрь!D14 -> 0 | E14: =D14-C14 -> 0
A15: 19 | B15: =Октябрь!D15 -> 629 | C15: =Ноябрь!D15 -> 629 | D15: 629 | E15: =D15-C15 -> 0
A16: 20 | B16: =Октябрь!D16 -> 7460 | C16: =Ноябрь!D16 -> 7536 | D16: 7656 | E16: =D16-C16 -> 120
A17: 21.22 | B17: =Октябрь!D17 -> 8344 | C17: =Ноябрь!D17 -> 9034 | D17: 9393 | E17: =D17-C17 -> 359
A18: 23 | B18: =Октябрь!D18 -> 3026 | C18: =Ноябрь!D18 -> 3306 | D18: 3315 | E18: =D18-C18 -> 9
A19: 24 | B19: =Октябрь!D19 -> 43597 | C19: =Ноябрь!D19 -> 44888 | D19: 46247 | E19: =D19-C19 -> 1359
A20: 25 | B20: =Октябрь!D20 -> 0 | C20: =Ноябрь!D20 -> 0 | E20: =D20-C20 -> 0
A21: 26 | B21: =Октябрь!D21 -> 1763 | C21: =Ноябрь!D21 -> 1763 | D21: 1763 | E21: =D21-C21 -> 0
A22: 27 | B22: =Октябрь!D22 -> 0 | C22: =Ноябрь!D22 -> 0 | E22: =D22-C22 -> 0
A23: 28.29 | B23: =Октябрь!D23 -> 35787 | C23: =Ноябрь!D23 -> 36250 | D23: 36250 | E23: =D23-C23 -> 0
A24: 30 | B24: =Октябрь!D24 -> 2466 | C24: =Ноябрь!D24 -> 2469 | D24: 2469 | E24: =D24-C24 -> 0
A25: 31 | B25: =Октябрь!D25 -> 78 | C25: =Ноябрь!D25 -> 78 | D25: 78 | E25: =D25-C25 -> 0
A26: 32 | B26: =Октябрь!D26 -> 4938 | C26: =Ноябрь!D26 -> 4938 | D26: 4938 | E26: =D26-C26 -> 0
A27: 33 | B27: =Октябрь!D27 -> 0 | C27: =Ноябрь!D27 -> 0 | E27: =D27-C27 -> 0
A28: 34 | B28: =Октябрь!D28 -> 2077 | C28: =Ноябрь!D28 -> 2156 | D28: 2156 | E28: =D28-C28 -> 0
A29: 35 | B29: =Октябрь!D29 -> 0 | C29: =Ноябрь!D29 -> 0 | E29: =D29-C29 -> 0
A30: 36 | B30: =Октябрь!D30 -> 3570 | C30: =Ноябрь!D30 -> 3628 | D30: 3635 | E30: =D30-C30 -> 7
A31: 37 | B31: =Октябрь!D31 -> 12850 | C31: =Ноябрь!D31 -> 13061 | D31: 13398 | E31: =D31-C31 -> 337
A32: 38 | B32: =Октябрь!D32 -> 578 | C32: =Ноябрь!D32 -> 612 | D32: 622 | E32: =D32-C32 -> 10
A33: 39.4 | B33: =Октябрь!D33 -> 54841 | C33: =Ноябрь!D33 -> 55465 | D33: 56089 | E33: =D33-C33 -> 624
A34: 41-43 | B34: =Октябрь!D34 -> 20159 | C34: =Ноябрь!D34 -> 20289 | D34: 20297 | E34: =D34-C34 -> 8
A35: 44 | B35: =Октябрь!D35 -> 993 | C35: =Ноябрь!D35 -> 993 | D35: 993 | E35: =D35-C35 -> 0
A36: 45 | B36: =Октябрь!D36 -> 1355 | C36: =Ноябрь!D36 -> 1355 | D36: 1355 | E36: =D36-C36 -> 0
A37: 46 | B37: =Октябрь!D37 -> 5710 | C37: =Ноябрь!D37 -> 5766 | D37: 5766 | E37: =D37-C37 -> 0
A38: 47-49 | B38: =Октябрь!D38 -> 29951 | C38: =Ноябрь!D38 -> 30116 | D38: 30125 | E38: =D38-C38 -> 9
A39: 50.51 | B39: =Октябрь!D39 -> 5529 | C39: =Ноябрь!D39 -> 5619 | D39: 5619 | E39: =D39-C39 -> 0
A40: 52 | B40: =Октябрь!D40 -> 7388 | C40: =Ноябрь!D40 -> 7766 | D40: 8059 | E40: =D40-C40 -> 293
...

Sheet Счетчики
A1: СНТ Винт
B4: Меркурий 230 АМ-03 № 25471825 | C4: 1-77,
B5: Меркурий 230 АМ-03 № 25471781 | C5: Новое поле
B6: Меркурий 230 АМ-03 № 19418887 | C6: Бочка
B7: Энергомера СЕ 101 № 124539496 | C7: Освещение
B8: СЭТ-4М.03М01. №0811120485 | C8: Общий Сатино
A11: Ответственный за снятие показаний | C11: _________________________ ( _____________________ ) | F11: Стафеева Е.В.

Sheet Без счетчиков
A1: 81 | B1: индивидуал, не вынес счетчик
A2: 106
A3: 114
A4: 143
A5: 148
A6: 165
A7: 169 | B7: не продан
A8: 170 | B8: не продан
A9: 175 | B9: не продан
A10: 176 | B10: не продан
A11: 192
