Workbook

Sheet Январь
A1: № | B1: Ноябрь | C1: Декабрь | D1: Январь | E1: потребл. за мес.
A2: 1 | B2: =[1]Ноябрь!D2 -> 0 | C2: =[1]Декабрь!D2 -> 0 | E2: =D2-C2 -> 0
A3: 2 | B3: =[1]Ноябрь!D3 -> 217 | C3: =[1]Декабрь!D3 -> 217 | D3: 217 | E3: =D3-C3 -> 0
A4: 3 | B4: =[1]Ноябрь!D4 -> 0 | C4: =[1]Декабрь!D4 -> 0 | E4: =D4-C4 -> 0
A5: 4.5 | B5: =[1]Ноябрь!D5 -> 42181 | C5: =[1]Декабрь!D5 -> 42181 | D5: 42181 | E5: =D5-C5 -> 0
A6: 6 | B6: =[1]Ноябрь!D6 -> 13101 | C6: =[1]Декабрь!D6 -> 15414 | D6: 17882 | E6: =D6-C6 -> 2468
A7: 7.8 | B7: =[1]Ноябрь!D7 -> 59835 | C7: =[1]Декабрь!D7 -> 61426 | D7: 62756 | E7: =D7-C7 -> 1330
A8: 9.1 | B8: =[1]Ноябрь!D8 -> 10123 | C8: =[1]Декабрь!D8 -> 10567 | D8: 11076 | E8: =D8-C8 -> 509
A9: 11 | B9: =[1]Ноябрь!D9 -> 0 | C9: =[1]Декабрь!D9 -> 0 | E9: =D9-C9 -> 0
A10: 12.13 | B10: =[1]Ноябрь!D10 -> 29967 | C10: =[1]Декабрь!D10 -> 30805 | D10: 31826 | E10: =D10-C10 -> 1021
A11: 14.15 | B11: =[1]Ноябрь!D11 -> 91087 | C11: =[1]Декабрь!D11 -> 91997 | D11: 93011 | E11: =D11-C11 -> 1014
A12: 16 | B12: =[1]Ноябрь!D12 -> 2562 | C12: =[1]Декабрь!D12 -> 2562 | D12: 2562 | E12: =D12-C12 -> 0
A13: 17 | B13: =[1]Ноябрь!D13 -> 0 | C13: =[1]Декабрь!D13 -> 0 | E13: =D13-C13 -> 0
A14: 18 | B14: =[1]Ноябрь!D14 -> 0 | C14: =[1]Декабрь!D14 -> 0 | E14: =D14-C14 -> 0
A15: 19 | B15: =[1]Ноябрь!D15 -> 629 | C15: =[1]Декабрь!D15 -> 629 | D15: 629 | E15: =D15-C15 -> 0
A16: 20 | B16: =[1]Ноябрь!D16 -> 4593 | C16: =[1]Декабрь!D16 -> 5187 | D16: 5973 | E16: =D16-C16 -> 786
A17: 21.22 | B17: =[1]Ноябрь!D17 -> 4372 | C17: =[1]Декабрь!D17 -> 4372 | D17: 4413 | E17: =D17-C17 -> 41
A18: 23 | B18: =[1]Ноябрь!D18 -> 2183 | C18: =[1]Декабрь!D18 -> 2184 | D18: 2185 | E18: =D18-C18 -> 1
A19: 24 | B19: =[1]Ноябрь!D19 -> 38692 | C19: =[1]Декабрь!D19 -> 38724 | D19: 38738 | E19: =D19-C19 -> 14
A20: 25 | B20: =[1]Ноябрь!D20 -> 0 | C20: =[1]Декабрь!D20 -> 0 | E20: =D20-C20 -> 0
A21: 26 | B21: =[1]Ноябрь!D21 -> 603 | C21: =[1]Декабрь!D21 -> 603 | D21: 603 | E21: =D21-C21 -> 0
A22: 27 | B22: =[1]Ноябрь!D22 -> 0 | C22: =[1]Декабрь!D22 -> 0 | E22: =D22-C22 -> 0
A23: 28.29 | B23: =[1]Ноябрь!D23 -> 31590 | C23: =[1]Декабрь!D23 -> 31590 | D23: 31590 | E23: =D23-C23 -> 0
A24: 30 | B24: =[1]Ноябрь!D24 -> 1640 | C24: =[1]Декабрь!D24 -> 1640 | D24: 1640 | E24: =D24-C24 -> 0
A25: 31 | B25: =[1]Ноябрь!D25 -> 57 | C25: =[1]Декабрь!D25 -> 57 | D25: 57 | E25: =D25-C25 -> 0
A26: 32 | B26: =[1]Ноябрь!D26 -> 3344 | C26: =[1]Декабрь!D26 -> 3344 | D26: 3344 | E26: =D26-C26 -> 0
A27: 33 | B27: =[1]Ноябрь!D27 -> 0 | C27: =[1]Декабрь!D27 -> 0 | E27: =D27-C27 -> 0
A28: 34 | B28: =[1]Ноябрь!D28 -> 960 | C28: =[1]Декабрь!D28 -> 960 | D28: 960 | E28: =D28-C28 -> 0
A29: 35 | B29: =[1]Ноябрь!D29 -> 0 | C29: =[1]Декабрь!D29 -> 0 | E29: =D29-C29 -> 0
A30: 36 | B30: =[1]Ноябрь!D30 -> 2673 | C30: =[1]Декабрь!D30 -> 2673 | D30: 2673 | E30: =D30-C30 -> 0
A31: 37 | B31: =[1]Ноябрь!D31 -> 10796 | C31: =[1]Декабрь!D31 -> 11093 | D31: 11500 | E31: =D31-C31 -> 407
A32: 38 | B32: =[1]Ноябрь!D32 -> 272 | C32: =[1]Декабрь!D32 -> 272 | D32: 283 | E32: =D32-C32 -> 11
A33: 39.4 | B33: =[1]Ноябрь!D33 -> 49658 | C33: =[1]Декабрь!D33 -> 50288 | D33: 50941 | E33: =D33-C33 -> 653
A34: 41-43 | B34: =[1]Ноябрь!D34 -> 16736 | C34: =[1]Декабрь!D34 -> 16742 | D34: 16838 | E34: =D34-C34 -> 96
A35: 44 | B35: =[1]Ноябрь!D35 -> 547 | C35: =[1]Декабрь!D35 -> 547 | D35: 547 | E35: =D35-C35 -> 0
A36: 45 | B36: =[1]Ноябрь!D36 -> 528 | C36: =[1]Декабрь!D36 -> 528 | D36: 528 | E36: =D36-C36 -> 0
A37: 46 | B37: =[1]Ноябрь!D37 -> 5052 | C37: =[1]Декабрь!D37 -> 5052 | D37: 5052 | E37: =D37-C37 -> 0
A38: 47-49 | B38: =[1]Ноябрь!D38 -> 27614 | C38: =[1]Декабрь!D38 -> 27647 | D38: 27784 | E38: =D38-C38 -> 137
A39: 50.51 | B39: =[1]Ноябрь!D39 -> 3560 | C39: =[1]Декабрь!D39 -> 3560 | D39: 3696 | E39: =D39-C39 -> 136
A40: 52 | B40: =[1]Ноябрь!D40 -> 3949 | C40: =[1]Декабрь!D40 -> 4272 | D40: 4634 | E40: =D40-C40 -> 362
A41: 53-56 | B41: =[1]Ноябрь!D41 -> 481 | C41: =[1]Декабрь!D41 -> 481 | D41: 481 | E41: =D41-C41 -> 0
A42: 57 | B42: =[1]Ноябрь!D42 -> 2 | C42: =[1]Декабрь!D42 -> 2 | D42: 2 | E42: =D42-C42 -> 0
A43: 58 | B43: =[1]Ноябрь!D43 -> 20 | C43: =[1]Декабрь!D43 -> 20 | D43: 20 | E43: =D43-C43 -> 0
A44: 59 | B44: =[1]Ноябрь!D44 -> 0 | C44: =[1]Декабрь!D44 -> 0 | E44: =D44-C44 -> 0
A45: 60.61 | B45: =[1]Ноябрь!D45 -> 3570 | C45: =[1]Декабрь!D45 -> 3570 | D45: 3570 | E45: =D45-C45 -> 0
A46: 62 | B46: =[1]Ноябрь!D46 -> 4137 | C46: =[1]Декабрь!D46 -> 4137 | D46: 4137 | E46: =D46-C46 -> 0
A47: 63 | B47: =[1]Ноябрь!D47 -> 0 | C47: =[1]Декабрь!D47 -> 0 | E47: =D47-C47 -> 0
A48: 64 | B48: =[1]Ноябрь!D48 -> 0 | C48: =[1]Декабрь!D48 -> 0 | E48: =D48-C48 -> 0
A49: 65 | B49: =[1]Ноябрь!D49 -> 0 | C49: =[1]Декабрь!D49 -> 0 | E49: =D49-C49 -> 0
A50: 66 | B50: =[1]Ноябрь!D50 -> 2624 | C50: =[1]Декабрь!D50 -> 2624 | D50: 2905 | E50: =D50-C50 -> 281
A51: 67 | B51: =[1]Ноябрь!D51 -> 610 | C51: =[1]Декабрь!D51 -> 610 | D51: 610 | E51: =D51-C51 -> 0
A52: 68 | B52: =[1]Ноябрь!D52 -> 6634 | C52: =[1]Декабрь!D52 -> 6642 | D52: 6650 | E52: =D52-C52 -> 8
A53: 69 | B53: =[1]Ноябрь!D53 -> 2738 | C53: =[1]Декабрь!D53 -> 2738 | D53: 2738 | E53: =D53-C53 -> 0
A54: Сторож | B54: =[1]Ноябрь!D54 -> 60426 | C54: =[1]Декабрь!D54 -> 61041 | D54: 61680 | E54: =D54-C54 -> 639
A55: Скваж | B55: =[1]Ноябрь!D55 -> 79 | C55: =[1]Декабрь!D55 -> 79 | D55: 79 | E55: =D55-C55 -> 0
A56: 70 | B56: =[1]Ноябрь!D56 -> 10574 | C56: =[1]Декабрь!D56 -> 10574 | D56: 10574 | E56: =D56-C56 -> 0
A57: 71 | B57: =[1]Ноябрь!D57 -> 223 | C57: =[1]Декабрь!D57 -> 223 | D57: 223 | E57: =D57-C57 -> 0
A58: 72 | B58: =[1]Ноябрь!D58 -> 172 | C58: =[1]Декабрь!D58 -> 172 | D58: 172 | E58: =D58-C58 -> 0
A59: 73 | B59: =[1]Ноябрь!D59 -> 2795 | C59: =[1]Декабрь!D59 -> 2795 | D59: 2795 | E59: =D59-C59 -> 0
A60: 74 | B60: =[1]Ноябрь!D60 -> 0 | C60: =[1]Декабрь!D60 -> 0 | E60: =D60-C60 -> 0
A61: 75 | B61: =[1]Ноябрь!D61 -> 0 | C61: =[1]Декабрь!D61 -> 0 | E61: =D61-C61 -> 0
A62: 76 | B62: =[1]Ноябрь!D62 -> 970 | C62: =[1]Декабрь!D62 -> 970 | D62: 970 | E62: =D62-C62 -> 0
A63: 77 | B63: =[1]Ноябрь!D63 -> 29812 | C63: =[1]Декабрь!D63 -> 30522 | D63: 31086 | E63: =D63-C63 -> 564
A64: 78 | B64: =[1]Ноябрь!D64 -> 29440 | C64: =[1]Декабрь!D64 -> 29440 | D64: 29440 | E64: =D64-C64 -> 0
A65: 79 | B65: =[1]Ноябрь!D65 -> 13025 | C65: =[1]Декабрь!D65 -> 13758 | D65: 14480 | E65: =D65-C65 -> 722
A66: 80 | B66: =[1]Ноябрь!D66 -> 0 | C66: =[1]Декабрь!D66 -> 0 | E66: =D66-C66 -> 0
A67: 81 | B67: =[1]Ноябрь!D67 -> 19000 | C67: =[1]Декабрь!D67 -> 19400 | D67: 19943 | E67: =D67-C67 -> 543
A68: 82 | B68: =[1]Ноябрь!D68 -> 1725 | C68: =[1]Декабрь!D68 -> 1725 | D68: 1730 | E68: =D68-C68 -> 5
A69: 83 | B69: =[1]Ноябрь!D69 -> 0 | C69: =[1]Декабрь!D69 -> 0 | E69: =D69-C69 -> 0
A70: 84 | B70: =[1]Ноябрь!D70 -> 0 | C70: =[1]Декабрь!D70 -> 0 | E70: =D70-C70 -> 0
A71: 85 | B71: =[1]Ноябрь!D71 -> 0 | C71: =[1]Декабрь!D71 -> 0 | E71: =D71-C71 -> 0
A72: 86 | B72: =[1]Ноябрь!D72 -> 1627 | C72: =[1]Декабрь!D72 -> 1642 | D72: 1740 | E72: =D72-C72 -> 98
A73: 87 | B73: =[1]Ноябрь!D73 -> 8255 | C73: =[1]Декабрь!D73 -> 8255 | D73: 8255 | E73: =D73-C73 -> 0
A74: 88.89 | B74: =[1]Ноябрь!D74 -> 4299 | C74: =[1]Декабрь!D74 -> 4299 | D74: 4299 | E74: =D74-C74 -> 0
A75: 90 | B75: =[1]Ноябрь!D75 -> 7479 | C75: =[1]Декабрь!D75 -> 7479 | D75: 7479 | E75: =D75-C75 -> 0
A76: 91 | B76: =[1]Ноябрь!D76 -> 3743 | C76: =[1]Декабрь!D76 -> 3839 | D76: 3957 | E76: =D76-C76 -> 118
A77: 92 | B77: =[1]Ноябрь!D77 -> 0 | C77: =[1]Декабрь!D77 -> 0 | E77: =D77-C77 -> 0
A78: 93 | B78: =[1]Ноябрь!D78 -> 0 | C78: =[1]Декабрь!D78 -> 0 | E78: =D78-C78 -> 0
A79: 94 | B79: =[1]Ноябрь!D79 -> 0 | C79: =[1]Декабрь!D79 -> 0 | E79: =D79-C79 -> 0
A80: 95 | B80: =[1]Ноябрь!D80 -> 0 | C80: =[1]Декабрь!D80 -> 0 | E80: =D80-C80 -> 0
A81: 96 | B81: =[1]Ноябрь!D81 -> 0 | C81: =[1]Декабрь!D81 -> 0 | E81: =D81-C81 -> 0
A82: 97 | B82: =[1]Ноябрь!D82 -> 2.5 | C82: =[1]Декабрь!D82 -> 2.5 | D82: 2.5 | E82: =D82-C82 -> 0
A83: 98 | B83: =[1]Ноябрь!D83 -> 0 | C83: =[1]Декабрь!D83 -> 0 | E83: =D83-C83 -> 0
A84: 99 | B84: =[1]Ноябрь!D84 -> 5269 | C84: =[1]Декабрь!D84 -> 5281 | D84: 5281 | E84: =D84-C84 -> 0
A85: 100 | B85: =[1]Ноябрь!D85 -> 0 | C85: =[1]Декабрь!D85 -> 0 | E85: =D85-C85 -> 0
A86: 101.102 | B86: =[1]Ноябрь!D86 -> 10815 | C86: =[1]Декабрь!D86 -> 10846 | D86: 10951 | E86: =D86-C86 -> 105
A87: 103 | B87: =[1]Ноябрь!D87 -> 893 | C87: =[1]Декабрь!D87 -> 893 | D87: 894 | E87: =D87-C87 -> 1
A88: 104 | B88: =[1]Ноябрь!D88 -> 79 | C88: =[1]Декабрь!D88 -> 79 | D88: 79 | E88: =D88-C88 -> 0
A89: 105 | B89: =[1]Ноябрь!D89 -> 0 | C89: =[1]Декабрь!D89 -> 0 | E89: =D89-C89 -> 0
A90: 106 | B90: =[1]Ноябрь!D90 -> 0 | C90: =[1]Декабрь!D90 -> 0 | E90: =D90-C90 -> 0
A91: 107.108 | B91: =[1]Ноябрь!D91 -> 67 | C91: =[1]Декабрь!D91 -> 67 | D91: 67 | E91: =D91-C91 -> 0
A92: 109 | B92: =[1]Ноябрь!D92 -> 3736 | C92: =[1]Декабрь!D92 -> 3736 | D92: 3737 | E92: =D92-C92 -> 1
A93: 110 | B93: =[1]Ноябрь!D93 -> 582 | C93: =[1]Декабрь!D93 -> 582 | D93: 582 | E93: =D93-C93 -> 0
A94: 111 | B94: =[1]Ноябрь!D94 -> 4275 | C94: =[1]Декабрь!D94 -> 4275 | D94: 4275 | E94: =D94-C94 -> 0
A95: 112 | B95: =[1]Ноябрь!D95 -> 4703 | C95: =[1]Декабрь!D95 -> 4703 | D95: 4703 | E95: =D95-C95 -> 0
A96: 113 | B96: =[1]Ноябрь!D96 -> 10362 | C96: =[1]Декабрь!D96 -> 10362 | D96: 10362 | E96: =D96-C96 -> 0
A97: 114 | B97: =[1]Ноябрь!D97 -> 0 | C97: =[1]Декабрь!D97 -> 0 | E97: =D97-C97 -> 0
A98: 115 | B98: =[1]Ноябрь!D98 -> 734 | C98: =[1]Декабрь!D98 -> 734 | D98: 734 | E98: =D98-C98 -> 0
A99: 116 | B99: =[1]Ноябрь!D99 -> 0 | C99: =[1]Декабрь!D99 -> 0 | E99: =D99-C99 -> 0
A100: 117 | B100: =[1]Ноябрь!D100 -> 83133 | C100: =[1]Декабрь!D100 -> 85649 | D100: 87273 | E100: =D100-C100 -> 1624
...

Sheet Февраль
A1: № | B1: Декабрь | C1: Январь | D1: Февраль | E1: потребл. за мес.
A2: 1 | B2: =Январь!C2 -> 0 | C2: =Январь!D2 -> 0 | E2: =D2-C2 -> 0
A3: 2 | B3: =Январь!C3 -> 217 | C3: =Январь!D3 -> 217 | D3: 217 | E3: =D3-C3 -> 0
A4: 3 | B4: =Январь!C4 -> 0 | C4: =Январь!D4 -> 0 | E4: =D4-C4 -> 0
A5: 4.5 | B5: =Январь!C5 -> 42181 | C5: =Январь!D5 -> 42181 | D5: 42181 | E5: =D5-C5 -> 0
A6: 6 | B6: =Январь!C6 -> 15414 | C6: =Январь!D6 -> 17882 | D6: 19871 | E6: =D6-C6 -> 1989
A7: 7.8 | B7: =Январь!C7 -> 61426 | C7: =Январь!D7 -> 62756 | D7: 63982 | E7: =D7-C7 -> 1226
A8: 9.1 | B8: =Январь!C8 -> 10567 | C8: =Январь!D8 -> 11076 | D8: 11608 | E8: =D8-C8 -> 532
A9: 11 | B9: =Январь!C9 -> 0 | C9: =Январь!D9 -> 0 | E9: =D9-C9 -> 0
A10: 12.13 | B10: =Январь!C10 -> 30805 | C10: =Январь!D10 -> 31826 | D10: 32731 | E10: =D10-C10 -> 905
A11: 14.15 | B11: =Январь!C11 -> 91997 | C11: =Январь!D11 -> 93011 | D11: 94084 | E11: =D11-C11 -> 1073
A12: 16 | B12: =Январь!C12 -> 2562 | C12: =Январь!D12 -> 2562 | D12: 2562 | E12: =D12-C12 -> 0
A13: 17 | B13: =Январь!C13 -> 0 | C13: =Январь!D13 -> 0 | E13: =D13-C13 -> 0
A14: 18 | B14: =Январь!C14 -> 0 | C14: =Январь!D14 -> 0 | E14: =D14-C14 -> 0
A15: 19 | B15: =Январь!C15 -> 629 | C15: =Январь!D15 -> 629 | D15: 629 | E15: =D15-C15 -> 0
A16: 20 | B16: =Январь!C16 -> 5187 | C16: =Январь!D16 -> 5973 | D16: 6459 | E16: =D16-C16 -> 486
A17: 21.22 | B17: =Январь!C17 -> 4372 | C17: =Январь!D17 -> 4413 | D17: 4445 | E17: =D17-C17 -> 32
A18: 23 | B18: =Январь!C18 -> 2184 | C18: =Январь!D18 -> 2185 | D18: 2186 | E18: =D18-C18 -> 1
A19: 24 | B19: =Январь!C19 -> 38724 | C19: =Январь!D19 -> 38738 | D19: 38877 | E19: =D19-C19 -> 139 | H19: !!!
A20: 25 | B20: =Январь!C20 -> 0 | C20: =Январь!D20 -> 0 | E20: =D20-C20 -> 0
A21: 26 | B21: =Январь!C21 -> 603 | C21: =Январь!D21 -> 603 | D21: 603 | E21: =D21-C21 -> 0
A22: 27 | B22: =Январь!C22 -> 0 | C22: =Январь!D22 -> 0 | E22: =D22-C22 -> 0
A23: 28.29 | B23: =Январь!C23 -> 31590 | C23: =Январь!D23 -> 31590 | D23: 31590 | E23: =D23-C23 -> 0
A24: 30 | B24: =Январь!C24 -> 1640 | C24: =Январь!D24 -> 1640 | D24: 1640 | E24: =D24-C24 -> 0
A25: 31 | B25: =Январь!C25 -> 57 | C25: =Январь!D25 -> 57 | D25: 57 | E25: =D25-C25 -> 0
A26: 32 | B26: =Январь!C26 -> 3344 | C26: =Январь!D26 -> 3344 | D26: 3344 | E26: =D26-C26 -> 0
A27: 33 | B27: =Январь!C27 -> 0 | C27: =Январь!D27 -> 0 | E27: =D27-C27 -> 0
A28: 34 | B28: =Январь!C28 -> 960 | C28: =Январь!D28 -> 960 | D28: 960 | E28: =D28-C28 -> 0
A29: 35 | B29: =Январь!C29 -> 0 | C29: =Январь!D29 -> 0 | E29: =D29-C29 -> 0
A30: 36 | B30: =Январь!C30 -> 2673 | C30: =Январь!D30 -> 2673 | D30: 2707 | E30: =D30-C30 -> 34
A31: 37 | B31: =Январь!C31 -> 11093 | C31: =Январь!D31 -> 11500 | D31: 11817 | E31: =D31-C31 -> 317
A32: 38 | B32: =Январь!C32 -> 272 | C32: =Январь!D32 -> 283 | D32: 291 | E32: =D32-C32 -> 8
A33: 39.4 | B33: =Январь!C33 -> 50288 | C33: =Январь!D33 -> 50941 | D33: 51515 | E33: =D33-C33 -> 574
A34: 41-43 | B34: =Январь!C34 -> 16742 | C34: =Январь!D34 -> 16838 | D34: 16897 | E34: =D34-C34 -> 59
A35: 44 | B35: =Январь!C35 -> 547 | C35: =Январь!D35 -> 547 | D35: 547 | E35: =D35-C35 -> 0
A36: 45 | B36: =Январь!C36 -> 528 | C36: =Январь!D36 -> 528 | D36: 528 | E36: =D36-C36 -> 0
A37: 46 | B37: =Январь!C37 -> 5052 | C37: =Январь!D37 -> 5052 | D37: 5052 | E37: =D37-C37 -> 0
A38: 47-49 | B38: =Январь!C38 -> 27647 | C38: =Январь!D38 -> 27784 | D38: 27858 | E38: =D38-C38 -> 74
A39: 50.51 | B39: =Январь!C39 -> 3560 | C39: =Январь!D39 -> 3696 | D39: 3696 | E39: =D39-C39 -> 0
A40: 52 | B40: =Январь!C40 -> 4272 | C40: =Январь!D40 -> 4634 | D40: 4959 | E40: =D40-C40 -> 325
A41: 53-56 | B41: =Январь!C41 -> 481 | C41: =Январь!D41 -> 481 | D41: 481 | E41: =D41-C41 -> 0
A42: 57 | B42: =Январь!C42 -> 2 | C42: =Январь!D42 -> 2 | D42: 2 | E42: =D42-C42 -> 0
A43: 58 | B43: =Январь!C43 -> 20 | C43: =Январь!D43 -> 20 | D43: 20 | E43: =D43-C43 -> 0
A44: 59 | B44: =Январь!C44 -> 0 | C44: =Январь!D44 -> 0 | E44: =D44-C44 -> 0
A45: 60.61 | B45: =Январь!C45 -> 3570 | C45: =Январь!D45 -> 3570 | D45: 3570 | E45: =D45-C45 -> 0
A46: 62 | B46: =Январь!C46 -> 4137 | C46: =Январь!D46 -> 4137 | D46: 4137 | E46: =D46-C46 -> 0
A47: 63 | B47: =Январь!C47 -> 0 | C47: =Январь!D47 -> 0 | E47: =D47-C47 -> 0
A48: 64 | B48: =Январь!C48 -> 0 | C48: =Январь!D48 -> 0 | E48: =D48-C48 -> 0
A49: 65 | B49: =Январь!C49 -> 0 | C49: =Январь!D49 -> 0 | E49: =D49-C49 -> 0
A50: 66 | B50: =Январь!C50 -> 2624 | C50: =Январь!D50 -> 2905 | D50: 2905 | E50: =D50-C50 -> 0
A51: 67 | B51: =Январь!C51 -> 610 | C51: =Январь!D51 -> 610 | D51: 610 | E51: =D51-C51 -> 0
A52: 68 | B52: =Январь!C52 -> 6642 | C52: =Январь!D52 -> 6650 | D52: 6650 | E52: =D52-C52 -> 0
A53: 69 | B53: =Январь!C53 -> 2738 | C53: =Январь!D53 -> 2738 | D53: 2738 | E53: =D53-C53 -> 0
A54: Сторож | B54: =Январь!C54 -> 61041 | C54: =Январь!D54 -> 61680 | D54: 62295 | E54: =D54-C54 -> 615
A55: Скваж | B55: =Январь!C55 -> 79 | C55: =Январь!D55 -> 79 | D55: 79 | E55: =D55-C55 -> 0
A56: 70 | B56: =Январь!C56 -> 10574 | C56: =Январь!D56 -> 10574 | D56: 10574 | E56: =D56-C56 -> 0
A57: 71 | B57: =Январь!C57 -> 223 | C57: =Январь!D57 -> 223 | D57: 223 | E57: =D57-C57 -> 0
A58: 72 | B58: =Январь!C58 -> 172 | C58: =Январь!D58 -> 172 | D58: 172 | E58: =D58-C58 -> 0
A59: 73 | B59: =Январь!C59 -> 2795 | C59: =Январь!D59 -> 2795 | D59: 2795 | E59: =D59-C59 -> 0
A60: 74 | B60: =Январь!C60 -> 0 | C60: =Январь!D60 -> 0 | E60: =D60-C60 -> 0
A61: 75 | B61: =Январь!C61 -> 0 | C61: =Январь!D61 -> 0 | E61: =D61-C61 -> 0
A62: 76 | B62: =Январь!C62 -> 970 | C62: =Январь!D62 -> 970 | D62: 970 | E62: =D62-C62 -> 0
A63: 77 | B63: =Январь!C63 -> 30522 | C63: =Январь!D63 -> 31086 | D63: 31756 | E63: =D63-C63 -> 670
A64: 78 | B64: =Январь!C64 -> 29440 | C64: =Январь!D64 -> 29440 | D64: 29440 | E64: =D64-C64 -> 0
A65: 79 | B65: =Январь!C65 -> 13758 | C65: =Январь!D65 -> 14480 | D65: 15383 | E65: =D65-C65 -> 903
A66: 80 | B66: =Январь!C66 -> 0 | C66: =Январь!D66 -> 0 | E66: =D66-C66 -> 0
A67: 81 | B67: =Январь!C67 -> 19400 | C67: =Январь!D67 -> 19943 | D67: 20820 | E67: =D67-C67 -> 877
A68: 82 | B68: =Январь!C68 -> 1725 | C68: =Январь!D68 -> 1730 | D68: 1731 | E68: =D68-C68 -> 1
A69: 83 | B69: =Январь!C69 -> 0 | C69: =Январь!D69 -> 0 | E69: =D69-C69 -> 0
A70: 84 | B70: =Январь!C70 -> 0 | C70: =Январь!D70 -> 0 | E70: =D70-C70 -> 0
A71: 85 | B71: =Январь!C71 -> 0 | C71: =Январь!D71 -> 0 | E71: =D71-C71 -> 0
A72: 86 | B72: =Январь!C72 -> 1642 | C72: =Январь!D72 -> 1740 | D72: 1740 | E72: =D72-C72 -> 0
A73: 87 | B73: =Январь!C73 -> 8255 | C73: =Январь!D73 -> 8255 | D73: 8300 | E73: =D73-C73 -> 45
A74: 88.89 | B74: =Январь!C74 -> 4299 | C74: =Январь!D74 -> 4299 | D74: 4299 | E74: =D74-C74 -> 0
A75: 90 | B75: =Январь!C75 -> 7479 | C75: =Январь!D75 -> 7479 | D75: 7479 | E75: =D75-C75 -> 0
A76: 91 | B76: =Январь!C76 -> 3839 | C76: =Январь!D76 -> 3957 | D76: 4078 | E76: =D76-C76 -> 121
A77: 92 | B77: =Январь!C77 -> 0 | C77: =Январь!D77 -> 0 | E77: =D77-C77 -> 0
A78: 93 | B78: =Январь!C78 -> 0 | C78: =Январь!D78 -> 0 | E78: =D78-C78 -> 0
A79: 94 | B79: =Январь!C79 -> 0 | C79: =Январь!D79 -> 0 | E79: =D79-C79 -> 0
A80: 95 | B80: =Январь!C80 -> 0 | C80: =Январь!D80 -> 0 | E80: =D80-C80 -> 0
A81: 96 | B81: =Январь!C81 -> 0 | C81: =Январь!D81 -> 0 | E81: =D81-C81 -> 0
A82: 97 | B82: =Январь!C82 -> 2.5 | C82: =Январь!D82 -> 2.5 | D82: 2.5 | E82: =D82-C82 -> 0
A83: 98 | B83: =Январь!C83 -> 0 | C83: =Январь!D83 -> 0 | E83: =D83-C83 -> 0
A84: 99 | B84: =Январь!C84 -> 5281 | C84: =Январь!D84 -> 5281 | D84: 5448 | E84: =D84-C84 -> 167
A85: 100 | B85: =Январь!C85 -> 0 | C85: =Январь!D85 -> 0 | E85: =D85-C85 -> 0
A86: 101.102 | B86: =Январь!C86 -> 10846 | C86: =Январь!D86 -> 10951 | D86: 11023 | E86: =D86-C86 -> 72
A87: 103 | B87: =Январь!C87 -> 893 | C87: =Январь!D87 -> 894 | D87: 894 | E87: =D87-C87 -> 0
A88: 104 | B88: =Январь!C88 -> 79 | C88: =Январь!D88 -> 79 | D88: 79 | E88: =D88-C88 -> 0
A89: 105 | B89: =Январь!C89 -> 0 | C89: =Январь!D89 -> 0 | E89: =D89-C89 -> 0
A90: 106 | B90: =Январь!C90 -> 0 | C90: =Январь!D90 -> 0 | E90: =D90-C90 -> 0
A91: 107.108 | B91: =Январь!C91 -> 67 | C91: =Январь!D91 -> 67 | D91: 67 | E91: =D91-C91 -> 0
A92: 109 | B92: =Январь!C92 -> 3736 | C92: =Январь!D92 -> 3737 | D92: 3747 | E92: =D92-C92 -> 10
A93: 110 | B93: =Январь!C93 -> 582 | C93: =Январь!D93 -> 582 | D93: 582 | E93: =D93-C93 -> 0
A94: 111 | B94: =Январь!C94 -> 4275 | C94: =Январь!D94 -> 4275 | D94: 4275 | E94: =D94-C94 -> 0
A95: 112 | B95: =Январь!C95 -> 4703 | C95: =Январь!D95 -> 4703 | D95: 4703 | E95: =D95-C95 -> 0
A96: 113 | B96: =Январь!C96 -> 10362 | C96: =Январь!D96 -> 10362 | D96: 10362 | E96: =D96-C96 -> 0
A97: 114 | B97: =Январь!C97 -> 0 | C97: =Январь!D97 -> 0 | E97: =D97-C97 -> 0
A98: 115 | B98: =Январь!C98 -> 734 | C98: =Январь!D98 -> 734 | D98: 734 | E98: =D98-C98 -> 0
A99: 116 | B99: =Январь!C99 -> 0 | C99: =Январь!D99 -> 0 | E99: =D99-C99 -> 0
A100: 117 | B100: =Январь!C100 -> 85649 | C100: =Январь!D100 -> 87273 | D100: 88827 | E100: =D100-C100 -> 1554
...

Sheet Март
A1: № | B1: Январь | C1: Февраль | D1: Март | E1: потребл. за мес.
A2: 1 | B2: =Январь!D2 -> 0 | C2: =Февраль!D2 -> 0 | E2: =D2-C2 -> 0
A3: 2 | B3: =Январь!D3 -> 217 | C3: =Февраль!D3 -> 217 | D3: 217 | E3: =D3-C3 -> 0
A4: 3 | B4: =Январь!D4 -> 0 | C4: =Февраль!D4 -> 0 | E4: =D4-C4 -> 0
A5: 4.5 | B5: =Январь!D5 -> 42181 | C5: =Февраль!D5 -> 42181 | D5: 42181 | E5: =D5-C5 -> 0
A6: 6 | B6: =Январь!D6 -> 17882 | C6: =Февраль!D6 -> 19871 | D6: 21709 | E6: =D6-C6 -> 1838
A7: 7.8 | B7: =Январь!D7 -> 62756 | C7: =Февраль!D7 -> 63982 | D7: 65097 | E7: =D7-C7 -> 1115
A8: 9.1 | B8: =Январь!D8 -> 11076 | C8: =Февраль!D8 -> 11608 | D8: 12203 | E8: =D8-C8 -> 595
A9: 11 | B9: =Январь!D9 -> 0 | C9: =Февраль!D9 -> 0 | E9: =D9-C9 -> 0
A10: 12.13 | B10: =Январь!D10 -> 31826 | C10: =Февраль!D10 -> 32731 | D10: 33319 | E10: =D10-C10 -> 588
A11: 14.15 | B11: =Январь!D11 -> 93011 | C11: =Февраль!D11 -> 94084 | D11: 95058 | E11: =D11-C11 -> 974
A12: 16 | B12: =Январь!D12 -> 2562 | C12: =Февраль!D12 -> 2562 | D12: 2562 | E12: =D12-C12 -> 0
A13: 17 | B13: =Январь!D13 -> 0 | C13: =Февраль!D13 -> 0 | E13: =D13-C13 -> 0
A14: 18 | B14: =Январь!D14 -> 0 | C14: =Февраль!D14 -> 0 | E14: =D14-C14 -> 0
A15: 19 | B15: =Январь!D15 -> 629 | C15: =Февраль!D15 -> 629 | D15: 629 | E15: =D15-C15 -> 0
A16: 20 | B16: =Январь!D16 -> 5973 | C16: =Февраль!D16 -> 6459 | D16: 7186 | E16: =D16-C16 -> 727
A17: 21.22 | B17: =Январь!D17 -> 4413 | C17: =Февраль!D17 -> 4445 | D17: 4525 | E17: =D17-C17 -> 80
A18: 23 | B18: =Январь!D18 -> 2185 | C18: =Февраль!D18 -> 2186 | D18: 2187 | E18: =D18-C18 -> 1
A19: 24 | B19: =Январь!D19 -> 38738 | C19: =Февраль!D19 -> 38877 | D19: 39253 | E19: =D19-C19 -> 376
A20: 25 | B20: =Январь!D20 -> 0 | C20: =Февраль!D20 -> 0 | E20: =D20-C20 -> 0
A21: 26 | B21: =Январь!D21 -> 603 | C21: =Февраль!D21 -> 603 | D21: 603 | E21: =D21-C21 -> 0
A22: 27 | B22: =Январь!D22 -> 0 | C22: =Февраль!D22 -> 0 | E22: =D22-C22 -> 0
A23: 28.29 | B23: =Январь!D23 -> 31590 | C23: =Февраль!D23 -> 31590 | D23: 31590 | E23: =D23-C23 -> 0
A24: 30 | B24: =Январь!D24 -> 1640 | C24: =Февраль!D24 -> 1640 | D24: 1640 | E24: =D24-C24 -> 0
A25: 31 | B25: =Январь!D25 -> 57 | C25: =Февраль!D25 -> 57 | D25: 58 | E25: =D25-C25 -> 1
A26: 32 | B26: =Январь!D26 -> 3344 | C26: =Февраль!D26 -> 3344 | D26: 3471 | E26: =D26-C26 -> 127
A27: 33 | B27: =Январь!D27 -> 0 | C27: =Февраль!D27 -> 0 | E27: =D27-C27 -> 0
A28: 34 | B28: =Январь!D28 -> 960 | C28: =Февраль!D28 -> 960 | D28: 1023 | E28: =D28-C28 -> 63
A29: 35 | B29: =Январь!D29 -> 0 | C29: =Февраль!D29 -> 0 | E29: =D29-C29 -> 0
A30: 36 | B30: =Январь!D30 -> 2673 | C30: =Февраль!D30 -> 2707 | D30: 2738 | E30: =D30-C30 -> 31
A31: 37 | B31: =Январь!D31 -> 11500 | C31: =Февраль!D31 -> 11817 | D31: 12090 | E31: =D31-C31 -> 273
A32: 38 | B32: =Январь!D32 -> 283 | C32: =Февраль!D32 -> 291 | D32: 293 | E32: =D32-C32 -> 2
A33: 39.4 | B33: =Январь!D33 -> 50941 | C33: =Февраль!D33 -> 51515 | D33: 52016 | E33: =D33-C33 -> 501
A34: 41-43 | B34: =Январь!D34 -> 16838 | C34: =Февраль!D34 -> 16897 | D34: 16954 | E34: =D34-C34 -> 57
A35: 44 | B35: =Январь!D35 -> 547 | C35: =Февраль!D35 -> 547 | D35: 547 | E35: =D35-C35 -> 0
A36: 45 | B36: =Январь!D36 -> 528 | C36: =Февраль!D36 -> 528 | D36: 528 | E36: =D36-C36 -> 0
A37: 46 | B37: =Январь!D37 -> 5052 | C37: =Февраль!D37 -> 5052 | D37: 5052 | E37: =D37-C37 -> 0
A38: 47-49 | B38: =Январь!D38 -> 27784 | C38: =Февраль!D38 -> 27858 | D38: 27981 | E38: =D38-C38 -> 123
A39: 50.51 | B39: =Январь!D39 -> 3696 | C39: =Февраль!D39 -> 3696 | D39: 3740 | E39: =D39-C39 -> 44
A40: 52 | B40: =Январь!D40 -> 4634 | C40: =Февраль!D40 -> 4959 | D40: 5241 | E40: =D40-C40 -> 282
A41: 53-56 | B41: =Январь!D41 -> 481 | C41: =Февраль!D41 -> 481 | D41: 481 | E41: =D41-C41 -> 0
A42: 57 | B42: =Январь!D42 -> 2 | C42: =Февраль!D42 -> 2 | D42: 2 | E42: =D42-C42 -> 0
A43: 58 | B43: =Январь!D43 -> 20 | C43: =Февраль!D43 -> 20 | D43: 20 | E43: =D43-C43 -> 0
A44: 59 | B44: =Январь!D44 -> 0 | C44: =Февраль!D44 -> 0 | E44: =D44-C44 -> 0
A45: 60.61 | B45: =Январь!D45 -> 3570 | C45: =Февраль!D45 -> 3570 | D45: 3570 | E45: =D45-C45 -> 0
A46: 62 | B46: =Январь!D46 -> 4137 | C46: =Февраль!D46 -> 4137 | D46: 4137 | E46: =D46-C46 -> 0
A47: 63 | B47: =Январь!D47 -> 0 | C47: =Февраль!D47 -> 0 | E47: =D47-C47 -> 0
A48: 64 | B48: =Январь!D48 -> 0 | C48: =Февраль!D48 -> 0 | E48: =D48-C48 -> 0
A49: 65 | B49: =Январь!D49 -> 0 | C49: =Февраль!D49 -> 0 | E49: =D49-C49 -> 0
A50: 66 | B50: =Январь!D50 -> 2905 | C50: =Февраль!D50 -> 2905 | D50: 3034 | E50: =D50-C50 -> 129
A51: 67 | B51: =Январь!D51 -> 610 | C51: =Февраль!D51 -> 610 | D51: 610 | E51: =D51-C51 -> 0
A52: 68 | B52: =Январь!D52 -> 6650 | C52: =Февраль!D52 -> 6650 | D52: 6666 | E52: =D52-C52 -> 16
A53: 69 | B53: =Январь!D53 -> 2738 | C53: =Февраль!D53 -> 2738 | D53: 2738 | E53: =D53-C53 -> 0
A54: Сторож | B54: =Январь!D54 -> 61680 | C54: =Февраль!D54 -> 62295 | D54: 62752 | E54: =D54-C54 -> 457
A55: Скваж | B55: =Январь!D55 -> 79 | C55: =Февраль!D55 -> 79 | D55: 79 | E55: =D55-C55 -> 0
A56: 70 | B56: =Январь!D56 -> 10574 | C56: =Февраль!D56 -> 10574 | D56: 10616 | E56: =D56-C56 -> 42
A57: 71 | B57: =Январь!D57 -> 223 | C57: =Февраль!D57 -> 223 | D57: 223 | E57: =D57-C57 -> 0
A58: 72 | B58: =Январь!D58 -> 172 | C58: =Февраль!D58 -> 172 | D58: 172 | E58: =D58-C58 -> 0
A59: 73 | B59: =Январь!D59 -> 2795 | C59: =Февраль!D59 -> 2795 | D59: 2795 | E59: =D59-C59 -> 0
A60: 74 | B60: =Январь!D60 -> 0 | C60: =Февраль!D60 -> 0 | E60: =D60-C60 -> 0
A61: 75 | B61: =Январь!D61 -> 0 | C61: =Февраль!D61 -> 0 | E61: =D61-C61 -> 0
A62: 76 | B62: =Январь!D62 -> 970 | C62: =Февраль!D62 -> 970 | D62: 970 | E62: =D62-C62 -> 0
A63: 77 | B63: =Январь!D63 -> 31086 | C63: =Февраль!D63 -> 31756 | D63: 32171 | E63: =D63-C63 -> 415
A64: 78 | B64: =Январь!D64 -> 29440 | C64: =Февраль!D64 -> 29440 | D64: 29440 | E64: =D64-C64 -> 0
A65: 79 | B65: =Январь!D65 -> 14480 | C65: =Февраль!D65 -> 15383 | D65: 16350 | E65: =D65-C65 -> 967
A66: 80 | B66: =Январь!D66 -> 0 | C66: =Февраль!D66 -> 0 | E66: =D66-C66 -> 0
A67: 81 | B67: =Январь!D67 -> 19943 | C67: =Февраль!D67 -> 20820 | D67: 21557 | E67: =D67-C67 -> 737
A68: 82 | B68: =Январь!D68 -> 1730 | C68: =Февраль!D68 -> 1731 | D68: 1732 | E68: =D68-C68 -> 1
A69: 83 | B69: =Январь!D69 -> 0 | C69: =Февраль!D69 -> 0 | E69: =D69-C69 -> 0
A70: 84 | B70: =Январь!D70 -> 0 | C70: =Февраль!D70 -> 0 | E70: =D70-C70 -> 0
A71: 85 | B71: =Январь!D71 -> 0 | C71: =Февраль!D71 -> 0 | E71: =D71-C71 -> 0
A72: 86 | B72: =Январь!D72 -> 1740 | C72: =Февраль!D72 -> 1740 | D72: 1821 | E72: =D72-C72 -> 81
A73: 87 | B73: =Январь!D73 -> 8255 | C73: =Февраль!D73 -> 8300 | D73: 8300 | E73: =D73-C73 -> 0
A74: 88.89 | B74: =Январь!D74 -> 4299 | C74: =Февраль!D74 -> 4299 | D74: 4299 | E74: =D74-C74 -> 0
A75: 90 | B75: =Январь!D75 -> 7479 | C75: =Февраль!D75 -> 7479 | D75: 7479 | E75: =D75-C75 -> 0
A76: 91 | B76: =Январь!D76 -> 3957 | C76: =Февраль!D76 -> 4078 | D76: 4157 | E76: =D76-C76 -> 79
A77: 92 | B77: =Январь!D77 -> 0 | C77: =Февраль!D77 -> 0 | E77: =D77-C77 -> 0
A78: 93 | B78: =Январь!D78 -> 0 | C78: =Февраль!D78 -> 0 | E78: =D78-C78 -> 0
A79: 94 | B79: =Январь!D79 -> 0 | C79: =Февраль!D79 -> 0 | E79: =D79-C79 -> 0
A80: 95 | B80: =Январь!D80 -> 0 | C80: =Февраль!D80 -> 0 | E80: =D80-C80 -> 0
A81: 96 | B81: =Январь!D81 -> 0 | C81: =Февраль!D81 -> 0 | E81: =D81-C81 -> 0
A82: 97 | B82: =Январь!D82 -> 2.5 | C82: =Февраль!D82 -> 2.5 | D82: 2.5 | E82: =D82-C82 -> 0
A83: 98 | B83: =Январь!D83 -> 0 | C83: =Февраль!D83 -> 0 | E83: =D83-C83 -> 0
A84: 99 | B84: =Январь!D84 -> 5281 | C84: =Февраль!D84 -> 5448 | D84: 5582 | E84: =D84-C84 -> 134
A85: 100 | B85: =Январь!D85 -> 0 | C85: =Февраль!D85 -> 0 | E85: =D85-C85 -> 0
A86: 101.102 | B86: =Январь!D86 -> 10951 | C86: =Февраль!D86 -> 11023 | D86: 11261 | E86: =D86-C86 -> 238
A87: 103 | B87: =Январь!D87 -> 894 | C87: =Февраль!D87 -> 894 | D87: 894 | E87: =D87-C87 -> 0
A88: 104 | B88: =Январь!D88 -> 79 | C88: =Февраль!D88 -> 79 | D88: 79 | E88: =D88-C88 -> 0
A89: 105 | B89: =Январь!D89 -> 0 | C89: =Февраль!D89 -> 0 | E89: =D89-C89 -> 0
A90: 106 | B90: =Январь!D90 -> 0 | C90: =Февраль!D90 -> 0 | E90: =D90-C90 -> 0
A91: 107.108 | B91: =Январь!D91 -> 67 | C91: =Февраль!D91 -> 67 | D91: 67 | E91: =D91-C91 -> 0
A92: 109 | B92: =Январь!D92 -> 3737 | C92: =Февраль!D92 -> 3747 | D92: 3764 | E92: =D92-C92 -> 17
A93: 110 | B93: =Январь!D93 -> 582 | C93: =Февраль!D93 -> 582 | D93: 582 | E93: =D93-C93 -> 0
A94: 111 | B94: =Январь!D94 -> 4275 | C94: =Февраль!D94 -> 4275 | D94: 4275 | E94: =D94-C94 -> 0
A95: 112 | B95: =Январь!D95 -> 4703 | C95: =Февраль!D95 -> 4703 | D95: 4703 | E95: =D95-C95 -> 0
A96: 113 | B96: =Январь!D96 -> 10362 | C96: =Февраль!D96 -> 10362 | D96: 10362 | E96: =D96-C96 -> 0
A97: 114 | B97: =Январь!D97 -> 0 | C97: =Февраль!D97 -> 0 | E97: =D97-C97 -> 0
A98: 115 | B98: =Январь!D98 -> 734 | C98: =Февраль!D98 -> 734 | D98: 734 | E98: =D98-C98 -> 0
A99: 116 | B99: =Январь!D99 -> 0 | C99: =Февраль!D99 -> 0 | E99: =D99-C99 -> 0
A100: 117 | B100: =Январь!D100 -> 87273 | C100: =Февраль!D100 -> 88827 | D100: 90232 | E100: =D100-C100 -> 1405
...

Sheet Апрель
A1: № | B1: Февраль | C1: Март | D1: Апрель | E1: потребл. за мес.
A2: 1 | B2: =Февраль!D2 -> 0 | C2: =Март!D2 -> 0 | E2: =D2-C2 -> 0
A3: 2 | B3: =Февраль!D3 -> 217 | C3: =Март!D3 -> 217 | D3: 217 | E3: =D3-C3 -> 0
A4: 3 | B4: =Февраль!D4 -> 0 | C4: =Март!D4 -> 0 | E4: =D4-C4 -> 0
A5: 4.5 | B5: =Февраль!D5 -> 42181 | C5: =Март!D5 -> 42181 | D5: 42181 | E5: =D5-C5 -> 0
A6: 6 | B6: =Февраль!D6 -> 19871 | C6: =Март!D6 -> 21709 | D6: 23602 | E6: =D6-C6 -> 1893
A7: 7.8 | B7: =Февраль!D7 -> 63982 | C7: =Март!D7 -> 65097 | D7: 67800 | E7: =D7-C7 -> 2703
A8: 9.1 | B8: =Февраль!D8 -> 11608 | C8: =Март!D8 -> 12203 | D8: 12953 | E8: =D8-C8 -> 750
A9: 11 | B9: =Февраль!D9 -> 0 | C9: =Март!D9 -> 0 | E9: =D9-C9 -> 0
A10: 12.13 | B10: =Февраль!D10 -> 32731 | C10: =Март!D10 -> 33319 | D10: 34324 | E10: =D10-C10 -> 1005
A11: 14.15 | B11: =Февраль!D11 -> 94084 | C11: =Март!D11 -> 95058 | D11: 97822 | E11: =D11-C11 -> 2764
A12: 16 | B12: =Февраль!D12 -> 2562 | C12: =Март!D12 -> 2562 | D12: 2562 | E12: =D12-C12 -> 0
A13: 17 | B13: =Февраль!D13 -> 0 | C13: =Март!D13 -> 0 | E13: =D13-C13 -> 0
A14: 18 | B14: =Февраль!D14 -> 0 | C14: =Март!D14 -> 0 | E14: =D14-C14 -> 0
A15: 19 | B15: =Февраль!D15 -> 629 | C15: =Март!D15 -> 629 | D15: 629 | E15: =D15-C15 -> 0
A16: 20 | B16: =Февраль!D16 -> 6459 | C16: =Март!D16 -> 7186 | D16: 7189 | E16: =D16-C16 -> 3
A17: 21.22 | B17: =Февраль!D17 -> 4445 | C17: =Март!D17 -> 4525 | D17: 5394 | E17: =D17-C17 -> 869
A18: 23 | B18: =Февраль!D18 -> 2186 | C18: =Март!D18 -> 2187 | D18: 2408 | E18: =D18-C18 -> 221
A19: 24 | B19: =Февраль!D19 -> 38877 | C19: =Март!D19 -> 39253 | D19: 40882 | E19: =D19-C19 -> 1629
A20: 25 | B20: =Февраль!D20 -> 0 | C20: =Март!D20 -> 0 | E20: =D20-C20 -> 0
A21: 26 | B21: =Февраль!D21 -> 603 | C21: =Март!D21 -> 603 | D21: 772 | E21: =D21-C21 -> 169
A22: 27 | B22: =Февраль!D22 -> 0 | C22: =Март!D22 -> 0 | E22: =D22-C22 -> 0
A23: 28.29 | B23: =Февраль!D23 -> 31590 | C23: =Март!D23 -> 31590 | D23: 32231 | E23: =D23-C23 -> 641
A24: 30 | B24: =Февраль!D24 -> 1640 | C24: =Март!D24 -> 1640 | D24: 1654 | E24: =D24-C24 -> 14
A25: 31 | B25: =Февраль!D25 -> 57 | C25: =Март!D25 -> 58 | D25: 58 | E25: =D25-C25 -> 0
A26: 32 | B26: =Февраль!D26 -> 3344 | C26: =Март!D26 -> 3471 | D26: 4440 | E26: =D26-C26 -> 969
A27: 33 | B27: =Февраль!D27 -> 0 | C27: =Март!D27 -> 0 | E27: =D27-C27 -> 0
A28: 34 | B28: =Февраль!D28 -> 960 | C28: =Март!D28 -> 1023 | D28: 1296 | E28: =D28-C28 -> 273
A29: 35 | B29: =Февраль!D29 -> 0 | C29: =Март!D29 -> 0 | E29: =D29-C29 -> 0
A30: 36 | B30: =Февраль!D30 -> 2707 | C30: =Март!D30 -> 2738 | D30: 2738 | E30: =D30-C30 -> 0
A31: 37 | B31: =Февраль!D31 -> 11817 | C31: =Март!D31 -> 12090 | D31: 12205 | E31: =D31-C31 -> 115
A32: 38 | B32: =Февраль!D32 -> 291 | C32: =Март!D32 -> 293 | D32: 313 | E32: =D32-C32 -> 20
A33: 39.4 | B33: =Февраль!D33 -> 51515 | C33: =Март!D33 -> 52016 | D33: 52794 | E33: =D33-C33 -> 778
A34: 41-43 | B34: =Февраль!D34 -> 16897 | C34: =Март!D34 -> 16954 | D34: 17723 | E34: =D34-C34 -> 769
A35: 44 | B35: =Февраль!D35 -> 547 | C35: =Март!D35 -> 547 | D35: 587 | E35: =D35-C35 -> 40
A36: 45 | B36: =Февраль!D36 -> 528 | C36: =Март!D36 -> 528 | D36: 529 | E36: =D36-C36 -> 1
A37: 46 | B37: =Февраль!D37 -> 5052 | C37: =Март!D37 -> 5052 | D37: 5052 | E37: =D37-C37 -> 0
A38: 47-49 | B38: =Февраль!D38 -> 27858 | C38: =Март!D38 -> 27981 | D38: 28292 | E38: =D38-C38 -> 311
A39: 50.51 | B39: =Февраль!D39 -> 3696 | C39: =Март!D39 -> 3740 | D39: 4089 | E39: =D39-C39 -> 349
A40: 52 | B40: =Февраль!D40 -> 4959 | C40: =Март!D40 -> 5241 | D40: 5649 | E40: =D40-C40 -> 408
A41: 53-56 | B41: =Февраль!D41 -> 481 | C41: =Март!D41 -> 481 | D41: 481 | E41: =D41-C41 -> 0
A42: 57 | B42: =Февраль!D42 -> 2 | C42: =Март!D42 -> 2 | D42: 2 | E42: =D42-C42 -> 0
A43: 58 | B43: =Февраль!D43 -> 20 | C43: =Март!D43 -> 20 | D43: 20 | E43: =D43-C43 -> 0
A44: 59 | B44: =Февраль!D44 -> 0 | C44: =Март!D44 -> 0 | E44: =D44-C44 -> 0
A45: 60.61 | B45: =Февраль!D45 -> 3570 | C45: =Март!D45 -> 3570 | D45: 3842 | E45: =D45-C45 -> 272
A46: 62 | B46: =Февраль!D46 -> 4137 | C46: =Март!D46 -> 4137 | D46: 4374 | E46: =D46-C46 -> 237
A47: 63 | B47: =Февраль!D47 -> 0 | C47: =Март!D47 -> 0 | E47: =D47-C47 -> 0
A48: 64 | B48: =Февраль!D48 -> 0 | C48: =Март!D48 -> 0 | E48: =D48-C48 -> 0
A49: 65 | B49: =Февраль!D49 -> 0 | C49: =Март!D49 -> 0 | E49: =D49-C49 -> 0
A50: 66 | B50: =Февраль!D50 -> 2905 | C50: =Март!D50 -> 3034 | D50: 3818 | E50: =D50-C50 -> 784
A51: 67 | B51: =Февраль!D51 -> 610 | C51: =Март!D51 -> 610 | D51: 610 | E51: =D51-C51 -> 0
A52: 68 | B52: =Февраль!D52 -> 6650 | C52: =Март!D52 -> 6666 | D52: 6685 | E52: =D52-C52 -> 19
A53: 69 | B53: =Февраль!D53 -> 2738 | C53: =Март!D53 -> 2738 | D53: 2741 | E53: =D53-C53 -> 3
A54: Сторож | B54: =Февраль!D54 -> 62295 | C54: =Март!D54 -> 62752 | D54: 63300 | E54: =D54-C54 -> 548
A55: Скваж | B55: =Февраль!D55 -> 79 | C55: =Март!D55 -> 79 | D55: 79 | E55: =D55-C55 -> 0
A56: 70 | B56: =Февраль!D56 -> 10574 | C56: =Март!D56 -> 10616 | D56: 11159 | E56: =D56-C56 -> 543
A57: 71 | B57: =Февраль!D57 -> 223 | C57: =Март!D57 -> 223 | D57: 223 | E57: =D57-C57 -> 0
A58: 72 | B58: =Февраль!D58 -> 172 | C58: =Март!D58 -> 172 | D58: 179 | E58: =D58-C58 -> 7
A59: 73 | B59: =Февраль!D59 -> 2795 | C59: =Март!D59 -> 2795 | D59: 3013 | E59: =D59-C59 -> 218
A60: 74 | B60: =Февраль!D60 -> 0 | C60: =Март!D60 -> 0 | E60: =D60-C60 -> 0
A61: 75 | B61: =Февраль!D61 -> 0 | C61: =Март!D61 -> 0 | E61: =D61-C61 -> 0
A62: 76 | B62: =Февраль!D62 -> 970 | C62: =Март!D62 -> 970 | D62: 1023 | E62: =D62-C62 -> 53
A63: 77 | B63: =Февраль!D63 -> 31756 | C63: =Март!D63 -> 32171 | D63: 33112 | E63: =D63-C63 -> 941
A64: 78 | B64: =Февраль!D64 -> 29440 | C64: =Март!D64 -> 29440 | D64: 30365 | E64: =D64-C64 -> 925
A65: 79 | B65: =Февраль!D65 -> 15383 | C65: =Март!D65 -> 16350 | D65: 18708 | E65: =D65-C65 -> 2358
A66: 80 | B66: =Февраль!D66 -> 0 | C66: =Март!D66 -> 0 | E66: =D66-C66 -> 0
A67: 81 | B67: =Февраль!D67 -> 20820 | C67: =Март!D67 -> 21557 | D67: 22260 | E67: =D67-C67 -> 703
A68: 82 | B68: =Февраль!D68 -> 1731 | C68: =Март!D68 -> 1732 | D68: 1844 | E68: =D68-C68 -> 112
A69: 83 | B69: =Февраль!D69 -> 0 | C69: =Март!D69 -> 0 | E69: =D69-C69 -> 0
A70: 84 | B70: =Февраль!D70 -> 0 | C70: =Март!D70 -> 0 | E70: =D70-C70 -> 0
A71: 85 | B71: =Февраль!D71 -> 0 | C71: =Март!D71 -> 0 | E71: =D71-C71 -> 0
A72: 86 | B72: =Февраль!D72 -> 1740 | C72: =Март!D72 -> 1821 | D72: 2358 | E72: =D72-C72 -> 537
A73: 87 | B73: =Февраль!D73 -> 8300 | C73: =Март!D73 -> 8300 | D73: 8952 | E73: =D73-C73 -> 652
A74: 88.89 | B74: =Февраль!D74 -> 4299 | C74: =Март!D74 -> 4299 | D74: 4299 | E74: =D74-C74 -> 0
A75: 90 | B75: =Февраль!D75 -> 7479 | C75: =Март!D75 -> 7479 | D75: 7479 | E75: =D75-C75 -> 0
A76: 91 | B76: =Февраль!D76 -> 4078 | C76: =Март!D76 -> 4157 | D76: 4574 | E76: =D76-C76 -> 417
A77: 92 | B77: =Февраль!D77 -> 0 | C77: =Март!D77 -> 0 | E77: =D77-C77 -> 0
A78: 93 | B78: =Февраль!D78 -> 0 | C78: =Март!D78 -> 0 | E78: =D78-C78 -> 0
A79: 94 | B79: =Февраль!D79 -> 0 | C79: =Март!D79 -> 0 | E79: =D79-C79 -> 0
A80: 95 | B80: =Февраль!D80 -> 0 | C80: =Март!D80 -> 0 | E80: =D80-C80 -> 0
A81: 96 | B81: =Февраль!D81 -> 0 | C81: =Март!D81 -> 0 | E81: =D81-C81 -> 0
A82: 97 | B82: =Февраль!D82 -> 2.5 | C82: =Март!D82 -> 2.5 | D82: 2.5 | E82: =D82-C82 -> 0
A83: 98 | B83: =Февраль!D83 -> 0 | C83: =Март!D83 -> 0 | E83: =D83-C83 -> 0
A84: 99 | B84: =Февраль!D84 -> 5448 | C84: =Март!D84 -> 5582 | D84: 6160 | E84: =D84-C84 -> 578
A85: 100 | B85: =Февраль!D85 -> 0 | C85: =Март!D85 -> 0 | E85: =D85-C85 -> 0
A86: 101.102 | B86: =Февраль!D86 -> 11023 | C86: =Март!D86 -> 11261 | D86: 11939 | E86: =D86-C86 -> 678
A87: 103 | B87: =Февраль!D87 -> 894 | C87: =Март!D87 -> 894 | D87: 894 | E87: =D87-C87 -> 0
A88: 104 | B88: =Февраль!D88 -> 79 | C88: =Март!D88 -> 79 | D88: 81 | E88: =D88-C88 -> 2
A89: 105 | B89: =Февраль!D89 -> 0 | C89: =Март!D89 -> 0 | E89: =D89-C89 -> 0
A90: 106 | B90: =Февраль!D90 -> 0 | C90: =Март!D90 -> 0 | E90: =D90-C90 -> 0
A91: 107.108 | B91: =Февраль!D91 -> 67 | C91: =Март!D91 -> 67 | D91: 67 | E91: =D91-C91 -> 0
A92: 109 | B92: =Февраль!D92 -> 3747 | C92: =Март!D92 -> 3764 | D92: 4271 | E92: =D92-C92 -> 507
A93: 110 | B93: =Февраль!D93 -> 582 | C93: =Март!D93 -> 582 | D93: 583 | E93: =D93-C93 -> 1
A94: 111 | B94: =Февраль!D94 -> 4275 | C94: =Март!D94 -> 4275 | D94: 4275 | E94: =D94-C94 -> 0
A95: 112 | B95: =Февраль!D95 -> 4703 | C95: =Март!D95 -> 4703 | D95: 4753 | E95: =D95-C95 -> 50
A96: 113 | B96: =Февраль!D96 -> 10362 | C96: =Март!D96 -> 10362 | D96: 10616 | E96: =D96-C96 -> 254
A97: 114 | B97: =Февраль!D97 -> 0 | C97: =Март!D97 -> 0 | E97: =D97-C97 -> 0
A98: 115 | B98: =Февраль!D98 -> 734 | C98: =Март!D98 -> 734 | D98: 918 | E98: =D98-C98 -> 184
A99: 116 | B99: =Февраль!D99 -> 0 | C99: =Март!D99 -> 0 | E99: =D99-C99 -> 0
A100: 117 | B100: =Февраль!D100 -> 88827 | C100: =Март!D100 -> 90232 | D100: 92402 | E100: =D100-C100 -> 2170
...

Sheet Май
A1: № | B1: Март | C1: Апрель | D1: Май | E1: потребл. за мес.
A2: 1 | B2: =Март!D2 -> 0 | C2: =Апрель!D2 -> 0 | E2: =D2-C2 -> 0
A3: 2 | B3: =Март!D3 -> 217 | C3: =Апрель!D3 -> 217 | D3: 240 | E3: =D3-C3 -> 23
A4: 3 | B4: =Март!D4 -> 0 | C4: =Апрель!D4 -> 0 | E4: =D4-C4 -> 0
A5: 4.5 | B5: =Март!D5 -> 42181 | C5: =Апрель!D5 -> 42181 | D5: 42181 | E5: =D5-C5 -> 0
A6: 6 | B6: =Март!D6 -> 21709 | C6: =Апрель!D6 -> 23602 | D6: 24710 | E6: =D6-C6 -> 1108
A7: 7.8 | B7: =Март!D7 -> 65097 | C7: =Апрель!D7 -> 67800 | D7: 69503 | E7: =D7-C7 -> 1703
A8: 9.1 | B8: =Март!D8 -> 12203 | C8: =Апрель!D8 -> 12953 | D8: 13482 | E8: =D8-C8 -> 529
A9: 11 | B9: =Март!D9 -> 0 | C9: =Апрель!D9 -> 0 | E9: =D9-C9 -> 0
A10: 12.13 | B10: =Март!D10 -> 33319 | C10: =Апрель!D10 -> 34324 | D10: 34960 | E10: =D10-C10 -> 636
A11: 14.15 | B11: =Март!D11 -> 95058 | C11: =Апрель!D11 -> 97822 | D11: 98881 | E11: =D11-C11 -> 1059
A12: 16 | B12: =Март!D12 -> 2562 | C12: =Апрель!D12 -> 2562 | D12: 2863 | E12: =D12-C12 -> 301
A13: 17 | B13: =Март!D13 -> 0 | C13: =Апрель!D13 -> 0 | E13: =D13-C13 -> 0
A14: 18 | B14: =Март!D14 -> 0 | C14: =Апрель!D14 -> 0 | E14: =D14-C14 -> 0
A15: 19 | B15: =Март!D15 -> 629 | C15: =Апрель!D15 -> 629 | D15: 629 | E15: =D15-C15 -> 0
A16: 20 | B16: =Март!D16 -> 7186 | C16: =Апрель!D16 -> 7189 | D16: 7298 | E16: =D16-C16 -> 109
A17: 21.22 | B17: =Март!D17 -> 4525 | C17: =Апрель!D17 -> 5394 | D17: 6053 | E17: =D17-C17 -> 659
A18: 23 | B18: =Март!D18 -> 2187 | C18: =Апрель!D18 -> 2408 | D18: 2487 | E18: =D18-C18 -> 79
A19: 24 | B19: =Март!D19 -> 39253 | C19: =Апрель!D19 -> 40882 | D19: 41682 | E19: =D19-C19 -> 800
A20: 25 | B20: =Март!D20 -> 0 | C20: =Апрель!D20 -> 0 | E20: =D20-C20 -> 0
A21: 26 | B21: =Март!D21 -> 603 | C21: =Апрель!D21 -> 772 | D21: 979 | E21: =D21-C21 -> 207
A22: 27 | B22: =Март!D22 -> 0 | C22: =Апрель!D22 -> 0 | E22: =D22-C22 -> 0
A23: 28.29 | B23: =Март!D23 -> 31590 | C23: =Апрель!D23 -> 32231 | D23: 32901 | E23: =D23-C23 -> 670
A24: 30 | B24: =Март!D24 -> 1640 | C24: =Апрель!D24 -> 1654 | D24: 1857 | E24: =D24-C24 -> 203
A25: 31 | B25: =Март!D25 -> 58 | C25: =Апрель!D25 -> 58 | D25: 62 | E25: =D25-C25 -> 4
A26: 32 | B26: =Март!D26 -> 3471 | C26: =Апрель!D26 -> 4440 | D26: 4744 | E26: =D26-C26 -> 304
A27: 33 | B27: =Март!D27 -> 0 | C27: =Апрель!D27 -> 0 | E27: =D27-C27 -> 0
A28: 34 | B28: =Март!D28 -> 1023 | C28: =Апрель!D28 -> 1296 | D28: 1402 | E28: =D28-C28 -> 106
A29: 35 | B29: =Март!D29 -> 0 | C29: =Апрель!D29 -> 0 | E29: =D29-C29 -> 0
A30: 36 | B30: =Март!D30 -> 2738 | C30: =Апрель!D30 -> 2738 | D30: 2982 | E30: =D30-C30 -> 244
A31: 37 | B31: =Март!D31 -> 12090 | C31: =Апрель!D31 -> 12205 | D31: 12315 | E31: =D31-C31 -> 110
A32: 38 | B32: =Март!D32 -> 293 | C32: =Апрель!D32 -> 313 | D32: 336 | E32: =D32-C32 -> 23
A33: 39.4 | B33: =Март!D33 -> 52016 | C33: =Апрель!D33 -> 52794 | D33: 53469 | E33: =D33-C33 -> 675
A34: 41-43 | B34: =Март!D34 -> 16954 | C34: =Апрель!D34 -> 17723 | D34: 18366 | E34: =D34-C34 -> 643
A35: 44 | B35: =Март!D35 -> 547 | C35: =Апрель!D35 -> 587 | D35: 689 | E35: =D35-C35 -> 102
A36: 45 | B36: =Март!D36 -> 528 | C36: =Апрель!D36 -> 529 | D36: 653 | E36: =D36-C36 -> 124
A37: 46 | B37: =Март!D37 -> 5052 | C37: =Апрель!D37 -> 5052 | D37: 5237 | E37: =D37-C37 -> 185
A38: 47-49 | B38: =Март!D38 -> 27981 | C38: =Апрель!D38 -> 28292 | D38: 28653 | E38: =D38-C38 -> 361
A39: 50.51 | B39: =Март!D39 -> 3740 | C39: =Апрель!D39 -> 4089 | D39: 4540 | E39: =D39-C39 -> 451
A40: 52 | B40: =Март!D40 -> 5241 | C40: =Апрель!D40 -> 5649 | D40: 5959 | E40: =D40-C40 -> 310
A41: 53-56 | B41: =Март!D41 -> 481 | C41: =Апрель!D41 -> 481 | D41: 481 | E41: =D41-C41 -> 0 | H41: не мотает
A42: 57 | B42: =Март!D42 -> 2 | C42: =Апрель!D42 -> 2 | D42: 2 | E42: =D42-C42 -> 0
A43: 58 | B43: =Март!D43 -> 20 | C43: =Апрель!D43 -> 20 | D43: 5 | E43: =D43-C43 -> -15
A44: 59 | B44: =Март!D44 -> 0 | C44: =Апрель!D44 -> 0 | E44: =D44-C44 -> 0
A45: 60.61 | B45: =Март!D45 -> 3570 | C45: =Апрель!D45 -> 3842 | D45: 4253 | E45: =D45-C45 -> 411
A46: 62 | B46: =Март!D46 -> 4137 | C46: =Апрель!D46 -> 4374 | D46: 4681 | E46: =D46-C46 -> 307
A47: 63 | B47: =Март!D47 -> 0 | C47: =Апрель!D47 -> 0 | E47: =D47-C47 -> 0
A48: 64 | B48: =Март!D48 -> 0 | C48: =Апрель!D48 -> 0 | E48: =D48-C48 -> 0
A49: 65 | B49: =Март!D49 -> 0 | C49: =Апрель!D49 -> 0 | E49: =D49-C49 -> 0
A50: 66 | B50: =Март!D50 -> 3034 | C50: =Апрель!D50 -> 3818 | D50: 4550 | E50: =D50-C50 -> 732
A51: 67 | B51: =Март!D51 -> 610 | C51: =Апрель!D51 -> 610 | D51: 1234 | E51: =D51-C51 -> 624
A52: 68 | B52: =Март!D52 -> 6666 | C52: =Апрель!D52 -> 6685 | D52: 7030 | E52: =D52-C52 -> 345
A53: 69 | B53: =Март!D53 -> 2738 | C53: =Апрель!D53 -> 2741 | D53: 2748 | E53: =D53-C53 -> 7
A54: Сторож | B54: =Март!D54 -> 62752 | C54: =Апрель!D54 -> 63300 | D54: 63570 | E54: =D54-C54 -> 270
A55: Скваж | B55: =Март!D55 -> 79 | C55: =Апрель!D55 -> 79 | D55: 79 | E55: =D55-C55 -> 0
A56: 70 | B56: =Март!D56 -> 10616 | C56: =Апрель!D56 -> 11159 | D56: 11571 | E56: =D56-C56 -> 412
A57: 71 | B57: =Март!D57 -> 223 | C57: =Апрель!D57 -> 223 | D57: 257 | E57: =D57-C57 -> 34
A58: 72 | B58: =Март!D58 -> 172 | C58: =Апрель!D58 -> 179 | D58: 179 | E58: =D58-C58 -> 0
A59: 73 | B59: =Март!D59 -> 2795 | C59: =Апрель!D59 -> 3013 | D59: 3279 | E59: =D59-C59 -> 266
A60: 74 | B60: =Март!D60 -> 0 | C60: =Апрель!D60 -> 0 | E60: =D60-C60 -> 0
A61: 75 | B61: =Март!D61 -> 0 | C61: =Апрель!D61 -> 0 | E61: =D61-C61 -> 0
A62: 76 | B62: =Март!D62 -> 970 | C62: =Апрель!D62 -> 1023 | D62: 1049 | E62: =D62-C62 -> 26
A63: 77 | B63: =Март!D63 -> 32171 | C63: =Апрель!D63 -> 33112 | D63: 33917 | E63: =D63-C63 -> 805
A64: 78 | B64: =Март!D64 -> 29440 | C64: =Апрель!D64 -> 30365 | D64: 31563 | E64: =D64-C64 -> 1198
A65: 79 | B65: =Март!D65 -> 16350 | C65: =Апрель!D65 -> 18708 | D65: 19888 | E65: =D65-C65 -> 1180
A66: 80 | B66: =Март!D66 -> 0 | C66: =Апрель!D66 -> 0 | E66: =D66-C66 -> 0
A67: 81 | B67: =Март!D67 -> 21557 | C67: =Апрель!D67 -> 22260 | D67: 22500 | E67: =D67-C67 -> 240
A68: 82 | B68: =Март!D68 -> 1732 | C68: =Апрель!D68 -> 1844 | D68: 2068 | E68: =D68-C68 -> 224
A69: 83 | B69: =Март!D69 -> 0 | C69: =Апрель!D69 -> 0 | E69: =D69-C69 -> 0
A70: 84 | B70: =Март!D70 -> 0 | C70: =Апрель!D70 -> 0 | E70: =D70-C70 -> 0
A71: 85 | B71: =Март!D71 -> 0 | C71: =Апрель!D71 -> 0 | E71: =D71-C71 -> 0
A72: 86 | B72: =Март!D72 -> 1821 | C72: =Апрель!D72 -> 2358 | D72: 2821 | E72: =D72-C72 -> 463
A73: 87 | B73: =Март!D73 -> 8300 | C73: =Апрель!D73 -> 8952 | D73: 9141 | E73: =D73-C73 -> 189
A74: 88.89 | B74: =Март!D74 -> 4299 | C74: =Апрель!D74 -> 4299 | D74: 4397 | E74: =D74-C74 -> 98
A75: 90 | B75: =Март!D75 -> 7479 | C75: =Апрель!D75 -> 7479 | D75: 8153 | E75: =D75-C75 -> 674
A76: 91 | B76: =Март!D76 -> 4157 | C76: =Апрель!D76 -> 4574 | D76: 4841 | E76: =D76-C76 -> 267
A77: 92 | B77: =Март!D77 -> 0 | C77: =Апрель!D77 -> 0 | E77: =D77-C77 -> 0
A78: 93 | B78: =Март!D78 -> 0 | C78: =Апрель!D78 -> 0 | E78: =D78-C78 -> 0
A79: 94 | B79: =Март!D79 -> 0 | C79: =Апрель!D79 -> 0 | E79: =D79-C79 -> 0
A80: 95 | B80: =Март!D80 -> 0 | C80: =Апрель!D80 -> 0 | E80: =D80-C80 -> 0
A81: 96 | B81: =Март!D81 -> 0 | C81: =Апрель!D81 -> 0 | E81: =D81-C81 -> 0
A82: 97 | B82: =Март!D82 -> 2.5 | C82: =Апрель!D82 -> 2.5 | D82: 2.5 | E82: =D82-C82 -> 0
A83: 98 | B83: =Март!D83 -> 0 | C83: =Апрель!D83 -> 0 | E83: =D83-C83 -> 0
A84: 99 | B84: =Март!D84 -> 5582 | C84: =Апрель!D84 -> 6160 | D84: 6693 | E84: =D84-C84 -> 533
A85: 100 | B85: =Март!D85 -> 0 | C85: =Апрель!D85 -> 0 | E85: =D85-C85 -> 0
A86: 101.102 | B86: =Март!D86 -> 11261 | C86: =Апрель!D86 -> 11939 | D86: 12074 | E86: =D86-C86 -> 135
A87: 103 | B87: =Март!D87 -> 894 | C87: =Апрель!D87 -> 894 | D87: 900 | E87: =D87-C87 -> 6
A88: 104 | B88: =Март!D88 -> 79 | C88: =Апрель!D88 -> 81 | D88: 93 | E88: =D88-C88 -> 12
A89: 105 | B89: =Март!D89 -> 0 | C89: =Апрель!D89 -> 0 | E89: =D89-C89 -> 0
A90: 106 | B90: =Март!D90 -> 0 | C90: =Апрель!D90 -> 0 | E90: =D90-C90 -> 0
A91: 107.108 | B91: =Март!D91 -> 67 | C91: =Апрель!D91 -> 67 | D91: 67 | E91: =D91-C91 -> 0
A92: 109 | B92: =Март!D92 -> 3764 | C92: =Апрель!D92 -> 4271 | D92: 4806 | E92: =D92-C92 -> 535
A93: 110 | B93: =Март!D93 -> 582 | C93: =Апрель!D93 -> 583 | D93: 622 | E93: =D93-C93 -> 39
A94: 111 | B94: =Март!D94 -> 4275 | C94: =Апрель!D94 -> 4275 | D94: 4281 | E94: =D94-C94 -> 6
A95: 112 | B95: =Март!D95 -> 4703 | C95: =Апрель!D95 -> 4753 | D95: 5115 | E95: =D95-C95 -> 362
A96: 113 | B96: =Март!D96 -> 10362 | C96: =Апрель!D96 -> 10616 | D96: 11121 | E96: =D96-C96 -> 505
A97: 114 | B97: =Март!D97 -> 0 | C97: =Апрель!D97 -> 0 | E97: =D97-C97 -> 0
A98: 115 | B98: =Март!D98 -> 734 | C98: =Апрель!D98 -> 918 | D98: 918 | E98: =D98-C98 -> 0
A99: 116 | B99: =Март!D99 -> 0 | C99: =Апрель!D99 -> 0 | E99: =D99-C99 -> 0
A100: 117 | B100: =Март!D100 -> 90232 | C100: =Апрель!D100 -> 92402 | D100: 93651 | E100: =D100-C100 -> 1249
...

Sheet Июнь
A1: № | B1: апрель | C1: май | D1: июнь | E1: потребл. за мес.
A2: 1 | B2: =Апрель!D2 -> 0 | C2: =Май!D2 -> 0 | E2: =D2-C2 -> 0
A3: 2 | B3: =Апрель!D3 -> 217 | C3: =Май!D3 -> 240 | D3: 245 | E3: =D3-C3 -> 5
A4: 3 | B4: =Апрель!D4 -> 0 | C4: =Май!D4 -> 0 | E4: =D4-C4 -> 0
A5: 4.5 | B5: =Апрель!D5 -> 42181 | C5: =Май!D5 -> 42181 | D5: 42181 | E5: =D5-C5 -> 0
A6: 6 | B6: =Апрель!D6 -> 23602 | C6: =Май!D6 -> 24710 | D6: 25276 | E6: =D6-C6 -> 566
A7: 7.8 | B7: =Апрель!D7 -> 67800 | C7: =Май!D7 -> 69503 | D7: 70349 | E7: =D7-C7 -> 846
A8: 9.1 | B8: =Апрель!D8 -> 12953 | C8: =Май!D8 -> 13482 | D8: 13980 | E8: =D8-C8 -> 498
A9: 11 | B9: =Апрель!D9 -> 0 | C9: =Май!D9 -> 0 | D9: 7 | E9: =D9-C9 -> 7
A10: 12.13 | B10: =Апрель!D10 -> 34324 | C10: =Май!D10 -> 34960 | D10: 35448 | E10: =D10-C10 -> 488
A11: 14.15 | B11: =Апрель!D11 -> 97822 | C11: =Май!D11 -> 98881 | D11: 99462 | E11: =D11-C11 -> 581
A12: 16 | B12: =Апрель!D12 -> 2562 | C12: =Май!D12 -> 2863 | D12: 2917 | E12: =D12-C12 -> 54
A13: 17 | B13: =Апрель!D13 -> 0 | C13: =Май!D13 -> 0 | E13: =D13-C13 -> 0
A14: 18 | B14: =Апрель!D14 -> 0 | C14: =Май!D14 -> 0 | E14: =D14-C14 -> 0
A15: 19 | B15: =Апрель!D15 -> 629 | C15: =Май!D15 -> 629 | D15: 629 | E15: =D15-C15 -> 0
A16: 20 | B16: =Апрель!D16 -> 7189 | C16: =Май!D16 -> 7298 | D16: 7405 | E16: =D16-C16 -> 107
A17: 21.22 | B17: =Апрель!D17 -> 5394 | C17: =Май!D17 -> 6053 | D17: 6593 | E17: =D17-C17 -> 540
A18: 23 | B18: =Апрель!D18 -> 2408 | C18: =Май!D18 -> 2487 | D18: 2561 | E18: =D18-C18 -> 74
A19: 24 | B19: =Апрель!D19 -> 40882 | C19: =Май!D19 -> 41682 | D19: 42105 | E19: =D19-C19 -> 423
A20: 25 | B20: =Апрель!D20 -> 0 | C20: =Май!D20 -> 0 | E20: =D20-C20 -> 0
A21: 26 | B21: =Апрель!D21 -> 772 | C21: =Май!D21 -> 979 | D21: 1144 | E21: =D21-C21 -> 165
A22: 27 | B22: =Апрель!D22 -> 0 | C22: =Май!D22 -> 0 | E22: =D22-C22 -> 0
A23: 28.29 | B23: =Апрель!D23 -> 32231 | C23: =Май!D23 -> 32901 | D23: 33592 | E23: =D23-C23 -> 691
A24: 30 | B24: =Апрель!D24 -> 1654 | C24: =Май!D24 -> 1857 | D24: 1954 | E24: =D24-C24 -> 97
A25: 31 | B25: =Апрель!D25 -> 58 | C25: =Май!D25 -> 62 | D25: 67 | E25: =D25-C25 -> 5
A26: 32 | B26: =Апрель!D26 -> 4440 | C26: =Май!D26 -> 4744 | D26: 4848 | E26: =D26-C26 -> 104
A27: 33 | B27: =Апрель!D27 -> 0 | C27: =Май!D27 -> 0 | E27: =D27-C27 -> 0
A28: 34 | B28: =Апрель!D28 -> 1296 | C28: =Май!D28 -> 1402 | D28: 1490 | E28: =D28-C28 -> 88
A29: 35 | B29: =Апрель!D29 -> 0 | C29: =Май!D29 -> 0 | E29: =D29-C29 -> 0
A30: 36 | B30: =Апрель!D30 -> 2738 | C30: =Май!D30 -> 2982 | D30: 3118 | E30: =D30-C30 -> 136
A31: 37 | B31: =Апрель!D31 -> 12205 | C31: =Май!D31 -> 12315 | D31: 12434 | E31: =D31-C31 -> 119
A32: 38 | B32: =Апрель!D32 -> 313 | C32: =Май!D32 -> 336 | D32: 369 | E32: =D32-C32 -> 33
A33: 39.4 | B33: =Апрель!D33 -> 52794 | C33: =Май!D33 -> 53469 | D33: 53948 | E33: =D33-C33 -> 479
A34: 41-43 | B34: =Апрель!D34 -> 17723 | C34: =Май!D34 -> 18366 | D34: 19066 | E34: =D34-C34 -> 700
A35: 44 | B35: =Апрель!D35 -> 587 | C35: =Май!D35 -> 689 | D35: 723 | E35: =D35-C35 -> 34
A36: 45 | B36: =Апрель!D36 -> 529 | C36: =Май!D36 -> 653 | D36: 872 | E36: =D36-C36 -> 219
A37: 46 | B37: =Апрель!D37 -> 5052 | C37: =Май!D37 -> 5237 | D37: 5306 | E37: =D37-C37 -> 69
A38: 47-49 | B38: =Апрель!D38 -> 28292 | C38: =Май!D38 -> 28653 | D38: 28928 | E38: =D38-C38 -> 275
A39: 50.51 | B39: =Апрель!D39 -> 4089 | C39: =Май!D39 -> 4540 | D39: 4829 | E39: =D39-C39 -> 289
A40: 52 | B40: =Апрель!D40 -> 5649 | C40: =Май!D40 -> 5959 | D40: 6236 | E40: =D40-C40 -> 277
A41: 53-56 | B41: =Апрель!D41 -> 481 | C41: =Май!D41 -> 481 | D41: 268 | E41: =D41-C41 -> -213
A42: 57 | B42: =Апрель!D42 -> 2 | C42: =Май!D42 -> 2 | D42: 2 | E42: =D42-C42 -> 0
A43: 58 | B43: =Апрель!D43 -> 20 | C43: =Май!D43 -> 5 | D43: 5 | E43: =D43-C43 -> 0
A44: 59 | B44: =Апрель!D44 -> 0 | C44: =Май!D44 -> 0 | E44: =D44-C44 -> 0
A45: 60.61 | B45: =Апрель!D45 -> 3842 | C45: =Май!D45 -> 4253 | D45: 4764 | E45: =D45-C45 -> 511
A46: 62 | B46: =Апрель!D46 -> 4374 | C46: =Май!D46 -> 4681 | D46: 5024 | E46: =D46-C46 -> 343
A47: 63 | B47: =Апрель!D47 -> 0 | C47: =Май!D47 -> 0 | E47: =D47-C47 -> 0
A48: 64 | B48: =Апрель!D48 -> 0 | C48: =Май!D48 -> 0 | E48: =D48-C48 -> 0
A49: 65 | B49: =Апрель!D49 -> 0 | C49: =Май!D49 -> 0 | E49: =D49-C49 -> 0
A50: 66 | B50: =Апрель!D50 -> 3818 | C50: =Май!D50 -> 4550 | D50: 4872 | E50: =D50-C50 -> 322
A51: 67 | B51: =Апрель!D51 -> 610 | C51: =Май!D51 -> 1234 | D51: 1377 | E51: =D51-C51 -> 143
A52: 68 | B52: =Апрель!D52 -> 6685 | C52: =Май!D52 -> 7030 | D52: 7355 | E52: =D52-C52 -> 325
A53: 69 | B53: =Апрель!D53 -> 2741 | C53: =Май!D53 -> 2748 | D53: 2907 | E53: =D53-C53 -> 159
A54: Сторож | B54: =Апрель!D54 -> 63300 | C54: =Май!D54 -> 63570 | D54: 63650 | E54: =D54-C54 -> 80
A55: Скваж | B55: =Апрель!D55 -> 79 | C55: =Май!D55 -> 79 | D55: 79 | E55: =D55-C55 -> 0
A56: 70 | B56: =Апрель!D56 -> 11159 | C56: =Май!D56 -> 11571 | D56: 11886 | E56: =D56-C56 -> 315
A57: 71 | B57: =Апрель!D57 -> 223 | C57: =Май!D57 -> 257 | D57: 308 | E57: =D57-C57 -> 51
A58: 72 | B58: =Апрель!D58 -> 179 | C58: =Май!D58 -> 179 | D58: 181 | E58: =D58-C58 -> 2
A59: 73 | B59: =Апрель!D59 -> 3013 | C59: =Май!D59 -> 3279 | D59: 3794 | E59: =D59-C59 -> 515
A60: 74 | B60: =Апрель!D60 -> 0 | C60: =Май!D60 -> 0 | E60: =D60-C60 -> 0
A61: 75 | B61: =Апрель!D61 -> 0 | C61: =Май!D61 -> 0 | E61: =D61-C61 -> 0
A62: 76 | B62: =Апрель!D62 -> 1023 | C62: =Май!D62 -> 1049 | D62: 1112 | E62: =D62-C62 -> 63
A63: 77 | B63: =Апрель!D63 -> 33112 | C63: =Май!D63 -> 33917 | D63: 34513 | E63: =D63-C63 -> 596
A64: 78 | B64: =Апрель!D64 -> 30365 | C64: =Май!D64 -> 31563 | D64: 32269 | E64: =D64-C64 -> 706
A65: 79 | B65: =Апрель!D65 -> 18708 | C65: =Май!D65 -> 19888 | D65: 20717 | E65: =D65-C65 -> 829
A66: 80 | B66: =Апрель!D66 -> 0 | C66: =Май!D66 -> 0 | E66: =D66-C66 -> 0
A67: 81 | B67: =Апрель!D67 -> 22260 | C67: =Май!D67 -> 22500 | D67: 22815 | E67: =D67-C67 -> 315
A68: 82 | B68: =Апрель!D68 -> 1844 | C68: =Май!D68 -> 2068 | D68: 2280 | E68: =D68-C68 -> 212
A69: 83 | B69: =Апрель!D69 -> 0 | C69: =Май!D69 -> 0 | E69: =D69-C69 -> 0
A70: 84 | B70: =Апрель!D70 -> 0 | C70: =Май!D70 -> 0 | E70: =D70-C70 -> 0
A71: 85 | B71: =Апрель!D71 -> 0 | C71: =Май!D71 -> 0 | E71: =D71-C71 -> 0
A72: 86 | B72: =Апрель!D72 -> 2358 | C72: =Май!D72 -> 2821 | D72: 2879 | E72: =D72-C72 -> 58
A73: 87 | B73: =Апрель!D73 -> 8952 | C73: =Май!D73 -> 9141 | D73: 9330 | E73: =D73-C73 -> 189
A74: 88.89 | B74: =Апрель!D74 -> 4299 | C74: =Май!D74 -> 4397 | D74: 4828 | E74: =D74-C74 -> 431
A75: 90 | B75: =Апрель!D75 -> 7479 | C75: =Май!D75 -> 8153 | D75: 8615 | E75: =D75-C75 -> 462
A76: 91 | B76: =Апрель!D76 -> 4574 | C76: =Май!D76 -> 4841 | D76: 5098 | E76: =D76-C76 -> 257
A77: 92 | B77: =Апрель!D77 -> 0 | C77: =Май!D77 -> 0 | E77: =D77-C77 -> 0
A78: 93 | B78: =Апрель!D78 -> 0 | C78: =Май!D78 -> 0 | E78: =D78-C78 -> 0
A79: 94 | B79: =Апрель!D79 -> 0 | C79: =Май!D79 -> 0 | E79: =D79-C79 -> 0
A80: 95 | B80: =Апрель!D80 -> 0 | C80: =Май!D80 -> 0 | E80: =D80-C80 -> 0
A81: 96 | B81: =Апрель!D81 -> 0 | C81: =Май!D81 -> 0 | E81: =D81-C81 -> 0
A82: 97 | B82: =Апрель!D82 -> 2.5 | C82: =Май!D82 -> 2.5 | D82: 2.5 | E82: =D82-C82 -> 0
A83: 98 | B83: =Апрель!D83 -> 0 | C83: =Май!D83 -> 0 | E83: =D83-C83 -> 0
A84: 99 | B84: =Апрель!D84 -> 6160 | C84: =Май!D84 -> 6693 | D84: 7097 | E84: =D84-C84 -> 404
A85: 100 | B85: =Апрель!D85 -> 0 | C85: =Май!D85 -> 0 | E85: =D85-C85 -> 0
A86: 101.102 | B86: =Апрель!D86 -> 11939 | C86: =Май!D86 -> 12074 | D86: 12395 | E86: =D86-C86 -> 321
A87: 103 | B87: =Апрель!D87 -> 894 | C87: =Май!D87 -> 900 | D87: 906 | E87: =D87-C87 -> 6
A88: 104 | B88: =Апрель!D88 -> 81 | C88: =Май!D88 -> 93 | D88: 100 | E88: =D88-C88 -> 7
A89: 105 | B89: =Апрель!D89 -> 0 | C89: =Май!D89 -> 0 | E89: =D89-C89 -> 0
A90: 106 | B90: =Апрель!D90 -> 0 | C90: =Май!D90 -> 0 | E90: =D90-C90 -> 0
A91: 107.108 | B91: =Апрель!D91 -> 67 | C91: =Май!D91 -> 67 | D91: 67 | E91: =D91-C91 -> 0
A92: 109 | B92: =Апрель!D92 -> 4271 | C92: =Май!D92 -> 4806 | D92: 5115 | E92: =D92-C92 -> 309
A93: 110 | B93: =Апрель!D93 -> 583 | C93: =Май!D93 -> 622 | D93: 678 | E93: =D93-C93 -> 56
A94: 111 | B94: =Апрель!D94 -> 4275 | C94: =Май!D94 -> 4281 | D94: 4296 | E94: =D94-C94 -> 15
A95: 112 | B95: =Апрель!D95 -> 4753 | C95: =Май!D95 -> 5115 | D95: 5314 | E95: =D95-C95 -> 199
A96: 113 | B96: =Апрель!D96 -> 10616 | C96: =Май!D96 -> 11121 | D96: 11418 | E96: =D96-C96 -> 297
A97: 114 | B97: =Апрель!D97 -> 0 | C97: =Май!D97 -> 0 | E97: =D97-C97 -> 0
A98: 115 | B98: =Апрель!D98 -> 918 | C98: =Май!D98 -> 918 | D98: 953 | E98: =D98-C98 -> 35
A99: 116 | B99: =Апрель!D99 -> 0 | C99: =Май!D99 -> 0 | E99: =D99-C99 -> 0
A100: 117 | B100: =Апрель!D100 -> 92402 | C100: =Май!D100 -> 93651 | D100: 94263 | E100: =D100-C100 -> 612
...

Sheet Июль
A1: № | B1: май | C1: июнь | D1: июль | E1: потребл. за мес.
A2: 1 | B2: =Май!D2 -> 0 | C2: =Июнь!D2 -> 0 | E2: =D2-C2 -> 0
A3: 2 | B3: =Май!D3 -> 240 | C3: =Июнь!D3 -> 245 | D3: 245 | E3: =D3-C3 -> 0
A4: 3 | B4: =Май!D4 -> 0 | C4: =Июнь!D4 -> 0 | E4: =D4-C4 -> 0
A5: 4.5 | B5: =Май!D5 -> 42181 | C5: =Июнь!D5 -> 42181 | D5: 42181 | E5: =D5-C5 -> 0
A6: 6 | B6: =Май!D6 -> 24710 | C6: =Июнь!D6 -> 25276 | D6: 25750 | E6: =D6-C6 -> 474
A7: 7.8 | B7: =Май!D7 -> 69503 | C7: =Июнь!D7 -> 70349 | D7: 70778 | E7: =D7-C7 -> 429
A8: 9.1 | B8: =Май!D8 -> 13482 | C8: =Июнь!D8 -> 13980 | D8: 14545 | E8: =D8-C8 -> 565 | H8: 839
A9: 11 | B9: =Май!D9 -> 0 | C9: =Июнь!D9 -> 7 | D9: 270 | E9: =D9-C9 -> 263
A10: 12.13 | B10: =Май!D10 -> 34960 | C10: =Июнь!D10 -> 35448 | D10: 35869 | E10: =D10-C10 -> 421
A11: 14.15 | B11: =Май!D11 -> 98881 | C11: =Июнь!D11 -> 99462 | D11: 99741 | E11: =D11-C11 -> 279
A12: 16 | B12: =Май!D12 -> 2863 | C12: =Июнь!D12 -> 2917 | D12: 3020 | E12: =D12-C12 -> 103
A13: 17 | B13: =Май!D13 -> 0 | C13: =Июнь!D13 -> 0 | E13: =D13-C13 -> 0
A14: 18 | B14: =Май!D14 -> 0 | C14: =Июнь!D14 -> 0 | E14: =D14-C14 -> 0
A15: 19 | B15: =Май!D15 -> 629 | C15: =Июнь!D15 -> 629 | D15: 629 | E15: =D15-C15 -> 0
A16: 20 | B16: =Май!D16 -> 7298 | C16: =Июнь!D16 -> 7405 | D16: 7421 | E16: =D16-C16 -> 16
A17: 21.22 | B17: =Май!D17 -> 6053 | C17: =Июнь!D17 -> 6593 | D17: 7000 | E17: =D17-C17 -> 407
A18: 23 | B18: =Май!D18 -> 2487 | C18: =Июнь!D18 -> 2561 | D18: 2669 | E18: =D18-C18 -> 108
A19: 24 | B19: =Май!D19 -> 41682 | C19: =Июнь!D19 -> 42105 | D19: 42373 | E19: =D19-C19 -> 268
A20: 25 | B20: =Май!D20 -> 0 | C20: =Июнь!D20 -> 0 | E20: =D20-C20 -> 0
A21: 26 | B21: =Май!D21 -> 979 | C21: =Июнь!D21 -> 1144 | D21: 1338 | E21: =D21-C21 -> 194
A22: 27 | B22: =Май!D22 -> 0 | C22: =Июнь!D22 -> 0 | E22: =D22-C22 -> 0
A23: 28.29 | B23: =Май!D23 -> 32901 | C23: =Июнь!D23 -> 33592 | D23: 34014 | E23: =D23-C23 -> 422
A24: 30 | B24: =Май!D24 -> 1857 | C24: =Июнь!D24 -> 1954 | D24: 2064 | E24: =D24-C24 -> 110
A25: 31 | B25: =Май!D25 -> 62 | C25: =Июнь!D25 -> 67 | D25: 74 | E25: =D25-C25 -> 7
A26: 32 | B26: =Май!D26 -> 4744 | C26: =Июнь!D26 -> 4848 | D26: 4873 | E26: =D26-C26 -> 25
A27: 33 | B27: =Май!D27 -> 0 | C27: =Июнь!D27 -> 0 | E27: =D27-C27 -> 0
A28: 34 | B28: =Май!D28 -> 1402 | C28: =Июнь!D28 -> 1490 | D28: 1614 | E28: =D28-C28 -> 124
A29: 35 | B29: =Май!D29 -> 0 | C29: =Июнь!D29 -> 0 | E29: =D29-C29 -> 0
A30: 36 | B30: =Май!D30 -> 2982 | C30: =Июнь!D30 -> 3118 | D30: 3217 | E30: =D30-C30 -> 99
A31: 37 | B31: =Май!D31 -> 12315 | C31: =Июнь!D31 -> 12434 | D31: 12639 | E31: =D31-C31 -> 205
A32: 38 | B32: =Май!D32 -> 336 | C32: =Июнь!D32 -> 369 | D32: 408 | E32: =D32-C32 -> 39
A33: 39.4 | B33: =Май!D33 -> 53469 | C33: =Июнь!D33 -> 53948 | D33: 54118 | E33: =D33-C33 -> 170
A34: 41-43 | B34: =Май!D34 -> 18366 | C34: =Июнь!D34 -> 19066 | D34: 19538 | E34: =D34-C34 -> 472
A35: 44 | B35: =Май!D35 -> 689 | C35: =Июнь!D35 -> 723 | D35: 780 | E35: =D35-C35 -> 57
A36: 45 | B36: =Май!D36 -> 653 | C36: =Июнь!D36 -> 872 | D36: 1136 | E36: =D36-C36 -> 264
A37: 46 | B37: =Май!D37 -> 5237 | C37: =Июнь!D37 -> 5306 | D37: 5386 | E37: =D37-C37 -> 80
A38: 47-49 | B38: =Май!D38 -> 28653 | C38: =Июнь!D38 -> 28928 | D38: 29233 | E38: =D38-C38 -> 305
A39: 50.51 | B39: =Май!D39 -> 4540 | C39: =Июнь!D39 -> 4829 | D39: 4968 | E39: =D39-C39 -> 139
A40: 52 | B40: =Май!D40 -> 5959 | C40: =Июнь!D40 -> 6236 | D40: 6520 | E40: =D40-C40 -> 284
A41: 53-56 | B41: =Май!D41 -> 481 | C41: =Июнь!D41 -> 268 | D41: 512 | E41: =D41-C41 -> 244
A42: 57 | B42: =Май!D42 -> 2 | C42: =Июнь!D42 -> 2 | D42: 2 | E42: =D42-C42 -> 0
A43: 58 | B43: =Май!D43 -> 5 | C43: =Июнь!D43 -> 5 | D43: 5 | E43: =D43-C43 -> 0
A44: 59 | B44: =Май!D44 -> 0 | C44: =Июнь!D44 -> 0 | E44: =D44-C44 -> 0
A45: 60.61 | B45: =Май!D45 -> 4253 | C45: =Июнь!D45 -> 4764 | D45: 5120 | E45: =D45-C45 -> 356
A46: 62 | B46: =Май!D46 -> 4681 | C46: =Июнь!D46 -> 5024 | D46: 5447 | E46: =D46-C46 -> 423
A47: 63 | B47: =Май!D47 -> 0 | C47: =Июнь!D47 -> 0 | E47: =D47-C47 -> 0
A48: 64 | B48: =Май!D48 -> 0 | C48: =Июнь!D48 -> 0 | E48: =D48-C48 -> 0
A49: 65 | B49: =Май!D49 -> 0 | C49: =Июнь!D49 -> 0 | E49: =D49-C49 -> 0
A50: 66 | B50: =Май!D50 -> 4550 | C50: =Июнь!D50 -> 4872 | D50: 5025 | E50: =D50-C50 -> 153
A51: 67 | B51: =Май!D51 -> 1234 | C51: =Июнь!D51 -> 1377 | D51: 1390 | E51: =D51-C51 -> 13
A52: 68 | B52: =Май!D52 -> 7030 | C52: =Июнь!D52 -> 7355 | D52: 7716 | E52: =D52-C52 -> 361
A53: 69 | B53: =Май!D53 -> 2748 | C53: =Июнь!D53 -> 2907 | D53: 3071 | E53: =D53-C53 -> 164
A54: Сторож | B54: =Май!D54 -> 63570 | C54: =Июнь!D54 -> 63650 | D54: 63700 | E54: =D54-C54 -> 50
A55: Скваж | B55: =Май!D55 -> 79 | C55: =Июнь!D55 -> 79 | D55: 79 | E55: =D55-C55 -> 0
A56: 70 | B56: =Май!D56 -> 11571 | C56: =Июнь!D56 -> 11886 | D56: 12158 | E56: =D56-C56 -> 272
A57: 71 | B57: =Май!D57 -> 257 | C57: =Июнь!D57 -> 308 | D57: 371 | E57: =D57-C57 -> 63
A58: 72 | B58: =Май!D58 -> 179 | C58: =Июнь!D58 -> 181 | D58: 187 | E58: =D58-C58 -> 6
A59: 73 | B59: =Май!D59 -> 3279 | C59: =Июнь!D59 -> 3794 | D59: 4231 | E59: =D59-C59 -> 437
A60: 74 | B60: =Май!D60 -> 0 | C60: =Июнь!D60 -> 0 | E60: =D60-C60 -> 0
A61: 75 | B61: =Май!D61 -> 0 | C61: =Июнь!D61 -> 0 | E61: =D61-C61 -> 0
A62: 76 | B62: =Май!D62 -> 1049 | C62: =Июнь!D62 -> 1112 | D62: 1237 | E62: =D62-C62 -> 125
A63: 77 | B63: =Май!D63 -> 33917 | C63: =Июнь!D63 -> 34513 | D63: 35088 | E63: =D63-C63 -> 575
A64: 78 | B64: =Май!D64 -> 31563 | C64: =Июнь!D64 -> 32269 | D64: 32761 | E64: =D64-C64 -> 492
A65: 79 | B65: =Май!D65 -> 19888 | C65: =Июнь!D65 -> 20717 | D65: 21613 | E65: =D65-C65 -> 896
A66: 80 | B66: =Май!D66 -> 0 | C66: =Июнь!D66 -> 0 | E66: =D66-C66 -> 0
A67: 81 | B67: =Май!D67 -> 22500 | C67: =Июнь!D67 -> 22815 | D67: 22985 | E67: =D67-C67 -> 170
A68: 82 | B68: =Май!D68 -> 2068 | C68: =Июнь!D68 -> 2280 | D68: 2474 | E68: =D68-C68 -> 194
A69: 83 | B69: =Май!D69 -> 0 | C69: =Июнь!D69 -> 0 | E69: =D69-C69 -> 0
A70: 84 | B70: =Май!D70 -> 0 | C70: =Июнь!D70 -> 0 | E70: =D70-C70 -> 0
A71: 85 | B71: =Май!D71 -> 0 | C71: =Июнь!D71 -> 0 | E71: =D71-C71 -> 0
A72: 86 | B72: =Май!D72 -> 2821 | C72: =Июнь!D72 -> 2879 | D72: 2985 | E72: =D72-C72 -> 106
A73: 87 | B73: =Май!D73 -> 9141 | C73: =Июнь!D73 -> 9330 | D73: 9403 | E73: =D73-C73 -> 73
A74: 88.89 | B74: =Май!D74 -> 4397 | C74: =Июнь!D74 -> 4828 | D74: 5398 | E74: =D74-C74 -> 570
A75: 90 | B75: =Май!D75 -> 8153 | C75: =Июнь!D75 -> 8615 | D75: 9001 | E75: =D75-C75 -> 386
A76: 91 | B76: =Май!D76 -> 4841 | C76: =Июнь!D76 -> 5098 | D76: 5320 | E76: =D76-C76 -> 222
A77: 92 | B77: =Май!D77 -> 0 | C77: =Июнь!D77 -> 0 | E77: =D77-C77 -> 0
A78: 93 | B78: =Май!D78 -> 0 | C78: =Июнь!D78 -> 0 | E78: =D78-C78 -> 0
A79: 94 | B79: =Май!D79 -> 0 | C79: =Июнь!D79 -> 0 | E79: =D79-C79 -> 0
A80: 95 | B80: =Май!D80 -> 0 | C80: =Июнь!D80 -> 0 | E80: =D80-C80 -> 0
A81: 96 | B81: =Май!D81 -> 0 | C81: =Июнь!D81 -> 0 | E81: =D81-C81 -> 0
A82: 97 | B82: =Май!D82 -> 2.5 | C82: =Июнь!D82 -> 2.5 | D82: 2.5 | E82: =D82-C82 -> 0
A83: 98 | B83: =Май!D83 -> 0 | C83: =Июнь!D83 -> 0 | E83: =D83-C83 -> 0
A84: 99 | B84: =Май!D84 -> 6693 | C84: =Июнь!D84 -> 7097 | D84: 7393 | E84: =D84-C84 -> 296
A85: 100 | B85: =Май!D85 -> 0 | C85: =Июнь!D85 -> 0 | E85: =D85-C85 -> 0
A86: 101.102 | B86: =Май!D86 -> 12074 | C86: =Июнь!D86 -> 12395 | D86: 12622 | E86: =D86-C86 -> 227
A87: 103 | B87: =Май!D87 -> 900 | C87: =Июнь!D87 -> 906 | D87: 1007 | E87: =D87-C87 -> 101
A88: 104 | B88: =Май!D88 -> 93 | C88: =Июнь!D88 -> 100 | D88: 102 | E88: =D88-C88 -> 2
A89: 105 | B89: =Май!D89 -> 0 | C89: =Июнь!D89 -> 0 | E89: =D89-C89 -> 0
A90: 106 | B90: =Май!D90 -> 0 | C90: =Июнь!D90 -> 0 | E90: =D90-C90 -> 0
A91: 107.108 | B91: =Май!D91 -> 67 | C91: =Июнь!D91 -> 67 | D91: 67 | E91: =D91-C91 -> 0
A92: 109 | B92: =Май!D92 -> 4806 | C92: =Июнь!D92 -> 5115 | D92: 5590 | E92: =D92-C92 -> 475
A93: 110 | B93: =Май!D93 -> 622 | C93: =Июнь!D93 -> 678 | D93: 720 | E93: =D93-C93 -> 42
A94: 111 | B94: =Май!D94 -> 4281 | C94: =Июнь!D94 -> 4296 | D94: 4423 | E94: =D94-C94 -> 127
A95: 112 | B95: =Май!D95 -> 5115 | C95: =Июнь!D95 -> 5314 | D95: 5698 | E95: =D95-C95 -> 384
A96: 113 | B96: =Май!D96 -> 11121 | C96: =Июнь!D96 -> 11418 | D96: 11668 | E96: =D96-C96 -> 250
A97: 114 | B97: =Май!D97 -> 0 | C97: =Июнь!D97 -> 0 | E97: =D97-C97 -> 0
A98: 115 | B98: =Май!D98 -> 918 | C98: =Июнь!D98 -> 953 | D98: 998 | E98: =D98-C98 -> 45
A99: 116 | B99: =Май!D99 -> 0 | C99: =Июнь!D99 -> 0 | E99: =D99-C99 -> 0
A100: 117 | B100: =Май!D100 -> 93651 | C100: =Июнь!D100 -> 94263 | D100: 94684 | E100: =D100-C100 -> 421
...

Sheet Август
A1: № | B1: Июнь | C1: Июль | D1: Август | E1: потребл. за мес.
A2: 1 | B2: =Июнь!D2 -> 0 | C2: =Июль!D2 -> 0 | E2: =D2-C2 -> 0
A3: 2 | B3: =Июнь!D3 -> 245 | C3: =Июль!D3 -> 245 | D3: 245 | E3: =D3-C3 -> 0
A4: 3 | B4: =Июнь!D4 -> 0 | C4: =Июль!D4 -> 0 | E4: =D4-C4 -> 0
A5: 4.5 | B5: =Июнь!D5 -> 42181 | C5: =Июль!D5 -> 42181 | D5: 42181 | E5: =D5-C5 -> 0
A6: 6 | B6: =Июнь!D6 -> 25276 | C6: =Июль!D6 -> 25750 | D6: 26288 | E6: =D6-C6 -> 538
A7: 7.8 | B7: =Июнь!D7 -> 70349 | C7: =Июль!D7 -> 70778 | D7: 71165 | E7: =D7-C7 -> 387
A8: 9.1 | B8: =Июнь!D8 -> 13980 | C8: =Июль!D8 -> 14545 | D8: 14940 | E8: =D8-C8 -> 395 | H8: 1233
A9: 11 | B9: =Июнь!D9 -> 7 | C9: =Июль!D9 -> 270 | D9: 795 | E9: =D9-C9 -> 525
A10: 12.13 | B10: =Июнь!D10 -> 35448 | C10: =Июль!D10 -> 35869 | D10: 36336 | E10: =D10-C10 -> 467
A11: 14.15 | B11: =Июнь!D11 -> 99462 | C11: =Июль!D11 -> 99741 | D11: 30 | E11: =D11-C11 -> -99711
A12: 16 | B12: =Июнь!D12 -> 2917 | C12: =Июль!D12 -> 3020 | D12: 3093 | E12: =D12-C12 -> 73
A13: 17 | B13: =Июнь!D13 -> 0 | C13: =Июль!D13 -> 0 | E13: =D13-C13 -> 0
A14: 18 | B14: =Июнь!D14 -> 0 | C14: =Июль!D14 -> 0 | E14: =D14-C14 -> 0
A15: 19 | B15: =Июнь!D15 -> 629 | C15: =Июль!D15 -> 629 | D15: 629 | E15: =D15-C15 -> 0
A16: 20 | B16: =Июнь!D16 -> 7405 | C16: =Июль!D16 -> 7421 | D16: 7449 | E16: =D16-C16 -> 28
A17: 21.22 | B17: =Июнь!D17 -> 6593 | C17: =Июль!D17 -> 7000 | D17: 7356 | E17: =D17-C17 -> 356
A18: 23 | B18: =Июнь!D18 -> 2561 | C18: =Июль!D18 -> 2669 | D18: 2803 | E18: =D18-C18 -> 134
A19: 24 | B19: =Июнь!D19 -> 42105 | C19: =Июль!D19 -> 42373 | D19: 42687 | E19: =D19-C19 -> 314
A20: 25 | B20: =Июнь!D20 -> 0 | C20: =Июль!D20 -> 0 | E20: =D20-C20 -> 0
A21: 26 | B21: =Июнь!D21 -> 1144 | C21: =Июль!D21 -> 1338 | D21: 1691 | E21: =D21-C21 -> 353
A22: 27 | B22: =Июнь!D22 -> 0 | C22: =Июль!D22 -> 0 | E22: =D22-C22 -> 0
A23: 28.29 | B23: =Июнь!D23 -> 33592 | C23: =Июль!D23 -> 34014 | D23: 34636 | E23: =D23-C23 -> 622
A24: 30 | B24: =Июнь!D24 -> 1954 | C24: =Июль!D24 -> 2064 | D24: 2164 | E24: =D24-C24 -> 100
A25: 31 | B25: =Июнь!D25 -> 67 | C25: =Июль!D25 -> 74 | D25: 75 | E25: =D25-C25 -> 1
A26: 32 | B26: =Июнь!D26 -> 4848 | C26: =Июль!D26 -> 4873 | D26: 4912 | E26: =D26-C26 -> 39
A27: 33 | B27: =Июнь!D27 -> 0 | C27: =Июль!D27 -> 0 | E27: =D27-C27 -> 0
A28: 34 | B28: =Июнь!D28 -> 1490 | C28: =Июль!D28 -> 1614 | D28: 1892 | E28: =D28-C28 -> 278
A29: 35 | B29: =Июнь!D29 -> 0 | C29: =Июль!D29 -> 0 | E29: =D29-C29 -> 0
A30: 36 | B30: =Июнь!D30 -> 3118 | C30: =Июль!D30 -> 3217 | D30: 3331 | E30: =D30-C30 -> 114
A31: 37 | B31: =Июнь!D31 -> 12434 | C31: =Июль!D31 -> 12639 | D31: 12748 | E31: =D31-C31 -> 109
A32: 38 | B32: =Июнь!D32 -> 369 | C32: =Июль!D32 -> 408 | D32: 493 | E32: =D32-C32 -> 85
A33: 39.4 | B33: =Июнь!D33 -> 53948 | C33: =Июль!D33 -> 54118 | D33: 54374 | E33: =D33-C33 -> 256
A34: 41-43 | B34: =Июнь!D34 -> 19066 | C34: =Июль!D34 -> 19538 | D34: 19917 | E34: =D34-C34 -> 379
A35: 44 | B35: =Июнь!D35 -> 723 | C35: =Июль!D35 -> 780 | D35: 885 | E35: =D35-C35 -> 105
A36: 45 | B36: =Июнь!D36 -> 872 | C36: =Июль!D36 -> 1136 | D36: 1309 | E36: =D36-C36 -> 173
A37: 46 | B37: =Июнь!D37 -> 5306 | C37: =Июль!D37 -> 5386 | D37: 5482 | E37: =D37-C37 -> 96
A38: 47-49 | B38: =Июнь!D38 -> 28928 | C38: =Июль!D38 -> 29233 | D38: 29674 | E38: =D38-C38 -> 441
A39: 50.51 | B39: =Июнь!D39 -> 4829 | C39: =Июль!D39 -> 4968 | D39: 5150 | E39: =D39-C39 -> 182
A40: 52 | B40: =Июнь!D40 -> 6236 | C40: =Июль!D40 -> 6520 | D40: 6822 | E40: =D40-C40 -> 302
A41: 53-56 | B41: =Июнь!D41 -> 268 | C41: =Июль!D41 -> 512 | D41: 798 | E41: =D41-C41 -> 286
A42: 57 | B42: =Июнь!D42 -> 2 | C42: =Июль!D42 -> 2 | D42: 2 | E42: =D42-C42 -> 0
A43: 58 | B43: =Июнь!D43 -> 5 | C43: =Июль!D43 -> 5 | D43: 6 | E43: =D43-C43 -> 1
A44: 59 | B44: =Июнь!D44 -> 0 | C44: =Июль!D44 -> 0 | E44: =D44-C44 -> 0
A45: 60.61 | B45: =Июнь!D45 -> 4764 | C45: =Июль!D45 -> 5120 | D45: 5545 | E45: =D45-C45 -> 425
A46: 62 | B46: =Июнь!D46 -> 5024 | C46: =Июль!D46 -> 5447 | D46: 5930 | E46: =D46-C46 -> 483
A47: 63 | B47: =Июнь!D47 -> 0 | C47: =Июль!D47 -> 0 | E47: =D47-C47 -> 0
A48: 64 | B48: =Июнь!D48 -> 0 | C48: =Июль!D48 -> 0 | E48: =D48-C48 -> 0
A49: 65 | B49: =Июнь!D49 -> 0 | C49: =Июль!D49 -> 0 | E49: =D49-C49 -> 0
A50: 66 | B50: =Июнь!D50 -> 4872 | C50: =Июль!D50 -> 5025 | D50: 5150 | E50: =D50-C50 -> 125
A51: 67 | B51: =Июнь!D51 -> 1377 | C51: =Июль!D51 -> 1390 | D51: 1392 | E51: =D51-C51 -> 2
A52: 68 | B52: =Июнь!D52 -> 7355 | C52: =Июль!D52 -> 7716 | D52: 7958 | E52: =D52-C52 -> 242
A53: 69 | B53: =Июнь!D53 -> 2907 | C53: =Июль!D53 -> 3071 | D53: 3143 | E53: =D53-C53 -> 72
A54: Сторож | B54: =Июнь!D54 -> 63650 | C54: =Июль!D54 -> 63700 | D54: 63750 | E54: =D54-C54 -> 50
A55: Скваж | B55: =Июнь!D55 -> 79 | C55: =Июль!D55 -> 79 | D55: 79 | E55: =D55-C55 -> 0
A56: 70 | B56: =Июнь!D56 -> 11886 | C56: =Июль!D56 -> 12158 | D56: 12397 | E56: =D56-C56 -> 239
A57: 71 | B57: =Июнь!D57 -> 308 | C57: =Июль!D57 -> 371 | D57: 403 | E57: =D57-C57 -> 32
A58: 72 | B58: =Июнь!D58 -> 181 | C58: =Июль!D58 -> 187 | D58: 215 | E58: =D58-C58 -> 28
A59: 73 | B59: =Июнь!D59 -> 3794 | C59: =Июль!D59 -> 4231 | D59: 4508 | E59: =D59-C59 -> 277
A60: 74 | B60: =Июнь!D60 -> 0 | C60: =Июль!D60 -> 0 | E60: =D60-C60 -> 0
A61: 75 | B61: =Июнь!D61 -> 0 | C61: =Июль!D61 -> 0 | E61: =D61-C61 -> 0
A62: 76 | B62: =Июнь!D62 -> 1112 | C62: =Июль!D62 -> 1237 | D62: 1261 | E62: =D62-C62 -> 24
A63: 77 | B63: =Июнь!D63 -> 34513 | C63: =Июль!D63 -> 35088 | D63: 35755 | E63: =D63-C63 -> 667
A64: 78 | B64: =Июнь!D64 -> 32269 | C64: =Июль!D64 -> 32761 | D64: 33293 | E64: =D64-C64 -> 532
A65: 79 | B65: =Июнь!D65 -> 20717 | C65: =Июль!D65 -> 21613 | D65: 22533 | E65: =D65-C65 -> 920
A66: 80 | B66: =Июнь!D66 -> 0 | C66: =Июль!D66 -> 0 | E66: =D66-C66 -> 0
A67: 81 | B67: =Июнь!D67 -> 22815 | C67: =Июль!D67 -> 22985 | D67: 23180 | E67: =D67-C67 -> 195
A68: 82 | B68: =Июнь!D68 -> 2280 | C68: =Июль!D68 -> 2474 | D68: 2703 | E68: =D68-C68 -> 229
A69: 83 | B69: =Июнь!D69 -> 0 | C69: =Июль!D69 -> 0 | E69: =D69-C69 -> 0
A70: 84 | B70: =Июнь!D70 -> 0 | C70: =Июль!D70 -> 0 | E70: =D70-C70 -> 0
A71: 85 | B71: =Июнь!D71 -> 0 | C71: =Июль!D71 -> 0 | E71: =D71-C71 -> 0
A72: 86 | B72: =Июнь!D72 -> 2879 | C72: =Июль!D72 -> 2985 | D72: 3146 | E72: =D72-C72 -> 161
A73: 87 | B73: =Июнь!D73 -> 9330 | C73: =Июль!D73 -> 9403 | D73: 9620 | E73: =D73-C73 -> 217
A74: 88.89 | B74: =Июнь!D74 -> 4828 | C74: =Июль!D74 -> 5398 | D74: 6028 | E74: =D74-C74 -> 630
A75: 90 | B75: =Июнь!D75 -> 8615 | C75: =Июль!D75 -> 9001 | D75: 9420 | E75: =D75-C75 -> 419
A76: 91 | B76: =Июнь!D76 -> 5098 | C76: =Июль!D76 -> 5320 | D76: 5627 | E76: =D76-C76 -> 307
A77: 92 | B77: =Июнь!D77 -> 0 | C77: =Июль!D77 -> 0 | E77: =D77-C77 -> 0
A78: 93 | B78: =Июнь!D78 -> 0 | C78: =Июль!D78 -> 0 | E78: =D78-C78 -> 0
A79: 94 | B79: =Июнь!D79 -> 0 | C79: =Июль!D79 -> 0 | E79: =D79-C79 -> 0
A80: 95 | B80: =Июнь!D80 -> 0 | C80: =Июль!D80 -> 0 | E80: =D80-C80 -> 0
A81: 96 | B81: =Июнь!D81 -> 0 | C81: =Июль!D81 -> 0 | E81: =D81-C81 -> 0
A82: 97 | B82: =Июнь!D82 -> 2.5 | C82: =Июль!D82 -> 2.5 | D82: 2.5 | E82: =D82-C82 -> 0
A83: 98 | B83: =Июнь!D83 -> 0 | C83: =Июль!D83 -> 0 | E83: =D83-C83 -> 0
A84: 99 | B84: =Июнь!D84 -> 7097 | C84: =Июль!D84 -> 7393 | D84: 7793 | E84: =D84-C84 -> 400
A85: 100 | B85: =Июнь!D85 -> 0 | C85: =Июль!D85 -> 0 | E85: =D85-C85 -> 0
A86: 101.102 | B86: =Июнь!D86 -> 12395 | C86: =Июль!D86 -> 12622 | D86: 12939 | E86: =D86-C86 -> 317
A87: 103 | B87: =Июнь!D87 -> 906 | C87: =Июль!D87 -> 1007 | D87: 1202 | E87: =D87-C87 -> 195
A88: 104 | B88: =Июнь!D88 -> 100 | C88: =Июль!D88 -> 102 | D88: 105 | E88: =D88-C88 -> 3
A89: 105 | B89: =Июнь!D89 -> 0 | C89: =Июль!D89 -> 0 | E89: =D89-C89 -> 0
A90: 106 | B90: =Июнь!D90 -> 0 | C90: =Июль!D90 -> 0 | E90: =D90-C90 -> 0
A91: 107.108 | B91: =Июнь!D91 -> 67 | C91: =Июль!D91 -> 67 | D91: 67 | E91: =D91-C91 -> 0
A92: 109 | B92: =Июнь!D92 -> 5115 | C92: =Июль!D92 -> 5590 | D92: 5983 | E92: =D92-C92 -> 393
A93: 110 | B93: =Июнь!D93 -> 678 | C93: =Июль!D93 -> 720 | D93: 772 | E93: =D93-C93 -> 52
A94: 111 | B94: =Июнь!D94 -> 4296 | C94: =Июль!D94 -> 4423 | D94: 4546 | E94: =D94-C94 -> 123
A95: 112 | B95: =Июнь!D95 -> 5314 | C95: =Июль!D95 -> 5698 | D95: 5966 | E95: =D95-C95 -> 268
A96: 113 | B96: =Июнь!D96 -> 11418 | C96: =Июль!D96 -> 11668 | D96: 11823 | E96: =D96-C96 -> 155
A97: 114 | B97: =Июнь!D97 -> 0 | C97: =Июль!D97 -> 0 | E97: =D97-C97 -> 0
A98: 115 | B98: =Июнь!D98 -> 953 | C98: =Июль!D98 -> 998 | D98: 1046 | E98: =D98-C98 -> 48
A99: 116 | B99: =Июнь!D99 -> 0 | C99: =Июль!D99 -> 0 | E99: =D99-C99 -> 0
A100: 117 | B100: =Июнь!D100 -> 94263 | C100: =Июль!D100 -> 94684 | D100: 94995 | E100: =D100-C100 -> 311
...

Sheet Сентябрь
A1: № | B1: Июль | C1: Август | D1: Сентябрь | E1: потребл. за мес.
A2: 1 | B2: =Июль!D2 -> 0 | C2: =Август!D2 -> 0 | E2: =D2-C2 -> 0
A3: 2 | B3: =Июль!D3 -> 245 | C3: =Август!D3 -> 245 | D3: 245 | E3: =D3-C3 -> 0
A4: 3 | B4: =Июль!D4 -> 0 | C4: =Август!D4 -> 0 | E4: =D4-C4 -> 0
A5: 4.5 | B5: =Июль!D5 -> 42181 | C5: =Август!D5 -> 42181 | D5: 42181 | E5: =D5-C5 -> 0
A6: 6 | B6: =Июль!D6 -> 25750 | C6: =Август!D6 -> 26288 | D6: 26927 | E6: =D6-C6 -> 639
A7: 7.8 | B7: =Июль!D7 -> 70778 | C7: =Август!D7 -> 71165 | D7: 72036 | E7: =D7-C7 -> 871
A8: 9.1 | B8: =Июль!D8 -> 14545 | C8: =Август!D8 -> 14940 | D8: 15330 | E8: =D8-C8 -> 390 | H8: 1622
A9: 11 | B9: =Июль!D9 -> 270 | C9: =Август!D9 -> 795 | D9: 985 | E9: =D9-C9 -> 190
A10: 12.13 | B10: =Июль!D10 -> 35869 | C10: =Август!D10 -> 36336 | D10: 36796 | E10: =D10-C10 -> 460
A11: 14.15 | B11: =Июль!D11 -> 99741 | C11: =Август!D11 -> 30 | D11: 183 | E11: =D11-C11 -> 153
A12: 16 | B12: =Июль!D12 -> 3020 | C12: =Август!D12 -> 3093 | D12: 3174 | E12: =D12-C12 -> 81
A13: 17 | B13: =Июль!D13 -> 0 | C13: =Август!D13 -> 0 | E13: =D13-C13 -> 0
A14: 18 | B14: =Июль!D14 -> 0 | C14: =Август!D14 -> 0 | E14: =D14-C14 -> 0
A15: 19 | B15: =Июль!D15 -> 629 | C15: =Август!D15 -> 629 | D15: 629 | E15: =D15-C15 -> 0
A16: 20 | B16: =Июль!D16 -> 7421 | C16: =Август!D16 -> 7449 | D16: 7460 | E16: =D16-C16 -> 11
A17: 21.22 | B17: =Июль!D17 -> 7000 | C17: =Август!D17 -> 7356 | D17: 7802 | E17: =D17-C17 -> 446
A18: 23 | B18: =Июль!D18 -> 2669 | C18: =Август!D18 -> 2803 | D18: 2895 | E18: =D18-C18 -> 92
A19: 24 | B19: =Июль!D19 -> 42373 | C19: =Август!D19 -> 42687 | D19: 42903 | E19: =D19-C19 -> 216
A20: 25 | B20: =Июль!D20 -> 0 | C20: =Август!D20 -> 0 | E20: =D20-C20 -> 0
A21: 26 | B21: =Июль!D21 -> 1338 | C21: =Август!D21 -> 1691 | D21: 1763 | E21: =D21-C21 -> 72
A22: 27 | B22: =Июль!D22 -> 0 | C22: =Август!D22 -> 0 | E22: =D22-C22 -> 0
A23: 28.29 | B23: =Июль!D23 -> 34014 | C23: =Август!D23 -> 34636 | D23: 35085 | E23: =D23-C23 -> 449
A24: 30 | B24: =Июль!D24 -> 2064 | C24: =Август!D24 -> 2164 | D24: 2345 | E24: =D24-C24 -> 181
A25: 31 | B25: =Июль!D25 -> 74 | C25: =Август!D25 -> 75 | D25: 77 | E25: =D25-C25 -> 2
A26: 32 | B26: =Июль!D26 -> 4873 | C26: =Август!D26 -> 4912 | D26: 4937 | E26: =D26-C26 -> 25
A27: 33 | B27: =Июль!D27 -> 0 | C27: =Август!D27 -> 0 | E27: =D27-C27 -> 0
A28: 34 | B28: =Июль!D28 -> 1614 | C28: =Август!D28 -> 1892 | D28: 2005 | E28: =D28-C28 -> 113
A29: 35 | B29: =Июль!D29 -> 0 | C29: =Август!D29 -> 0 | E29: =D29-C29 -> 0
A30: 36 | B30: =Июль!D30 -> 3217 | C30: =Август!D30 -> 3331 | D30: 3449 | E30: =D30-C30 -> 118
A31: 37 | B31: =Июль!D31 -> 12639 | C31: =Август!D31 -> 12748 | D31: 12804 | E31: =D31-C31 -> 56
A32: 38 | B32: =Июль!D32 -> 408 | C32: =Август!D32 -> 493 | D32: 549 | E32: =D32-C32 -> 56
A33: 39.4 | B33: =Июль!D33 -> 54118 | C33: =Август!D33 -> 54374 | D33: 54613 | E33: =D33-C33 -> 239
A34: 41-43 | B34: =Июль!D34 -> 19538 | C34: =Август!D34 -> 19917 | D34: 20073 | E34: =D34-C34 -> 156
A35: 44 | B35: =Июль!D35 -> 780 | C35: =Август!D35 -> 885 | D35: 962 | E35: =D35-C35 -> 77
A36: 45 | B36: =Июль!D36 -> 1136 | C36: =Август!D36 -> 1309 | D36: 1344 | E36: =D36-C36 -> 35
A37: 46 | B37: =Июль!D37 -> 5386 | C37: =Август!D37 -> 5482 | D37: 5584 | E37: =D37-C37 -> 102
A38: 47-49 | B38: =Июль!D38 -> 29233 | C38: =Август!D38 -> 29674 | D38: 29857 | E38: =D38-C38 -> 183
A39: 50.51 | B39: =Июль!D39 -> 4968 | C39: =Август!D39 -> 5150 | D39: 5337 | E39: =D39-C39 -> 187
A40: 52 | B40: =Июль!D40 -> 6520 | C40: =Август!D40 -> 6822 | D40: 7121 | E40: =D40-C40 -> 299
A41: 53-56 | B41: =Июль!D41 -> 512 | C41: =Август!D41 -> 798 | D41: 831 | E41: =D41-C41 -> 33
A42: 57 | B42: =Июль!D42 -> 2 | C42: =Август!D42 -> 2 | D42: 2 | E42: =D42-C42 -> 0
A43: 58 | B43: =Июль!D43 -> 5 | C43: =Август!D43 -> 6 | D43: 6 | E43: =D43-C43 -> 0
A44: 59 | B44: =Июль!D44 -> 0 | C44: =Август!D44 -> 0 | E44: =D44-C44 -> 0
A45: 60.61 | B45: =Июль!D45 -> 5120 | C45: =Август!D45 -> 5545 | D45: 5652 | E45: =D45-C45 -> 107
A46: 62 | B46: =Июль!D46 -> 5447 | C46: =Август!D46 -> 5930 | D46: 6175 | E46: =D46-C46 -> 245
A47: 63 | B47: =Июль!D47 -> 0 | C47: =Август!D47 -> 0 | E47: =D47-C47 -> 0
A48: 64 | B48: =Июль!D48 -> 0 | C48: =Август!D48 -> 0 | E48: =D48-C48 -> 0
A49: 65 | B49: =Июль!D49 -> 0 | C49: =Август!D49 -> 0 | E49: =D49-C49 -> 0
A50: 66 | B50: =Июль!D50 -> 5025 | C50: =Август!D50 -> 5150 | D50: 5231 | E50: =D50-C50 -> 81
A51: 67 | B51: =Июль!D51 -> 1390 | C51: =Август!D51 -> 1392 | D51: 1396 | E51: =D51-C51 -> 4
A52: 68 | B52: =Июль!D52 -> 7716 | C52: =Август!D52 -> 7958 | D52: 8042 | E52: =D52-C52 -> 84
A53: 69 | B53: =Июль!D53 -> 3071 | C53: =Август!D53 -> 3143 | D53: 3222 | E53: =D53-C53 -> 79
A54: Сторож | B54: =Июль!D54 -> 63700 | C54: =Август!D54 -> 63750 | D54: 63800 | E54: =D54-C54 -> 50
A55: Скваж | B55: =Июль!D55 -> 79 | C55: =Август!D55 -> 79 | D55: 79 | E55: =D55-C55 -> 0
A56: 70 | B56: =Июль!D56 -> 12158 | C56: =Август!D56 -> 12397 | D56: 12660 | E56: =D56-C56 -> 263
A57: 71 | B57: =Июль!D57 -> 371 | C57: =Август!D57 -> 403 | D57: 459 | E57: =D57-C57 -> 56
A58: 72 | B58: =Июль!D58 -> 187 | C58: =Август!D58 -> 215 | D58: 237 | E58: =D58-C58 -> 22
A59: 73 | B59: =Июль!D59 -> 4231 | C59: =Август!D59 -> 4508 | D59: 4548 | E59: =D59-C59 -> 40
A60: 74 | B60: =Июль!D60 -> 0 | C60: =Август!D60 -> 0 | E60: =D60-C60 -> 0
A61: 75 | B61: =Июль!D61 -> 0 | C61: =Август!D61 -> 0 | E61: =D61-C61 -> 0
A62: 76 | B62: =Июль!D62 -> 1237 | C62: =Август!D62 -> 1261 | D62: 1265 | E62: =D62-C62 -> 4
A63: 77 | B63: =Июль!D63 -> 35088 | C63: =Август!D63 -> 35755 | D63: 36222 | E63: =D63-C63 -> 467
A64: 78 | B64: =Июль!D64 -> 32761 | C64: =Август!D64 -> 33293 | D64: 33598 | E64: =D64-C64 -> 305
A65: 79 | B65: =Июль!D65 -> 21613 | C65: =Август!D65 -> 22533 | D65: 23278 | E65: =D65-C65 -> 745
A66: 80 | B66: =Июль!D66 -> 0 | C66: =Август!D66 -> 0 | E66: =D66-C66 -> 0
A67: 81 | B67: =Июль!D67 -> 22985 | C67: =Август!D67 -> 23180 | D67: 23400 | E67: =D67-C67 -> 220
A68: 82 | B68: =Июль!D68 -> 2474 | C68: =Август!D68 -> 2703 | D68: 2870 | E68: =D68-C68 -> 167
A69: 83 | B69: =Июль!D69 -> 0 | C69: =Август!D69 -> 0 | E69: =D69-C69 -> 0
A70: 84 | B70: =Июль!D70 -> 0 | C70: =Август!D70 -> 0 | E70: =D70-C70 -> 0
A71: 85 | B71: =Июль!D71 -> 0 | C71: =Август!D71 -> 0 | E71: =D71-C71 -> 0
A72: 86 | B72: =Июль!D72 -> 2985 | C72: =Август!D72 -> 3146 | D72: 3271 | E72: =D72-C72 -> 125
A73: 87 | B73: =Июль!D73 -> 9403 | C73: =Август!D73 -> 9620 | D73: 9720 | E73: =D73-C73 -> 100
A74: 88.89 | B74: =Июль!D74 -> 5398 | C74: =Август!D74 -> 6028 | D74: 6105 | E74: =D74-C74 -> 77
A75: 90 | B75: =Июль!D75 -> 9001 | C75: =Август!D75 -> 9420 | D75: 9783 | E75: =D75-C75 -> 363
A76: 91 | B76: =Июль!D76 -> 5320 | C76: =Август!D76 -> 5627 | D76: 5919 | E76: =D76-C76 -> 292
A77: 92 | B77: =Июль!D77 -> 0 | C77: =Август!D77 -> 0 | E77: =D77-C77 -> 0
A78: 93 | B78: =Июль!D78 -> 0 | C78: =Август!D78 -> 0 | E78: =D78-C78 -> 0
A79: 94 | B79: =Июль!D79 -> 0 | C79: =Август!D79 -> 0 | E79: =D79-C79 -> 0
A80: 95 | B80: =Июль!D80 -> 0 | C80: =Август!D80 -> 0 | E80: =D80-C80 -> 0
A81: 96 | B81: =Июль!D81 -> 0 | C81: =Август!D81 -> 0 | E81: =D81-C81 -> 0
A82: 97 | B82: =Июль!D82 -> 2.5 | C82: =Август!D82 -> 2.5 | D82: 2.5 | E82: =D82-C82 -> 0
A83: 98 | B83: =Июль!D83 -> 0 | C83: =Август!D83 -> 0 | E83: =D83-C83 -> 0
A84: 99 | B84: =Июль!D84 -> 7393 | C84: =Август!D84 -> 7793 | D84: 8042 | E84: =D84-C84 -> 249
A85: 100 | B85: =Июль!D85 -> 0 | C85: =Август!D85 -> 0 | E85: =D85-C85 -> 0
A86: 101.102 | B86: =Июль!D86 -> 12622 | C86: =Август!D86 -> 12939 | D86: 13214 | E86: =D86-C86 -> 275
A87: 103 | B87: =Июль!D87 -> 1007 | C87: =Август!D87 -> 1202 | D87: 1264 | E87: =D87-C87 -> 62
A88: 104 | B88: =Июль!D88 -> 102 | C88: =Август!D88 -> 105 | D88: 108 | E88: =D88-C88 -> 3
A89: 105 | B89: =Июль!D89 -> 0 | C89: =Август!D89 -> 0 | E89: =D89-C89 -> 0
A90: 106 | B90: =Июль!D90 -> 0 | C90: =Август!D90 -> 0 | E90: =D90-C90 -> 0
A91: 107.108 | B91: =Июль!D91 -> 67 | C91: =Август!D91 -> 67 | D91: 67 | E91: =D91-C91 -> 0
A92: 109 | B92: =Июль!D92 -> 5590 | C92: =Август!D92 -> 5983 | D92: 6152 | E92: =D92-C92 -> 169
A93: 110 | B93: =Июль!D93 -> 720 | C93: =Август!D93 -> 772 | D93: 787 | E93: =D93-C93 -> 15
A94: 111 | B94: =Июль!D94 -> 4423 | C94: =Август!D94 -> 4546 | D94: 4583 | E94: =D94-C94 -> 37
A95: 112 | B95: =Июль!D95 -> 5698 | C95: =Август!D95 -> 5966 | D95: 6279 | E95: =D95-C95 -> 313
A96: 113 | B96: =Июль!D96 -> 11668 | C96: =Август!D96 -> 11823 | D96: 11925 | E96: =D96-C96 -> 102
A97: 114 | B97: =Июль!D97 -> 0 | C97: =Август!D97 -> 0 | E97: =D97-C97 -> 0
A98: 115 | B98: =Июль!D98 -> 998 | C98: =Август!D98 -> 1046 | D98: 1147 | E98: =D98-C98 -> 101
A99: 116 | B99: =Июль!D99 -> 0 | C99: =Август!D99 -> 0 | E99: =D99-C99 -> 0
A100: 117 | B100: =Июль!D100 -> 94684 | C100: =Август!D100 -> 94995 | D100: 95677 | E100: =D100-C100 -> 682
...

Sheet Октябрь
A1: № | B1: Август | C1: Сентябрь | D1: Октябрь | E1: потребл. за мес.
A2: 1 | B2: =Август!D2 -> 0 | C2: =Сентябрь!D2 -> 0 | E2: =D2-C2 -> 0
A3: 2 | B3: =Август!D3 -> 245 | C3: =Сентябрь!D3 -> 245 | D3: 245 | E3: =D3-C3 -> 0
A4: 3 | B4: =Август!D4 -> 0 | C4: =Сентябрь!D4 -> 0 | E4: =D4-C4 -> 0
A5: 4.5 | B5: =Август!D5 -> 42181 | C5: =Сентябрь!D5 -> 42181 | D5: 42181 | E5: =D5-C5 -> 0
A6: 6 | B6: =Август!D6 -> 26288 | C6: =Сентябрь!D6 -> 26927 | D6: 27597 | E6: =D6-C6 -> 670
A7: 7.8 | B7: =Август!D7 -> 71165 | C7: =Сентябрь!D7 -> 72036 | D7: 72827 | E7: =D7-C7 -> 791
A8: 9.1 | B8: =Август!D8 -> 14940 | C8: =Сентябрь!D8 -> 15330 | D8: 15656 | E8: =D8-C8 -> 326 | H8: 1948
A9: 11 | B9: =Август!D9 -> 795 | C9: =Сентябрь!D9 -> 985 | D9: 1123 | E9: =D9-C9 -> 138
A10: 12.13 | B10: =Август!D10 -> 36336 | C10: =Сентябрь!D10 -> 36796 | D10: 37362 | E10: =D10-C10 -> 566
A11: 14.15 | B11: =Август!D11 -> 30 | C11: =Сентябрь!D11 -> 183 | D11: 1231 | E11: =D11-C11 -> 1048
A12: 16 | B12: =Август!D12 -> 3093 | C12: =Сентябрь!D12 -> 3174 | D12: 3310 | E12: =D12-C12 -> 136
A13: 17 | B13: =Август!D13 -> 0 | C13: =Сентябрь!D13 -> 0 | E13: =D13-C13 -> 0
A14: 18 | B14: =Август!D14 -> 0 | C14: =Сентябрь!D14 -> 0 | E14: =D14-C14 -> 0
A15: 19 | B15: =Август!D15 -> 629 | C15: =Сентябрь!D15 -> 629 | D15: 629 | E15: =D15-C15 -> 0
A16: 20 | B16: =Август!D16 -> 7449 | C16: =Сентябрь!D16 -> 7460 | D16: 7460 | E16: =D16-C16 -> 0
A17: 21.22 | B17: =Август!D17 -> 7356 | C17: =Сентябрь!D17 -> 7802 | D17: 8344 | E17: =D17-C17 -> 542
A18: 23 | B18: =Август!D18 -> 2803 | C18: =Сентябрь!D18 -> 2895 | D18: 3026 | E18: =D18-C18 -> 131
A19: 24 | B19: =Август!D19 -> 42687 | C19: =Сентябрь!D19 -> 42903 | D19: 43597 | E19: =D19-C19 -> 694
A20: 25 | B20: =Август!D20 -> 0 | C20: =Сентябрь!D20 -> 0 | E20: =D20-C20 -> 0
A21: 26 | B21: =Август!D21 -> 1691 | C21: =Сентябрь!D21 -> 1763 | D21: 1763 | E21: =D21-C21 -> 0
A22: 27 | B22: =Август!D22 -> 0 | C22: =Сентябрь!D22 -> 0 | E22: =D22-C22 -> 0
A23: 28.29 | B23: =Август!D23 -> 34636 | C23: =Сентябрь!D23 -> 35085 | D23: 35787 | E23: =D23-C23 -> 702
A24: 30 | B24: =Август!D24 -> 2164 | C24: =Сентябрь!D24 -> 2345 | D24: 2466 | E24: =D24-C24 -> 121
A25: 31 | B25: =Август!D25 -> 75 | C25: =Сентябрь!D25 -> 77 | D25: 78 | E25: =D25-C25 -> 1
A26: 32 | B26: =Август!D26 -> 4912 | C26: =Сентябрь!D26 -> 4937 | D26: 4938 | E26: =D26-C26 -> 1
A27: 33 | B27: =Август!D27 -> 0 | C27: =Сентябрь!D27 -> 0 | E27: =D27-C27 -> 0
A28: 34 | B28: =Август!D28 -> 1892 | C28: =Сентябрь!D28 -> 2005 | D28: 2077 | E28: =D28-C28 -> 72
A29: 35 | B29: =Август!D29 -> 0 | C29: =Сентябрь!D29 -> 0 | E29: =D29-C29 -> 0
A30: 36 | B30: =Август!D30 -> 3331 | C30: =Сентябрь!D30 -> 3449 | D30: 3570 | E30: =D30-C30 -> 121
A31: 37 | B31: =Август!D31 -> 12748 | C31: =Сентябрь!D31 -> 12804 | D31: 12850 | E31: =D31-C31 -> 46
A32: 38 | B32: =Август!D32 -> 493 | C32: =Сентябрь!D32 -> 549 | D32: 578 | E32: =D32-C32 -> 29
A33: 39.4 | B33: =Август!D33 -> 54374 | C33: =Сентябрь!D33 -> 54613 | D33: 54841 | E33: =D33-C33 -> 228
A34: 41-43 | B34: =Август!D34 -> 19917 | C34: =Сентябрь!D34 -> 20073 | D34: 20159 | E34: =D34-C34 -> 86
A35: 44 | B35: =Август!D35 -> 885 | C35: =Сентябрь!D35 -> 962 | D35: 993 | E35: =D35-C35 -> 31
A36: 45 | B36: =Август!D36 -> 1309 | C36: =Сентябрь!D36 -> 1344 | D36: 1355 | E36: =D36-C36 -> 11
A37: 46 | B37: =Август!D37 -> 5482 | C37: =Сентябрь!D37 -> 5584 | D37: 5710 | E37: =D37-C37 -> 126
A38: 47-49 | B38: =Август!D38 -> 29674 | C38: =Сентябрь!D38 -> 29857 | D38: 29951 | E38: =D38-C38 -> 94
A39: 50.51 | B39: =Август!D39 -> 5150 | C39: =Сентябрь!D39 -> 5337 | D39: 5529 | E39: =D39-C39 -> 192
A40: 52 | B40: =Август!D40 -> 6822 | C40: =Сентябрь!D40 -> 7121 | D40: 7388 | E40: =D40-C40 -> 267
A41: 53-56 | B41: =Август!D41 -> 798 | C41: =Сентябрь!D41 -> 831 | D41: 833 | E41: =D41-C41 -> 2
A42: 57 | B42: =Август!D42 -> 2 | C42: =Сентябрь!D42 -> 2 | D42: 2 | E42: =D42-C42 -> 0
A43: 58 | B43: =Август!D43 -> 6 | C43: =Сентябрь!D43 -> 6 | D43: 6 | E43: =D43-C43 -> 0
A44: 59 | B44: =Август!D44 -> 0 | C44: =Сентябрь!D44 -> 0 | E44: =D44-C44 -> 0
A45: 60.61 | B45: =Август!D45 -> 5545 | C45: =Сентябрь!D45 -> 5652 | D45: 5720 | E45: =D45-C45 -> 68
A46: 62 | B46: =Август!D46 -> 5930 | C46: =Сентябрь!D46 -> 6175 | D46: 6346 | E46: =D46-C46 -> 171
A47: 63 | B47: =Август!D47 -> 0 | C47: =Сентябрь!D47 -> 0 | E47: =D47-C47 -> 0
A48: 64 | B48: =Август!D48 -> 0 | C48: =Сентябрь!D48 -> 0 | E48: =D48-C48 -> 0
A49: 65 | B49: =Август!D49 -> 0 | C49: =Сентябрь!D49 -> 0 | E49: =D49-C49 -> 0
A50: 66 | B50: =Август!D50 -> 5150 | C50: =Сентябрь!D50 -> 5231 | D50: 5473 | E50: =D50-C50 -> 242
A51: 67 | B51: =Август!D51 -> 1392 | C51: =Сентябрь!D51 -> 1396 | D51: 1400 | E51: =D51-C51 -> 4
A52: 68 | B52: =Август!D52 -> 7958 | C52: =Сентябрь!D52 -> 8042 | D52: 8051 | E52: =D52-C52 -> 9
A53: 69 | B53: =Август!D53 -> 3143 | C53: =Сентябрь!D53 -> 3222 | D53: 3275 | E53: =D53-C53 -> 53
A54: Сторож | B54: =Август!D54 -> 63750 | C54: =Сентябрь!D54 -> 63800 | D54: 63850 | E54: =D54-C54 -> 50
A55: Скваж | B55: =Август!D55 -> 79 | C55: =Сентябрь!D55 -> 79 | D55: 79 | E55: =D55-C55 -> 0
A56: 70 | B56: =Август!D56 -> 12397 | C56: =Сентябрь!D56 -> 12660 | D56: 12775 | E56: =D56-C56 -> 115
A57: 71 | B57: =Август!D57 -> 403 | C57: =Сентябрь!D57 -> 459 | D57: 460 | E57: =D57-C57 -> 1
A58: 72 | B58: =Август!D58 -> 215 | C58: =Сентябрь!D58 -> 237 | D58: 248 | E58: =D58-C58 -> 11
A59: 73 | B59: =Август!D59 -> 4508 | C59: =Сентябрь!D59 -> 4548 | D59: 4551 | E59: =D59-C59 -> 3
A60: 74 | B60: =Август!D60 -> 0 | C60: =Сентябрь!D60 -> 0 | E60: =D60-C60 -> 0
A61: 75 | B61: =Август!D61 -> 0 | C61: =Сентябрь!D61 -> 0 | E61: =D61-C61 -> 0
A62: 76 | B62: =Август!D62 -> 1261 | C62: =Сентябрь!D62 -> 1265 | D62: 1401 | E62: =D62-C62 -> 136
A63: 77 | B63: =Август!D63 -> 35755 | C63: =Сентябрь!D63 -> 36222 | D63: 36403 | E63: =D63-C63 -> 181
A64: 78 | B64: =Август!D64 -> 33293 | C64: =Сентябрь!D64 -> 33598 | D64: 33755 | E64: =D64-C64 -> 157
A65: 79 | B65: =Август!D65 -> 22533 | C65: =Сентябрь!D65 -> 23278 | D65: 23982 | E65: =D65-C65 -> 704
A66: 80 | B66: =Август!D66 -> 0 | C66: =Сентябрь!D66 -> 0 | E66: =D66-C66 -> 0
A67: 81 | B67: =Август!D67 -> 23180 | C67: =Сентябрь!D67 -> 23400 | D67: 23620 | E67: =D67-C67 -> 220
A68: 82 | B68: =Август!D68 -> 2703 | C68: =Сентябрь!D68 -> 2870 | D68: 3096 | E68: =D68-C68 -> 226
A69: 83 | B69: =Август!D69 -> 0 | C69: =Сентябрь!D69 -> 0 | E69: =D69-C69 -> 0
A70: 84 | B70: =Август!D70 -> 0 | C70: =Сентябрь!D70 -> 0 | E70: =D70-C70 -> 0
A71: 85 | B71: =Август!D71 -> 0 | C71: =Сентябрь!D71 -> 0 | E71: =D71-C71 -> 0
A72: 86 | B72: =Август!D72 -> 3146 | C72: =Сентябрь!D72 -> 3271 | D72: 3353 | E72: =D72-C72 -> 82
A73: 87 | B73: =Август!D73 -> 9620 | C73: =Сентябрь!D73 -> 9720 | D73: 9739 | E73: =D73-C73 -> 19
A74: 88.89 | B74: =Август!D74 -> 6028 | C74: =Сентябрь!D74 -> 6105 | D74: 6248 | E74: =D74-C74 -> 143
A75: 90 | B75: =Август!D75 -> 9420 | C75: =Сентябрь!D75 -> 9783 | D75: 9938 | E75: =D75-C75 -> 155
A76: 91 | B76: =Август!D76 -> 5627 | C76: =Сентябрь!D76 -> 5919 | D76: 6272 | E76: =D76-C76 -> 353
A77: 92 | B77: =Август!D77 -> 0 | C77: =Сентябрь!D77 -> 0 | E77: =D77-C77 -> 0
A78: 93 | B78: =Август!D78 -> 0 | C78: =Сентябрь!D78 -> 0 | E78: =D78-C78 -> 0
A79: 94 | B79: =Август!D79 -> 0 | C79: =Сентябрь!D79 -> 0 | E79: =D79-C79 -> 0
A80: 95 | B80: =Август!D80 -> 0 | C80: =Сентябрь!D80 -> 0 | E80: =D80-C80 -> 0
A81: 96 | B81: =Август!D81 -> 0 | C81: =Сентябрь!D81 -> 0 | E81: =D81-C81 -> 0
A82: 97 | B82: =Август!D82 -> 2.5 | C82: =Сентябрь!D82 -> 2.5 | D82: 2.5 | E82: =D82-C82 -> 0
A83: 98 | B83: =Август!D83 -> 0 | C83: =Сентябрь!D83 -> 0 | E83: =D83-C83 -> 0
A84: 99 | B84: =Август!D84 -> 7793 | C84: =Сентябрь!D84 -> 8042 | D84: 8256 | E84: =D84-C84 -> 214
A85: 100 | B85: =Август!D85 -> 0 | C85: =Сентябрь!D85 -> 0 | E85: =D85-C85 -> 0
A86: 101.102 | B86: =Август!D86 -> 12939 | C86: =Сентябрь!D86 -> 13214 | D86: 14002 | E86: =D86-C86 -> 788
A87: 103 | B87: =Август!D87 -> 1202 | C87: =Сентябрь!D87 -> 1264 | D87: 1264 | E87: =D87-C87 -> 0
A88: 104 | B88: =Август!D88 -> 105 | C88: =Сентябрь!D88 -> 108 | D88: 109 | E88: =D88-C88 -> 1
A89: 105 | B89: =Август!D89 -> 0 | C89: =Сентябрь!D89 -> 0 | E89: =D89-C89 -> 0
A90: 106 | B90: =Август!D90 -> 0 | C90: =Сентябрь!D90 -> 0 | E90: =D90-C90 -> 0
A91: 107.108 | B91: =Август!D91 -> 67 | C91: =Сентябрь!D91 -> 67 | D91: 67 | E91: =D91-C91 -> 0
A92: 109 | B92: =Август!D92 -> 5983 | C92: =Сентябрь!D92 -> 6152 | D92: 6286 | E92: =D92-C92 -> 134
A93: 110 | B93: =Август!D93 -> 772 | C93: =Сентябрь!D93 -> 787 | D93: 788 | E93: =D93-C93 -> 1
A94: 111 | B94: =Август!D94 -> 4546 | C94: =Сентябрь!D94 -> 4583 | D94: 4599 | E94: =D94-C94 -> 16
A95: 112 | B95: =Август!D95 -> 5966 | C95: =Сентябрь!D95 -> 6279 | D95: 6520 | E95: =D95-C95 -> 241
A96: 113 | B96: =Август!D96 -> 11823 | C96: =Сентябрь!D96 -> 11925 | D96: 11987 | E96: =D96-C96 -> 62
A97: 114 | B97: =Август!D97 -> 0 | C97: =Сентябрь!D97 -> 0 | E97: =D97-C97 -> 0
A98: 115 | B98: =Август!D98 -> 1046 | C98: =Сентябрь!D98 -> 1147 | D98: 1243 | E98: =D98-C98 -> 96
A99: 116 | B99: =Август!D99 -> 0 | C99: =Сентябрь!D99 -> 0 | E99: =D99-C99 -> 0
A100: 117 | B100: =Август!D100 -> 94995 | C100: =Сентябрь!D100 -> 95677 | D100: 96633 | E100: =D100-C100 -> 956
...

Sheet Ноябрь
A1: № | B1: Сентябрь | C1: Октябрь | D1: Ноябрь | E1: потребл. за мес.
A2: 1 | B2: =Сентябрь!D2 -> 0 | C2: =Октябрь!D2 -> 0 | E2: =D2-C2 -> 0
A3: 2 | B3: =Сентябрь!D3 -> 245 | C3: =Октябрь!D3 -> 245 | D3: 245 | E3: =D3-C3 -> 0
A4: 3 | B4: =Сентябрь!D4 -> 0 | C4: =Октябрь!D4 -> 0 | E4: =D4-C4 -> 0
A5: 4.5 | B5: =Сентябрь!D5 -> 42181 | C5: =Октябрь!D5 -> 42181 | D5: 42181 | E5: =D5-C5 -> 0
A6: 6 | B6: =Сентябрь!D6 -> 26927 | C6: =Октябрь!D6 -> 27597 | D6: 28247 | E6: =D6-C6 -> 650
A7: 7.8 | B7: =Сентябрь!D7 -> 72036 | C7: =Октябрь!D7 -> 72827 | D7: 74521 | E7: =D7-C7 -> 1694
A8: 9.1 | B8: =Сентябрь!D8 -> 15330 | C8: =Октябрь!D8 -> 15656 | D8: 16575 | E8: =D8-C8 -> 919 | H8: 2866
A9: 11 | B9: =Сентябрь!D9 -> 985 | C9: =Октябрь!D9 -> 1123 | D9: 1135 | E9: =D9-C9 -> 12
A10: 12.13 | B10: =Сентябрь!D10 -> 36796 | C10: =Октябрь!D10 -> 37362 | D10: 38457 | E10: =D10-C10 -> 1095
A11: 14.15 | B11: =Сентябрь!D11 -> 183 | C11: =Октябрь!D11 -> 1231 | D11: 2124 | E11: =D11-C11 -> 893
A12: 16 | B12: =Сентябрь!D12 -> 3174 | C12: =Октябрь!D12 -> 3310 | D12: 3311 | E12: =D12-C12 -> 1
A13: 17 | B13: =Сентябрь!D13 -> 0 | C13: =Октябрь!D13 -> 0 | E13: =D13-C13 -> 0
A14: 18 | B14: =Сентябрь!D14 -> 0 | C14: =Октябрь!D14 -> 0 | E14: =D14-C14 -> 0
A15: 19 | B15: =Сентябрь!D15 -> 629 | C15: =Октябрь!D15 -> 629 | D15: 629 | E15: =D15-C15 -> 0
A16: 20 | B16: =Сентябрь!D16 -> 7460 | C16: =Октябрь!D16 -> 7460 | D16: 7536 | E16: =D16-C16 -> 76
A17: 21.22 | B17: =Сентябрь!D17 -> 7802 | C17: =Октябрь!D17 -> 8344 | D17: 9034 | E17: =D17-C17 -> 690
A18: 23 | B18: =Сентябрь!D18 -> 2895 | C18: =Октябрь!D18 -> 3026 | D18: 3306 | E18: =D18-C18 -> 280
A19: 24 | B19: =Сентябрь!D19 -> 42903 | C19: =Октябрь!D19 -> 43597 | D19: 44888 | E19: =D19-C19 -> 1291
A20: 25 | B20: =Сентябрь!D20 -> 0 | C20: =Октябрь!D20 -> 0 | E20: =D20-C20 -> 0
A21: 26 | B21: =Сентябрь!D21 -> 1763 | C21: =Октябрь!D21 -> 1763 | D21: 1763 | E21: =D21-C21 -> 0
A22: 27 | B22: =Сентябрь!D22 -> 0 | C22: =Октябрь!D22 -> 0 | E22: =D22-C22 -> 0
A23: 28.29 | B23: =Сентябрь!D23 -> 35085 | C23: =Октябрь!D23 -> 35787 | D23: 36250 | E23: =D23-C23 -> 463
A24: 30 | B24: =Сентябрь!D24 -> 2345 | C24: =Октябрь!D24 -> 2466 | D24: 2469 | E24: =D24-C24 -> 3
A25: 31 | B25: =Сентябрь!D25 -> 77 | C25: =Октябрь!D25 -> 78 | D25: 78 | E25: =D25-C25 -> 0
A26: 32 | B26: =Сентябрь!D26 -> 4937 | C26: =Октябрь!D26 -> 4938 | D26: 4938 | E26: =D26-C26 -> 0
A27: 33 | B27: =Сентябрь!D27 -> 0 | C27: =Октябрь!D27 -> 0 | E27: =D27-C27 -> 0
A28: 34 | B28: =Сентябрь!D28 -> 2005 | C28: =Октябрь!D28 -> 2077 | D28: 2156 | E28: =D28-C28 -> 79
A29: 35 | B29: =Сентябрь!D29 -> 0 | C29: =Октябрь!D29 -> 0 | E29: =D29-C29 -> 0
A30: 36 | B30: =Сентябрь!D30 -> 3449 | C30: =Октябрь!D30 -> 3570 | D30: 3628 | E30: =D30-C30 -> 58
A31: 37 | B31: =Сентябрь!D31 -> 12804 | C31: =Октябрь!D31 -> 12850 | D31: 13061 | E31: =D31-C31 -> 211
A32: 38 | B32: =Сентябрь!D32 -> 549 | C32: =Октябрь!D32 -> 578 | D32: 612 | E32: =D32-C32 -> 34
A33: 39.4 | B33: =Сентябрь!D33 -> 54613 | C33: =Октябрь!D33 -> 54841 | D33: 55465 | E33: =D33-C33 -> 624
A34: 41-43 | B34: =Сентябрь!D34 -> 20073 | C34: =Октябрь!D34 -> 20159 | D34: 20289 | E34: =D34-C34 -> 130
A35: 44 | B35: =Сентябрь!D35 -> 962 | C35: =Октябрь!D35 -> 993 | D35: 993 | E35: =D35-C35 -> 0
A36: 45 | B36: =Сентябрь!D36 -> 1344 | C36: =Октябрь!D36 -> 1355 | D36: 1355 | E36: =D36-C36 -> 0
A37: 46 | B37: =Сентябрь!D37 -> 5584 | C37: =Октябрь!D37 -> 5710 | D37: 5766 | E37: =D37-C37 -> 56
A38: 47-49 | B38: =Сентябрь!D38 -> 29857 | C38: =Октябрь!D38 -> 29951 | D38: 30116 | E38: =D38-C38 -> 165
A39: 50.51 | B39: =Сентябрь!D39 -> 5337 | C39: =Октябрь!D39 -> 5529 | D39: 5619 | E39: =D39-C39 -> 90
A40: 52 | B40: =Сентябрь!D40 -> 7121 | C40: =Октябрь!D40 -> 7388 | D40: 7766 | E40: =D40-C40 -> 378
A41: 53-56 | B41: =Сентябрь!D41 -> 831 | C41: =Октябрь!D41 -> 833 | D41: 833 | E41: =D41-C41 -> 0
A42: 57 | B42: =Сентябрь!D42 -> 2 | C42: =Октябрь!D42 -> 2 | D42: 2 | E42: =D42-C42 -> 0
A43: 58 | B43: =Сентябрь!D43 -> 6 | C43: =Октябрь!D43 -> 6 | D43: 6 | E43: =D43-C43 -> 0
A44: 59 | B44: =Сентябрь!D44 -> 0 | C44: =Октябрь!D44 -> 0 | E44: =D44-C44 -> 0
A45: 60.61 | B45: =Сентябрь!D45 -> 5652 | C45: =Октябрь!D45 -> 5720 | D45: 5770 | E45: =D45-C45 -> 50
A46: 62 | B46: =Сентябрь!D46 -> 6175 | C46: =Октябрь!D46 -> 6346 | D46: 6406 | E46: =D46-C46 -> 60
A47: 63 | B47: =Сентябрь!D47 -> 0 | C47: =Октябрь!D47 -> 0 | E47: =D47-C47 -> 0
A48: 64 | B48: =Сентябрь!D48 -> 0 | C48: =Октябрь!D48 -> 0 | E48: =D48-C48 -> 0
A49: 65 | B49: =Сентябрь!D49 -> 0 | C49: =Октябрь!D49 -> 0 | E49: =D49-C49 -> 0
A50: 66 | B50: =Сентябрь!D50 -> 5231 | C50: =Октябрь!D50 -> 5473 | D50: 5558 | E50: =D50-C50 -> 85
A51: 67 | B51: =Сентябрь!D51 -> 1396 | C51: =Октябрь!D51 -> 1400 | D51: 1400 | E51: =D51-C51 -> 0
A52: 68 | B52: =Сентябрь!D52 -> 8042 | C52: =Октябрь!D52 -> 8051 | D52: 8064 | E52: =D52-C52 -> 13
A53: 69 | B53: =Сентябрь!D53 -> 3222 | C53: =Октябрь!D53 -> 3275 | D53: 3287 | E53: =D53-C53 -> 12
A54: Сторож | B54: =Сентябрь!D54 -> 63800 | C54: =Октябрь!D54 -> 63850 | D54: 63900 | E54: =D54-C54 -> 50
A55: Скваж | B55: =Сентябрь!D55 -> 79 | C55: =Октябрь!D55 -> 79 | D55: 79 | E55: =D55-C55 -> 0
A56: 70 | B56: =Сентябрь!D56 -> 12660 | C56: =Октябрь!D56 -> 12775 | D56: 12868 | E56: =D56-C56 -> 93
A57: 71 | B57: =Сентябрь!D57 -> 459 | C57: =Октябрь!D57 -> 460 | D57: 460 | E57: =D57-C57 -> 0
A58: 72 | B58: =Сентябрь!D58 -> 237 | C58: =Октябрь!D58 -> 248 | D58: 249 | E58: =D58-C58 -> 1
A59: 73 | B59: =Сентябрь!D59 -> 4548 | C59: =Октябрь!D59 -> 4551 | D59: 4551 | E59: =D59-C59 -> 0
A60: 74 | B60: =Сентябрь!D60 -> 0 | C60: =Октябрь!D60 -> 0 | E60: =D60-C60 -> 0
A61: 75 | B61: =Сентябрь!D61 -> 0 | C61: =Октябрь!D61 -> 0 | E61: =D61-C61 -> 0
A62: 76 | B62: =Сентябрь!D62 -> 1265 | C62: =Октябрь!D62 -> 1401 | D62: 1414 | E62: =D62-C62 -> 13
A63: 77 | B63: =Сентябрь!D63 -> 36222 | C63: =Октябрь!D63 -> 36403 | D63: 36812 | E63: =D63-C63 -> 409
A64: 78 | B64: =Сентябрь!D64 -> 33598 | C64: =Октябрь!D64 -> 33755 | D64: 33755 | E64: =D64-C64 -> 0
A65: 79 | B65: =Сентябрь!D65 -> 23278 | C65: =Октябрь!D65 -> 23982 | D65: 24739 | E65: =D65-C65 -> 757
A66: 80 | B66: =Сентябрь!D66 -> 0 | C66: =Октябрь!D66 -> 0 | E66: =D66-C66 -> 0
A67: 81 | B67: =Сентябрь!D67 -> 23400 | C67: =Октябрь!D67 -> 23620 | D67: 24150 | E67: =D67-C67 -> 530
A68: 82 | B68: =Сентябрь!D68 -> 2870 | C68: =Октябрь!D68 -> 3096 | D68: 3264 | E68: =D68-C68 -> 168
A69: 83 | B69: =Сентябрь!D69 -> 0 | C69: =Октябрь!D69 -> 0 | E69: =D69-C69 -> 0
A70: 84 | B70: =Сентябрь!D70 -> 0 | C70: =Октябрь!D70 -> 0 | E70: =D70-C70 -> 0
A71: 85 | B71: =Сентябрь!D71 -> 0 | C71: =Октябрь!D71 -> 0 | E71: =D71-C71 -> 0
A72: 86 | B72: =Сентябрь!D72 -> 3271 | C72: =Октябрь!D72 -> 3353 | D72: 3543 | E72: =D72-C72 -> 190
A73: 87 | B73: =Сентябрь!D73 -> 9720 | C73: =Октябрь!D73 -> 9739 | D73: 9739 | E73: =D73-C73 -> 0
A74: 88.89 | B74: =Сентябрь!D74 -> 6105 | C74: =Октябрь!D74 -> 6248 | D74: 6248 | E74: =D74-C74 -> 0
A75: 90 | B75: =Сентябрь!D75 -> 9783 | C75: =Октябрь!D75 -> 9938 | D75: 9938 | E75: =D75-C75 -> 0
A76: 91 | B76: =Сентябрь!D76 -> 5919 | C76: =Октябрь!D76 -> 6272 | D76: 6397 | E76: =D76-C76 -> 125
A77: 92 | B77: =Сентябрь!D77 -> 0 | C77: =Октябрь!D77 -> 0 | E77: =D77-C77 -> 0
A78: 93 | B78: =Сентябрь!D78 -> 0 | C78: =Октябрь!D78 -> 0 | E78: =D78-C78 -> 0
A79: 94 | B79: =Сентябрь!D79 -> 0 | C79: =Октябрь!D79 -> 0 | E79: =D79-C79 -> 0
A80: 95 | B80: =Сентябрь!D80 -> 0 | C80: =Октябрь!D80 -> 0 | E80: =D80-C80 -> 0
A81: 96 | B81: =Сентябрь!D81 -> 0 | C81: =Октябрь!D81 -> 0 | E81: =D81-C81 -> 0
A82: 97 | B82: =Сентябрь!D82 -> 2.5 | C82: =Октябрь!D82 -> 2.5 | D82: 2.5 | E82: =D82-C82 -> 0
A83: 98 | B83: =Сентябрь!D83 -> 0 | C83: =Октябрь!D83 -> 0 | E83: =D83-C83 -> 0
A84: 99 | B84: =Сентябрь!D84 -> 8042 | C84: =Октябрь!D84 -> 8256 | D84: 8257 | E84: =D84-C84 -> 1
A85: 100 | B85: =Сентябрь!D85 -> 0 | C85: =Октябрь!D85 -> 0 | E85: =D85-C85 -> 0
A86: 101.102 | B86: =Сентябрь!D86 -> 13214 | C86: =Октябрь!D86 -> 14002 | D86: 15870 | E86: =D86-C86 -> 1868
A87: 103 | B87: =Сентябрь!D87 -> 1264 | C87: =Октябрь!D87 -> 1264 | D87: 1264 | E87: =D87-C87 -> 0
A88: 104 | B88: =Сентябрь!D88 -> 108 | C88: =Октябрь!D88 -> 109 | D88: 110 | E88: =D88-C88 -> 1
A89: 105 | B89: =Сентябрь!D89 -> 0 | C89: =Октябрь!D89 -> 0 | E89: =D89-C89 -> 0
A90: 106 | B90: =Сентябрь!D90 -> 0 | C90: =Октябрь!D90 -> 0 | E90: =D90-C90 -> 0
A91: 107.108 | B91: =Сентябрь!D91 -> 67 | C91: =Октябрь!D91 -> 67 | D91: 67 | E91: =D91-C91 -> 0
A92: 109 | B92: =Сентябрь!D92 -> 6152 | C92: =Октябрь!D92 -> 6286 | D92: 6328 | E92: =D92-C92 -> 42
A93: 110 | B93: =Сентябрь!D93 -> 787 | C93: =Октябрь!D93 -> 788 | D93: 789 | E93: =D93-C93 -> 1
A94: 111 | B94: =Сентябрь!D94 -> 4583 | C94: =Октябрь!D94 -> 4599 | D94: 4612 | E94: =D94-C94 -> 13
A95: 112 | B95: =Сентябрь!D95 -> 6279 | C95: =Октябрь!D95 -> 6520 | D95: 6587 | E95: =D95-C95 -> 67
A96: 113 | B96: =Сентябрь!D96 -> 11925 | C96: =Октябрь!D96 -> 11987 | D96: 12034 | E96: =D96-C96 -> 47
A97: 114 | B97: =Сентябрь!D97 -> 0 | C97: =Октябрь!D97 -> 0 | E97: =D97-C97 -> 0
A98: 115 | B98: =Сентябрь!D98 -> 1147 | C98: =Октябрь!D98 -> 1243 | D98: 1243 | E98: =D98-C98 -> 0
A99: 116 | B99: =Сентябрь!D99 -> 0 | C99: =Октябрь!D99 -> 0 | E99: =D99-C99 -> 0
A100: 117 | B100: =Сентябрь!D100 -> 95677 | C100: =Октябрь!D100 -> 96633 | D100: 97592 | E100: =D100-C100 -> 959
...

Sheet Декабрь
A1: № | B1: Октябрь | C1: Ноябрь | D1: Декабрь | E1: потребл. за мес.
A2: 1 | B2: =Октябрь!D2 -> 0 | C2: =Ноябрь!D2 -> 0 | E2: =D2-C2 -> 0
A3: 2 | B3: =Октябрь!D3 -> 245 | C3: =Ноябрь!D3 -> 245 | D3: 245 | E3: =D3-C3 -> 0
A4: 3 | B4: =Октябрь!D4 -> 0 | C4: =Ноябрь!D4 -> 0 | E4: =D4-C4 -> 0
A5: 4.5 | B5: =Октябрь!D5 -> 42181 | C5: =Ноябрь!D5 -> 42181 | D5: 42181 | E5: =D5-C5 -> 0
A6: 6 | B6: =Октябрь!D6 -> 27597 | C6: =Ноябрь!D6 -> 28247 | D6: 28884 | E6: =D6-C6 -> 637
A7: 7.8 | B7: =Октябрь!D7 -> 72827 | C7: =Ноябрь!D7 -> 74521 | D7: 76883 | E7: =D7-C7 -> 2362
A8: 9.1 | B8: =Октябрь!D8 -> 15656 | C8: =Ноябрь!D8 -> 16575 | D8: 17066 | E8: =D8-C8 -> 491 | H8: 3357
A9: 11 | B9: =Октябрь!D9 -> 1123 | C9: =Ноябрь!D9 -> 1135 | D9: 1135 | E9: =D9-C9 -> 0
A10: 12.13 | B10: =Октябрь!D10 -> 37362 | C10: =Ноябрь!D10 -> 38457 | D10: 39665 | E10: =D10-C10 -> 1208
A11: 14.15 | B11: =Октябрь!D11 -> 1231 | C11: =Ноябрь!D11 -> 2124 | D11: 3139 | E11: =D11-C11 -> 1015
A12: 16 | B12: =Октябрь!D12 -> 3310 | C12: =Ноябрь!D12 -> 3311 | D12: 3311 | E12: =D12-C12 -> 0
A13: 17 | B13: =Октябрь!D13 -> 0 | C13: =Ноябрь!D13 -> 0 | E13: =D13-C13 -> 0
A14: 18 | B14: =Октябрь!D14 -> 0 | C14: =Ноябрь!D14 -> 0 | E14: =D14-C14 -> 0
A15: 19 | B15: =Октябрь!D15 -> 629 | C15: =Ноябрь!D15 -> 629 | D15: 629 | E15: =D15-C15 -> 0
A16: 20 | B16: =Октябрь!D16 -> 7460 | C16: =Ноябрь!D16 -> 7536 | D16: 7656 | E16: =D16-C16 -> 120
A17: 21.22 | B17: =Октябрь!D17 -> 8344 | C17: =Ноябрь!D17 -> 9034 | D17: 9393 | E17: =D17-C17 -> 359
A18: 23 | B18: =Октябрь!D18 -> 3026 | C18: =Ноябрь!D18 -> 3306 | D18: 3315 | E18: =D18-C18 -> 9
A19: 24 | B19: =Октябрь!D19 -> 43597 | C19: =Ноябрь!D19 -> 44888 | D19: 46247 | E19: =D19-C19 -> 1359
A20: 25 | B20: =Октябрь!D20 -> 0 | C20: =Ноябрь!D20 -> 0 | E20: =D20-C20 -> 0
A21: 26 | B21: =Октябрь!D21 -> 1763 | C21: =Ноябрь!D21 -> 1763 | D21: 1763 | E21: =D21-C21 -> 0
A22: 27 | B22: =Октябрь!D22 -> 0 | C22: =Ноябрь!D22 -> 0 | E22: =D22-C22 -> 0
A23: 28.29 | B23: =Октябрь!D23 -> 35787 | C23: =Ноябрь!D23 -> 36250 | D23: 36250 | E23: =D23-C23 -> 0
A24: 30 | B24: =Октябрь!D24 -> 2466 | C24: =Ноябрь!D24 -> 2469 | D24: 2469 | E24: =D24-C24 -> 0
A25: 31 | B25: =Октябрь!D25 -> 78 | C25: =Ноябрь!D25 -> 78 | D25: 78 | E25: =D25-C25 -> 0
A26: 32 | B26: =Октябрь!D26 -> 4938 | C26: =Ноябрь!D26 -> 4938 | D26: 4938 | E26: =D26-C26 -> 0
A27: 33 | B27: =Октябрь!D27 -> 0 | C27: =Ноябрь!D27 -> 0 | E27: =D27-C27 -> 0
A28: 34 | B28: =Октябрь!D28 -> 2077 | C28: =Ноябрь!D28 -> 2156 | D28: 2156 | E28: =D28-C28 -> 0
A29: 35 | B29: =Октябрь!D29 -> 0 | C29: =Ноябрь!D29 -> 0 | E29: =D29-C29 -> 0
A30: 36 | B30: =Октябрь!D30 -> 3570 | C30: =Ноябрь!D30 -> 3628 | D30: 3635 | E30: =D30-C30 -> 7
A31: 37 | B31: =Октябрь!D31 -> 12850 | C31: =Ноябрь!D31 -> 13061 | D31: 13398 | E31: =D31-C31 -> 337
A32: 38 | B32: =Октябрь!D32 -> 578 | C32: =Ноябрь!D32 -> 612 | D32: 622 | E32: =D32-C32 -> 10
A33: 39.4 | B33: =Октябрь!D33 -> 54841 | C33: =Ноябрь!D33 -> 55465 | D33: 56089 | E33: =D33-C33 -> 624
A34: 41-43 | B34: =Октябрь!D34 -> 20159 | C34: =Ноябрь!D34 -> 20289 | D34: 20297 | E34: =D34-C34 -> 8
A35: 44 | B35: =Октябрь!D35 -> 993 | C35: =Ноябрь!D35 -> 993 | D35: 993 | E35: =D35-C35 -> 0
A36: 45 | B36: =Октябрь!D36 -> 1355 | C36: =Ноябрь!D36 -> 1355 | D36: 1355 | E36: =D36-C36 -> 0
A37: 46 | B37: =Октябрь!D37 -> 5710 | C37: =Ноябрь!D37 -> 5766 | D37: 5766 | E37: =D37-C37 -> 0
A38: 47-49 | B38: =Октябрь!D38 -> 29951 | C38: =Ноябрь!D38 -> 30116 | D38: 30125 | E38: =D38-C38 -> 9
A39: 50.51 | B39: =Октябрь!D39 -> 5529 | C39: =Ноябрь!D39 -> 5619 | D39: 5619 | E39: =D39-C39 -> 0
A40: 52 | B40: =Октябрь!D40 -> 7388 | C40: =Ноябрь!D40 -> 7766 | D40: 8059 | E40: =D40-C40 -> 293
A41: 53-56 | B41: =Октябрь!D41 -> 833 | C41: =Ноябрь!D41 -> 833 | D41: 833 | E41: =D41-C41 -> 0
A42: 57 | B42: =Октябрь!D42 -> 2 | C42: =Ноябрь!D42 -> 2 | D42: 2 | E42: =D42-C42 -> 0
A43: 58 | B43: =Октябрь!D43 -> 6 | C43: =Ноябрь!D43 -> 6 | D43: 6 | E43: =D43-C43 -> 0
A44: 59 | B44: =Октябрь!D44 -> 0 | C44: =Ноябрь!D44 -> 0 | E44: =D44-C44 -> 0
A45: 60.61 | B45: =Октябрь!D45 -> 5720 | C45: =Ноябрь!D45 -> 5770 | D45: 5790 | E45: =D45-C45 -> 20
A46: 62 | B46: =Октябрь!D46 -> 6346 | C46: =Ноябрь!D46 -> 6406 | D46: 6406 | E46: =D46-C46 -> 0
A47: 63 | B47: =Октябрь!D47 -> 0 | C47: =Ноябрь!D47 -> 0 | E47: =D47-C47 -> 0
A48: 64 | B48: =Октябрь!D48 -> 0 | C48: =Ноябрь!D48 -> 0 | E48: =D48-C48 -> 0
A49: 65 | B49: =Октябрь!D49 -> 0 | C49: =Ноябрь!D49 -> 0 | E49: =D49-C49 -> 0
A50: 66 | B50: =Октябрь!D50 -> 5473 | C50: =Ноябрь!D50 -> 5558 | D50: 5563 | E50: =D50-C50 -> 5
A51: 67 | B51: =Октябрь!D51 -> 1400 | C51: =Ноябрь!D51 -> 1400 | D51: 1400 | E51: =D51-C51 -> 0
A52: 68 | B52: =Октябрь!D52 -> 8051 | C52: =Ноябрь!D52 -> 8064 | D52: 8064 | E52: =D52-C52 -> 0
A53: 69 | B53: =Октябрь!D53 -> 3275 | C53: =Ноябрь!D53 -> 3287 | D53: 3287 | E53: =D53-C53 -> 0
A54: Сторож | B54: =Октябрь!D54 -> 63850 | C54: =Ноябрь!D54 -> 63900 | D54: 63950 | E54: =D54-C54 -> 50
A55: Скваж | B55: =Октябрь!D55 -> 79 | C55: =Ноябрь!D55 -> 79 | D55: 79 | E55: =D55-C55 -> 0
A56: 70 | B56: =Октябрь!D56 -> 12775 | C56: =Ноябрь!D56 -> 12868 | D56: 12868 | E56: =D56-C56 -> 0
A57: 71 | B57: =Октябрь!D57 -> 460 | C57: =Ноябрь!D57 -> 460 | D57: 460 | E57: =D57-C57 -> 0
A58: 72 | B58: =Октябрь!D58 -> 248 | C58: =Ноябрь!D58 -> 249 | D58: 249 | E58: =D58-C58 -> 0
A59: 73 | B59: =Октябрь!D59 -> 4551 | C59: =Ноябрь!D59 -> 4551 | D59: 4551 | E59: =D59-C59 -> 0
A60: 74 | B60: =Октябрь!D60 -> 0 | C60: =Ноябрь!D60 -> 0 | E60: =D60-C60 -> 0
A61: 75 | B61: =Октябрь!D61 -> 0 | C61: =Ноябрь!D61 -> 0 | E61: =D61-C61 -> 0
A62: 76 | B62: =Октябрь!D62 -> 1401 | C62: =Ноябрь!D62 -> 1414 | D62: 1414 | E62: =D62-C62 -> 0
A63: 77 | B63: =Октябрь!D63 -> 36403 | C63: =Ноябрь!D63 -> 36812 | D63: 37795 | E63: =D63-C63 -> 983
A64: 78 | B64: =Октябрь!D64 -> 33755 | C64: =Ноябрь!D64 -> 33755 | D64: 33755 | E64: =D64-C64 -> 0
A65: 79 | B65: =Октябрь!D65 -> 23982 | C65: =Ноябрь!D65 -> 24739 | D65: 25653 | E65: =D65-C65 -> 914
A66: 80 | B66: =Октябрь!D66 -> 0 | C66: =Ноябрь!D66 -> 0 | E66: =D66-C66 -> 0
A67: 81 | B67: =Октябрь!D67 -> 23620 | C67: =Ноябрь!D67 -> 24150 | D67: 24700 | E67: =D67-C67 -> 550
A68: 82 | B68: =Октябрь!D68 -> 3096 | C68: =Ноябрь!D68 -> 3264 | D68: 3343 | E68: =D68-C68 -> 79
A69: 83 | B69: =Октябрь!D69 -> 0 | C69: =Ноябрь!D69 -> 0 | E69: =D69-C69 -> 0
A70: 84 | B70: =Октябрь!D70 -> 0 | C70: =Ноябрь!D70 -> 0 | E70: =D70-C70 -> 0
A71: 85 | B71: =Октябрь!D71 -> 0 | C71: =Ноябрь!D71 -> 0 | E71: =D71-C71 -> 0
A72: 86 | B72: =Октябрь!D72 -> 3353 | C72: =Ноябрь!D72 -> 3543 | D72: 3954 | E72: =D72-C72 -> 411
A73: 87 | B73: =Октябрь!D73 -> 9739 | C73: =Ноябрь!D73 -> 9739 | D73: 9739 | E73: =D73-C73 -> 0
A74: 88.89 | B74: =Октябрь!D74 -> 6248 | C74: =Ноябрь!D74 -> 6248 | D74: 6248 | E74: =D74-C74 -> 0
A75: 90 | B75: =Октябрь!D75 -> 9938 | C75: =Ноябрь!D75 -> 9938 | D75: 9938 | E75: =D75-C75 -> 0
A76: 91 | B76: =Октябрь!D76 -> 6272 | C76: =Ноябрь!D76 -> 6397 | D76: 6397 | E76: =D76-C76 -> 0
A77: 92 | B77: =Октябрь!D77 -> 0 | C77: =Ноябрь!D77 -> 0 | E77: =D77-C77 -> 0
A78: 93 | B78: =Октябрь!D78 -> 0 | C78: =Ноябрь!D78 -> 0 | E78: =D78-C78 -> 0
A79: 94 | B79: =Октябрь!D79 -> 0 | C79: =Ноябрь!D79 -> 0 | E79: =D79-C79 -> 0
A80: 95 | B80: =Октябрь!D80 -> 0 | C80: =Ноябрь!D80 -> 0 | E80: =D80-C80 -> 0
A81: 96 | B81: =Октябрь!D81 -> 0 | C81: =Ноябрь!D81 -> 0 | E81: =D81-C81 -> 0
A82: 97 | B82: =Октябрь!D82 -> 2.5 | C82: =Ноябрь!D82 -> 2.5 | D82: 2.5 | E82: =D82-C82 -> 0
A83: 98 | B83: =Октябрь!D83 -> 0 | C83: =Ноябрь!D83 -> 0 | E83: =D83-C83 -> 0
A84: 99 | B84: =Октябрь!D84 -> 8256 | C84: =Ноябрь!D84 -> 8257 | D84: 8343 | E84: =D84-C84 -> 86
A85: 100 | B85: =Октябрь!D85 -> 0 | C85: =Ноябрь!D85 -> 0 | E85: =D85-C85 -> 0
A86: 101.102 | B86: =Октябрь!D86 -> 14002 | C86: =Ноябрь!D86 -> 15870 | D86: 17908 | E86: =D86-C86 -> 2038
A87: 103 | B87: =Октябрь!D87 -> 1264 | C87: =Ноябрь!D87 -> 1264 | D87: 1264 | E87: =D87-C87 -> 0
A88: 104 | B88: =Октябрь!D88 -> 109 | C88: =Ноябрь!D88 -> 110 | D88: 110 | E88: =D88-C88 -> 0
A89: 105 | B89: =Октябрь!D89 -> 0 | C89: =Ноябрь!D89 -> 0 | E89: =D89-C89 -> 0
A90: 106 | B90: =Октябрь!D90 -> 0 | C90: =Ноябрь!D90 -> 0 | E90: =D90-C90 -> 0
A91: 107.108 | B91: =Октябрь!D91 -> 67 | C91: =Ноябрь!D91 -> 67 | D91: 67 | E91: =D91-C91 -> 0
A92: 109 | B92: =Октябрь!D92 -> 6286 | C92: =Ноябрь!D92 -> 6328 | D92: 6331 | E92: =D92-C92 -> 3
A93: 110 | B93: =Октябрь!D93 -> 788 | C93: =Ноябрь!D93 -> 789 | D93: 789 | E93: =D93-C93 -> 0
A94: 111 | B94: =Октябрь!D94 -> 4599 | C94: =Ноябрь!D94 -> 4612 | D94: 4612 | E94: =D94-C94 -> 0
A95: 112 | B95: =Октябрь!D95 -> 6520 | C95: =Ноябрь!D95 -> 6587 | D95: 6587 | E95: =D95-C95 -> 0
A96: 113 | B96: =Октябрь!D96 -> 11987 | C96: =Ноябрь!D96 -> 12034 | D96: 12034 | E96: =D96-C96 -> 0
A97: 114 | B97: =Октябрь!D97 -> 0 | C97: =Ноябрь!D97 -> 0 | E97: =D97-C97 -> 0
A98: 115 | B98: =Октябрь!D98 -> 1243 | C98: =Ноябрь!D98 -> 1243 | D98: 1244 | E98: =D98-C98 -> 1
A99: 116 | B99: =Октябрь!D99 -> 0 | C99: =Ноябрь!D99 -> 0 | E99: =D99-C99 -> 0
A100: 117 | B100: =Октябрь!D100 -> 96633 | C100: =Ноябрь!D100 -> 97592 | D100: 99508 | E100: =D100-C100 -> 1916
...

Sheet Счетчики
A1: СНТ Винт
B4: Меркурий 230 АМ-03 № 25471825 | C4: 1-77,
B5: Меркурий 230 АМ-03 № 25471781 | C5: Новое поле
B6: Меркурий 230 АМ-03 № 19418887 | C6: Бочка
B7: Энергомера СЕ 101 № 124539496 | C7: Освещение
B8: СЭТ-4М.03М01. №0811120485 | C8: Общий Сатино
A11: Ответственный за снятие показаний | C11: _________________________ ( _____________________ ) | F11: Стафеева Е.В.

Sheet Без счетчиков
A1: 81 | B1: индивидуал, не вынес счетчик
A2: 106
A3: 114
A4: 143
A5: 148
A6: 165
A7: 169 | B7: не продан
A8: 170 | B8: не продан
A9: 175 | B9: не продан
A10: 176 | B10: не продан
A11: 192
